BEGIN:VCALENDAR
VERSION:2.0
PRODID:-//Taiwanese American Professionals - Orange County Chapter - ECPv6.15.18//NONSGML v1.0//EN
CALSCALE:GREGORIAN
METHOD:PUBLISH
X-ORIGINAL-URL:https://www.tap-oc.org
X-WR-CALDESC:Events for Taiwanese American Professionals - Orange County Chapter
REFRESH-INTERVAL;VALUE=DURATION:PT1H
X-Robots-Tag:noindex
X-PUBLISHED-TTL:PT1H
BEGIN:VTIMEZONE
TZID:America/Los_Angeles
BEGIN:DAYLIGHT
TZOFFSETFROM:-0800
TZOFFSETTO:-0700
TZNAME:PDT
DTSTART:20250309T100000
END:DAYLIGHT
BEGIN:STANDARD
TZOFFSETFROM:-0700
TZOFFSETTO:-0800
TZNAME:PST
DTSTART:20251102T090000
END:STANDARD
BEGIN:DAYLIGHT
TZOFFSETFROM:-0800
TZOFFSETTO:-0700
TZNAME:PDT
DTSTART:20260308T100000
END:DAYLIGHT
BEGIN:STANDARD
TZOFFSETFROM:-0700
TZOFFSETTO:-0800
TZNAME:PST
DTSTART:20261101T090000
END:STANDARD
BEGIN:DAYLIGHT
TZOFFSETFROM:-0800
TZOFFSETTO:-0700
TZNAME:PDT
DTSTART:20270314T100000
END:DAYLIGHT
BEGIN:STANDARD
TZOFFSETFROM:-0700
TZOFFSETTO:-0800
TZNAME:PST
DTSTART:20271107T090000
END:STANDARD
END:VTIMEZONE
BEGIN:VEVENT
DTSTART;TZID=America/Los_Angeles:20260111T100000
DTEND;TZID=America/Los_Angeles:20260125T120000
DTSTAMP:20260423T114150
CREATED:20260125T212010Z
LAST-MODIFIED:20260125T212010Z
UID:7021-1768125600-1769342400@www.tap-oc.org
SUMMARY:01/11 NY Resolution Hike at Carlson Trail
DESCRIPTION:🌞 Start 2026 with a healthy hike on the Carlson Trail at the San Joaquin Marsh Loop. Let’s take a break from our daily routine and remember what it means to be in the moment with nature or just keep company and chat! 🧘🌿\n🍽 From noon to 2pm\, we will meet at UTC (University Town Center) to grab ourselves brunch afterwards.\nWhether it’s your first time with us or if you’re returning\, we look forward to seeing you! 😀\nLet us know you’re coming by completing this Google Form: https://forms.gle/zT7snxtV9qjyP51d7\n===================================\nEvent Details:\n📅 Date: Sunday\, January 11\, 2026\n🕙 Hiking Time: 10:00 AM – 12:00 PM\n🕛 Optional Brunch: 12:00PM – 2:00PM\n🗺 Location: San Joaquin Marsh & Wildlife Sanctuary\n🅿️ Parking is free 🅿️\n📍Meeting Spot: The Duck Club (IRWD) as indicated on map🦆\n💧Things To Bring: Water\, sunscreen\, light energy snacks\, hat\, sunglasses\, hiking clothes\, etc. 🥾
URL:https://www.tap-oc.org/event/01-11-ny-resolution-hike-at-carlson-trail/
ORGANIZER;CN="Taiwanese American Professionals - Orange County (TAP-OC)":MAILTO:info@tap-oc.org
END:VEVENT
BEGIN:VEVENT
DTSTART;TZID=America/Los_Angeles:20260123T190000
DTEND;TZID=America/Los_Angeles:20260123T220000
DTSTAMP:20260423T114150
CREATED:20260125T212158Z
LAST-MODIFIED:20260125T212158Z
UID:7023-1769194800-1769205600@www.tap-oc.org
SUMMARY:01/23 Dave & Buster's TAPpy Hour
DESCRIPTION:🎉 Kick off the New Year with TAP-OC! 🎉\nStart 2026 the right way with TAP-OC Tappy Hour at Dave & Buster’s Irvine 🕹️🍻\nJoin fellow Taiwanese American Professionals for a happy hour filled with drinks\, games\, and great conversations.\n📍 Dave & Buster’s Irvine\n🗓 January 23\, 2026\n⏰ 7–10 PM\nWhether you’re looking to reconnect\, expand your network\, or just unwind after a long week\, this is the perfect way to ring in the new year with the TAP-OC community.\n🎮 Drinks | Games | Networking | Good vibes\n👉 Sign up now at: https://forms.gle/CRhEJvLiSTdA8LM36
URL:https://www.tap-oc.org/event/01-23-dave-busters-tappy-hour/
CATEGORIES:indoor,social,tappy hour
ORGANIZER;CN="Taiwanese American Professionals - Orange County (TAP-OC)":MAILTO:info@tap-oc.org
END:VEVENT
END:VCALENDAR