BEGIN:VCALENDAR
VERSION:2.0
PRODID:-//Taiwanese American Professionals - Orange County Chapter - ECPv6.15.18//NONSGML v1.0//EN
CALSCALE:GREGORIAN
METHOD:PUBLISH
X-WR-CALNAME:Taiwanese American Professionals - Orange County Chapter
X-ORIGINAL-URL:https://www.tap-oc.org
X-WR-CALDESC:Events for Taiwanese American Professionals - Orange County Chapter
REFRESH-INTERVAL;VALUE=DURATION:PT1H
X-Robots-Tag:noindex
X-PUBLISHED-TTL:PT1H
BEGIN:VTIMEZONE
TZID:America/Los_Angeles
BEGIN:DAYLIGHT
TZOFFSETFROM:-0800
TZOFFSETTO:-0700
TZNAME:PDT
DTSTART:20240310T100000
END:DAYLIGHT
BEGIN:STANDARD
TZOFFSETFROM:-0700
TZOFFSETTO:-0800
TZNAME:PST
DTSTART:20241103T090000
END:STANDARD
BEGIN:DAYLIGHT
TZOFFSETFROM:-0800
TZOFFSETTO:-0700
TZNAME:PDT
DTSTART:20250309T100000
END:DAYLIGHT
BEGIN:STANDARD
TZOFFSETFROM:-0700
TZOFFSETTO:-0800
TZNAME:PST
DTSTART:20251102T090000
END:STANDARD
BEGIN:DAYLIGHT
TZOFFSETFROM:-0800
TZOFFSETTO:-0700
TZNAME:PDT
DTSTART:20260308T100000
END:DAYLIGHT
BEGIN:STANDARD
TZOFFSETFROM:-0700
TZOFFSETTO:-0800
TZNAME:PST
DTSTART:20261101T090000
END:STANDARD
END:VTIMEZONE
BEGIN:VEVENT
DTSTART;TZID=America/Los_Angeles:20250308T090000
DTEND;TZID=America/Los_Angeles:20250308T110000
DTSTAMP:20260424T152536
CREATED:20250221T210939Z
LAST-MODIFIED:20250313T211327Z
UID:6806-1741424400-1741431600@www.tap-oc.org
SUMMARY:3/8/2025 TAP-OC Buck Gully Trail Hike
DESCRIPTION:Join us for a refreshing morning hike through the beautiful Buck Gully Trail in Corona del Mar! Escape the city buzz and immerse yourself in nature with this scenic 2-hour hike. We’ll be exploring the picturesque trails\, enjoying the peaceful ambiance of the canyon\, and taking in the fresh coastal air. This hike is a great way to start your day with some light exercise and beautiful scenery. \nImportant Notes:\nDogs are not allowed on this trail. We’ll have a dog friendly hike next time!\nPlease be aware that parking is street parking in a residential area\, so arrive a little early to find a spot. \nWe look forward to seeing you there! Meeting location is :\n872 Poppy Ave\, Corona Del Mar\nhttps://maps.app.goo.gl/mg3hbXhij1GprAkR9 \nRSVP via the Google Form.
URL:https://www.tap-oc.org/event/3-8-2024-tap-oc-buck-gully-trail-hike/
LOCATION:Buck Gully Trailhead\, 872 Poppy Ave\, Corona Del Mar\, CA\, 92625
CATEGORIES:family friendly,fitness,hike,nature,networking,outdoor,social
ATTACH;FMTTYPE=image/jpeg:https://www.tap-oc.org/wp-content/uploads/buck_gully.jpg
ORGANIZER;CN="Taiwanese American Professionals - Orange County (TAP-OC)":MAILTO:info@tap-oc.org
END:VEVENT
BEGIN:VEVENT
DTSTART;TZID=America/Los_Angeles:20250322T083000
DTEND;TZID=America/Los_Angeles:20250322T113000
DTSTAMP:20260424T152536
CREATED:20250313T222739Z
LAST-MODIFIED:20250313T222739Z
UID:6813-1742632200-1742643000@www.tap-oc.org
SUMMARY:3/22/2025 TAP-OC Second Harvest Food Bank Volunteering
DESCRIPTION:Spots are limited! Please RSVP with the Google Forms link below and plan to arrive early to fill out any necessary waivers. The venue is rather strict on tardiness.\n\n  \nWhat to Expect:Repeated bending\, walking\, and moving.Tables and chairs are available to take breaks as needed.Please arrive 10-15 minutes prior to the start of the shift to allow time for check-in.Leave valuable items at home\, as Second Harvest Food Bank is not responsible for lost or stolen items.Unfortunately\, due to the nature of the projects\, we are unable to accommodate late arrivals.\n\n  \nWhat to Wear:Closed-toed shoes are required for all participants.We suggest wearing easily removable layers\, as the temperature in the distribution center varies.\n\n  \nMinor Volunteers:\nThis opportunity is available to volunteers 13 years old and above\, with an adult chaperone 21+. Volunteers aged 16 to 17 do not need a chaperone. Volunteers aged 13-17 years old\, please have your parent or legal guardian register online and email us at Volunteer@feedoc.org. Please print and bring your signed waiver the day of your shift. This is a requirement for all minor volunteers.\n\n  \nThe following volunteer ratio is required:Ages 13-15: 1 chaperone per 10 children.Ages 16-17: No chaperone required.\n\n  \nDirections & Parking:Our Distribution Center is located at 8014 Marine Way. Please park in the area signed for visitor parking. From the parking lot\, head toward the building with the mural. Enter through the door marked Volunteer Entrance\, located near the flagpole. As you drive along Marine Way\, please be cautious and patient of construction going on throughout the area. It is important to observe all safety signs.\n\n  \nCommunity Service Hours Verification:We are only able to verify volunteer hours on the day of service. If you require hour verification for school or community service\, please bring your form with you so our volunteer team can sign off on your hours the day of your shift. We are unable to make exceptions.\n———————————————If you have any questions or comments about our event or about TAP-OC\, please message us directly on FB or IG. You can also e-mail us at hello@tap-oc.org.———————————————Safer Space Policy:TAP-OC aims to create events with a respectful\, understanding\, and kind space\, where members feel welcomed and are able to express themselves freely. Therefore\, TAP-OC holds a zero tolerance policy for all forms of physical and verbal harassment and discrimination. Please immediately report any inappropriate and unwanted behavior to a TAP-OC Board Member should this occur\, and appropriate actions will be taken. TAP-OC upholds high standards and expectations to host events with a safe and welcoming community.———————————————About TAP-OC:Taiwanese American Professionals – Orange County (TAP-OC) is an inclusive community that not only connects like-minded individuals of all cultures and backgrounds who are looking to contribute to something bigger than ourselves by giving back to society\, but also build lifelong friendships that will grow beyond the organization while pursuing professional and personal growth!———————————————SUBSCRIBE to our Newsletter!https://www.tap-oc.org/newsletter-archive/
URL:https://www.tap-oc.org/event/3-22-2025-tap-oc-second-harvest-food-bank-volunteering/
LOCATION:Second Harvest Food Bank\, 8014 Marine Way\, Irvine\, CA\, 92618\, United States
CATEGORIES:causes,family friendly,service
ATTACH;FMTTYPE=image/jpeg:https://www.tap-oc.org/wp-content/uploads/volunteer.jpg
ORGANIZER;CN="Taiwanese American Professionals - Orange County (TAP-OC)":MAILTO:info@tap-oc.org
END:VEVENT
END:VCALENDAR