BEGIN:VCALENDAR
VERSION:2.0
PRODID:-//Taiwanese American Professionals - Orange County Chapter - ECPv6.15.18//NONSGML v1.0//EN
CALSCALE:GREGORIAN
METHOD:PUBLISH
X-WR-CALNAME:Taiwanese American Professionals - Orange County Chapter
X-ORIGINAL-URL:https://www.tap-oc.org
X-WR-CALDESC:Events for Taiwanese American Professionals - Orange County Chapter
REFRESH-INTERVAL;VALUE=DURATION:PT1H
X-Robots-Tag:noindex
X-PUBLISHED-TTL:PT1H
BEGIN:VTIMEZONE
TZID:America/Los_Angeles
BEGIN:DAYLIGHT
TZOFFSETFROM:-0800
TZOFFSETTO:-0700
TZNAME:PDT
DTSTART:20230312T100000
END:DAYLIGHT
BEGIN:STANDARD
TZOFFSETFROM:-0700
TZOFFSETTO:-0800
TZNAME:PST
DTSTART:20231105T090000
END:STANDARD
BEGIN:DAYLIGHT
TZOFFSETFROM:-0800
TZOFFSETTO:-0700
TZNAME:PDT
DTSTART:20240310T100000
END:DAYLIGHT
BEGIN:STANDARD
TZOFFSETFROM:-0700
TZOFFSETTO:-0800
TZNAME:PST
DTSTART:20241103T090000
END:STANDARD
BEGIN:DAYLIGHT
TZOFFSETFROM:-0800
TZOFFSETTO:-0700
TZNAME:PDT
DTSTART:20250309T100000
END:DAYLIGHT
BEGIN:STANDARD
TZOFFSETFROM:-0700
TZOFFSETTO:-0800
TZNAME:PST
DTSTART:20251102T090000
END:STANDARD
END:VTIMEZONE
BEGIN:VEVENT
DTSTART;TZID=America/Los_Angeles:20241206T190000
DTEND;TZID=America/Los_Angeles:20241206T220000
DTSTAMP:20260424T195611
CREATED:20241126T011446Z
LAST-MODIFIED:20241126T011446Z
UID:6769-1733511600-1733522400@www.tap-oc.org
SUMMARY:12/6/2024 TAP Happy Hour
DESCRIPTION:Come join us for the final happy hour of the year! We look forward to seeing everyone at the event. If you have any questions feel free to message us.
URL:https://www.tap-oc.org/event/12-6-2024-tap-happy-hour/
LOCATION:Crowne Plaza\, 3131 Bristol Street\, Costa Mesa\, CA\, 92626\, United States
CATEGORIES:celebration,cultural,networking,professional,social,tappy hour
ATTACH;FMTTYPE=image/jpeg:https://www.tap-oc.org/wp-content/uploads/2024/11/happy12-6.jpg
ORGANIZER;CN="Taiwanese American Professionals - Orange County (TAP-OC)":MAILTO:info@tap-oc.org
END:VEVENT
BEGIN:VEVENT
DTSTART;TZID=America/Los_Angeles:20241214T100000
DTEND;TZID=America/Los_Angeles:20241214T120000
DTSTAMP:20260424T195611
CREATED:20241210T184616Z
LAST-MODIFIED:20241210T184616Z
UID:6774-1734170400-1734177600@www.tap-oc.org
SUMMARY:12/14/2024 TAP Beach Cleanup
DESCRIPTION:Join us for our last event of the year! We are hosting a beach cleanup at Huntington Beach and would love it if everyone could come out.
URL:https://www.tap-oc.org/event/12-14-2024-tap-beach-cleanup/
LOCATION:Duke’s Huntington Beach\, 317 Pacific Coast Hwy\, Huntington Beach\, CA\, 92648\, United States
CATEGORIES:causes,nature,outdoor,service
ATTACH;FMTTYPE=image/jpeg:https://www.tap-oc.org/wp-content/uploads/2024/12/hb_cleanup.jpg
ORGANIZER;CN="Taiwanese American Professionals - Orange County (TAP-OC)":MAILTO:info@tap-oc.org
END:VEVENT
END:VCALENDAR