BEGIN:VCALENDAR
VERSION:2.0
PRODID:-//Taiwanese American Professionals - Orange County Chapter - ECPv6.15.18//NONSGML v1.0//EN
CALSCALE:GREGORIAN
METHOD:PUBLISH
X-ORIGINAL-URL:https://www.tap-oc.org
X-WR-CALDESC:Events for Taiwanese American Professionals - Orange County Chapter
REFRESH-INTERVAL;VALUE=DURATION:PT1H
X-Robots-Tag:noindex
X-PUBLISHED-TTL:PT1H
BEGIN:VTIMEZONE
TZID:America/Los_Angeles
BEGIN:DAYLIGHT
TZOFFSETFROM:-0800
TZOFFSETTO:-0700
TZNAME:PDT
DTSTART:20230312T100000
END:DAYLIGHT
BEGIN:STANDARD
TZOFFSETFROM:-0700
TZOFFSETTO:-0800
TZNAME:PST
DTSTART:20231105T090000
END:STANDARD
BEGIN:DAYLIGHT
TZOFFSETFROM:-0800
TZOFFSETTO:-0700
TZNAME:PDT
DTSTART:20240310T100000
END:DAYLIGHT
BEGIN:STANDARD
TZOFFSETFROM:-0700
TZOFFSETTO:-0800
TZNAME:PST
DTSTART:20241103T090000
END:STANDARD
BEGIN:DAYLIGHT
TZOFFSETFROM:-0800
TZOFFSETTO:-0700
TZNAME:PDT
DTSTART:20250309T100000
END:DAYLIGHT
BEGIN:STANDARD
TZOFFSETFROM:-0700
TZOFFSETTO:-0800
TZNAME:PST
DTSTART:20251102T090000
END:STANDARD
END:VTIMEZONE
BEGIN:VEVENT
DTSTART;TZID=America/Los_Angeles:20240727T170000
DTEND;TZID=America/Los_Angeles:20240727T213000
DTSTAMP:20260425T035714
CREATED:20240723T194025Z
LAST-MODIFIED:20240723T194028Z
UID:6422-1722099600-1722115800@www.tap-oc.org
SUMMARY:07/27 TAP-LA x TAP-OC Beachella 2024
DESCRIPTION:Get ready for TAP-LA & TAP-OC BEACHELLA 2024 at Bolsa Chica Beach!\nPop out of your Shell to meet our other OC and LA chapter members and…Catch a beautiful sunset \, cozy up to a bonfire \, vibe to the music\, and throw a frisbee or ball around! We’ll provide the food\, drinks\, wood\, and all the things for s’mores!\nP.S. If you’re a Crabby person\, leave that Beachy attitude behind.\nTicket Prices:$25 Early Bird (through July 19th)$35 Regular (through July 26th)\nWALK-INs WILL NOT BE ACCEPTED!!!\nYou must register and buy tickets in advance. All Sails are final.\nRegistration link: https://tapla.org/event-5773699\n Food: A taco stand will serve up tacos\, burritos\, quesadillas\, and tortas.Surfed from 5:00pm to 8:30pm. First come\, first served.Drinks and other snacks will be provided as well. \n Parking: $20/vehicle. Cash or Credit/Debit cards. Your purchased parking gets you in and out of the park and into any other State Park on the same day until closing as long as parking is still available. *CarPooling and arriving early is highly recommended. Please take into account that this is a very popular beach!\nWhat to bring: camping/beach chair\, blanket\, towel\, flashlight/lantern\, anything you want to roast over a fire\, frisbee/football\, beach game\, sunscreen.\nIf you have any questions or additional pun recommendations\, please reach out to: Lee.yu@tap-la.org\nSea you there!
URL:https://www.tap-oc.org/event/07-27-tap-la-x-tap-oc-beachella-2024/
LOCATION:Bolsa Chica Beach\, Pacific Coast Hwy\, Huntington Beach\, CA\, 92648\, United States
CATEGORIES:networking,outdoor,social
ATTACH;FMTTYPE=image/jpeg:https://www.tap-oc.org/wp-content/uploads/2024/07/2024-beachella-banner.jpg
END:VEVENT
END:VCALENDAR