BEGIN:VCALENDAR
VERSION:2.0
PRODID:-//Taiwanese American Professionals - Orange County Chapter - ECPv6.15.18//NONSGML v1.0//EN
CALSCALE:GREGORIAN
METHOD:PUBLISH
X-WR-CALNAME:Taiwanese American Professionals - Orange County Chapter
X-ORIGINAL-URL:https://www.tap-oc.org
X-WR-CALDESC:Events for Taiwanese American Professionals - Orange County Chapter
REFRESH-INTERVAL;VALUE=DURATION:PT1H
X-Robots-Tag:noindex
X-PUBLISHED-TTL:PT1H
BEGIN:VTIMEZONE
TZID:America/Los_Angeles
BEGIN:DAYLIGHT
TZOFFSETFROM:-0800
TZOFFSETTO:-0700
TZNAME:PDT
DTSTART:20230312T100000
END:DAYLIGHT
BEGIN:STANDARD
TZOFFSETFROM:-0700
TZOFFSETTO:-0800
TZNAME:PST
DTSTART:20231105T090000
END:STANDARD
BEGIN:DAYLIGHT
TZOFFSETFROM:-0800
TZOFFSETTO:-0700
TZNAME:PDT
DTSTART:20240310T100000
END:DAYLIGHT
BEGIN:STANDARD
TZOFFSETFROM:-0700
TZOFFSETTO:-0800
TZNAME:PST
DTSTART:20241103T090000
END:STANDARD
BEGIN:DAYLIGHT
TZOFFSETFROM:-0800
TZOFFSETTO:-0700
TZNAME:PDT
DTSTART:20250309T100000
END:DAYLIGHT
BEGIN:STANDARD
TZOFFSETFROM:-0700
TZOFFSETTO:-0800
TZNAME:PST
DTSTART:20251102T090000
END:STANDARD
END:VTIMEZONE
BEGIN:VEVENT
DTSTART;TZID=America/Los_Angeles:20240511T103000
DTEND;TZID=America/Los_Angeles:20240511T120000
DTSTAMP:20260425T070309
CREATED:20240508T113413Z
LAST-MODIFIED:20240508T122025Z
UID:6402-1715423400-1715428800@www.tap-oc.org
SUMMARY:5/11 TAP-OC Beach Spring Clean Up
DESCRIPTION:TAP-OC is having its annual beach clean-up to support our community! What better way to start the Mother’s Day weekend than by help cleaning up Mother Earth🤰🌎 at Hungtinton Beach! This is a great chance to join your fellow TAP members\, to enjoy the beach on a beautiful saturday in Orange County\, and to get some exercise(s) all in one go! \nTrash bags and tongs will be provided. Reserve your spot now! \nCheck out our FB event page for more details:\nhttps://facebook.com/events/s/tap-oc-spring-beach-clean-up-5/827859386055996/ \n  \nPlease enable JavaScript in your browser to complete this form.Name *FirstLastEmail *Telephone Number: (no dashes)How many people are you going to bring?Just me!Plus oneA few friendsPlease include name of others who be participating with you under Comments or Questions sectionComments or QuestionsPlease read and acknowledge complying to the Event Signup Agreement *Yes\, I agree.Click here to see Event Signup  Agreement and Safety Policy Submit
URL:https://www.tap-oc.org/event/5-11-tap-oc-beach-spring-clean-up/
LOCATION:Huntington Beach Surf Lifesaving Association\, 103 Pacific Hwy\, Huntington Beach\, CA\, 92646\, United States
CATEGORIES:celebration,fitness,nature,outdoor,service,social
ATTACH;FMTTYPE=image/png:https://www.tap-oc.org/wp-content/uploads/2024/05/Screenshot-2024-05-08-at-4.28.35-AM.png
ORGANIZER;CN="Taiwanese American Professionals - Orange County (TAP-OC)":MAILTO:info@tap-oc.org
END:VEVENT
BEGIN:VEVENT
DTSTART;TZID=America/Los_Angeles:20240531T140000
DTEND;TZID=America/Los_Angeles:20240602T120000
DTSTAMP:20260425T070309
CREATED:20240314T234249Z
LAST-MODIFIED:20240314T234249Z
UID:6379-1717164000-1717329600@www.tap-oc.org
SUMMARY:5/31 Camping with TAP-SD\, TAP-LA\, & TAP-OC at Lake Silverwood
DESCRIPTION:Join TAP-SD\, TAP-LA\, & TAP-OC for a camping trip at Lake Silverwood in May!\n\n\nInterested in camping but haven’t had the opportunity to go? Want to meet TAP locals from other Southern California (SoCal) cities? How about detoxing from technology for a weekend? Outdoor recreation and outdoor cooking? With four campgrounds\, two swim beaches\, several picnic areas\, and a marina where visitors can either rent a boat or launch their own\, Silverwood Lake offers multiple recreational opportunities and features members from 3 TAP chapters in this inaugural event; a first ever joint SoCal TAP chapter camping trip! \nGet to know TAP members from SD\, LA\, & OC in a camping adventure complete with cooked meals\, flushing toilets\, hot showers\, outdoor recreation\, and warm s’mores over a campfire.  Cooked meals are provided the whole day for Saturday and Sunday. Participants should bring their own food for the Friday arrival night. \nRegister here as an early bird for $65 by April 15\, or a late bird for $75 by May 30. Payment is not refundable but your spot can be swapped with another attendee. \nAfter signing up for the trip\, a Google forms link will be e-mailed to participants so we can determine logistics and supplies (camping equipment\, carpool\, meals\, etc.) for this camping trip. \n  \nEvent Details: \nMay 31\, 2024\, 2:00 PM – Jun 02\, 2024\, 12:00 PM \nSilverwood Lake State Recreation Area\, 13990 Sawpit Canyon Rd\, Hesperia\, CA 92345\, USA \n  \nPlease email your local chapter if you have any questions. \n——————————— \n**Sexual Harassment Policy** \nTAP-SD\, TAP-LA\, & TAP-OC promotes safe spaces at our events and has a zero tolerance policy for harassment of any type. If you directly or indirectly experience harassment\, please report it to any TAP-SD\, TAP-LA\, & TAP-OC board member. For more information please see (https://tacl.org/sexual-harassment-policy/)
URL:https://www.tap-oc.org/event/5-31-camping-with-tap-sd-tap-la-tap-oc-at-lake-silverwood/
LOCATION:Silverwood Lake State Recreation Area\, 13990 Sawpit Canyon Rd\, Hesperia\, CA\, 92345\, United States
CATEGORIES:hike,nature,outdoor,social
ATTACH;FMTTYPE=image/webp:https://www.tap-oc.org/wp-content/uploads/2024/03/6c6e88_b82e4baa5adb474c93be05aa0ca5fa34mv2.webp
ORGANIZER;CN="Taiwanese American Professionals - Orange County (TAP-OC)":MAILTO:info@tap-oc.org
END:VEVENT
END:VCALENDAR