BEGIN:VCALENDAR
VERSION:2.0
PRODID:-//Taiwanese American Professionals - Orange County Chapter - ECPv6.15.18//NONSGML v1.0//EN
CALSCALE:GREGORIAN
METHOD:PUBLISH
X-WR-CALNAME:Taiwanese American Professionals - Orange County Chapter
X-ORIGINAL-URL:https://www.tap-oc.org
X-WR-CALDESC:Events for Taiwanese American Professionals - Orange County Chapter
REFRESH-INTERVAL;VALUE=DURATION:PT1H
X-Robots-Tag:noindex
X-PUBLISHED-TTL:PT1H
BEGIN:VTIMEZONE
TZID:America/Los_Angeles
BEGIN:DAYLIGHT
TZOFFSETFROM:-0800
TZOFFSETTO:-0700
TZNAME:PDT
DTSTART:20230312T100000
END:DAYLIGHT
BEGIN:STANDARD
TZOFFSETFROM:-0700
TZOFFSETTO:-0800
TZNAME:PST
DTSTART:20231105T090000
END:STANDARD
BEGIN:DAYLIGHT
TZOFFSETFROM:-0800
TZOFFSETTO:-0700
TZNAME:PDT
DTSTART:20240310T100000
END:DAYLIGHT
BEGIN:STANDARD
TZOFFSETFROM:-0700
TZOFFSETTO:-0800
TZNAME:PST
DTSTART:20241103T090000
END:STANDARD
BEGIN:DAYLIGHT
TZOFFSETFROM:-0800
TZOFFSETTO:-0700
TZNAME:PDT
DTSTART:20250309T100000
END:DAYLIGHT
BEGIN:STANDARD
TZOFFSETFROM:-0700
TZOFFSETTO:-0800
TZNAME:PST
DTSTART:20251102T090000
END:STANDARD
END:VTIMEZONE
BEGIN:VEVENT
DTSTART;TZID=America/Los_Angeles:20240421T083000
DTEND;TZID=America/Los_Angeles:20240421T120000
DTSTAMP:20260425T083210
CREATED:20240416T202514Z
LAST-MODIFIED:20240416T202514Z
UID:6389-1713688200-1713700800@www.tap-oc.org
SUMMARY:4/21 Hiking with TAP-OC & TAP-LA
DESCRIPTION:*** Event Postponement ***Due to the forecasted rain this weekend\, we’re postponing the hike to next Sunday April 21st. Hope to see you all on then!\n\n Jump into Spring with TAP-LA and TAP-OC! Join and bond with cross chapter TAP members on our hike at Schabarum Trail. This hike is fun\, beautiful\, and popular with a good blend of sun\, shade\, and nature.\nThis hike is good for all skill levels\, approx. 4.8 miles\, and takes around 2-3 hours round-trip.Please arrive promptly! We will begin hiking at 8:30AM.\nPlease register at: https://tapla.org/event-5648406\n\nWhat to bring: Water\, snacks\, sunscreen\, and positivity! Experienced dogs are allowed but must be leashed. DRESS CODE:\nCome prepared to hike – casual\, sportswear\, sneakers or hiking shoes\n\nBy participating in this event\, you acknowledge that you are participating at your own risk. You agree to assume all risks of injury and release TAP-LA and its representatives of all responsibility or liability.
URL:https://www.tap-oc.org/event/4-21-hiking-with-tap-oc-tap-la/
LOCATION:Schabarum Park\, 17250 Colima Rd\, Hacienda Heights\, CA\, 91745\, United States
ATTACH;FMTTYPE=image/jpeg:https://www.tap-oc.org/wp-content/uploads/2024/04/437134342_733325809004480_665025440144649587_n.jpg
END:VEVENT
BEGIN:VEVENT
DTSTART;TZID=America/Los_Angeles:20240427T140000
DTEND;TZID=America/Los_Angeles:20240427T170000
DTSTAMP:20260425T083210
CREATED:20240416T202828Z
LAST-MODIFIED:20240416T202828Z
UID:6395-1714226400-1714237200@www.tap-oc.org
SUMMARY:4/27 Origami Workshop
DESCRIPTION:Are you an artist at heart?  Are you great with your hands? \nCome join us at our origami workshop and enjoy a fun afternoon with amazing paper arts!\nBring your favorite snacks and non-alcoholic drinks to enjoy and share with friends.  \n\nSpace is limited — reserve your spot now!\n\nDetails:\n Admission: Free\n Date and Time: Saturday\, 4/27/2024\, 2:00pm – 5:00pm\nLocation: Sweet Shade Ability Center\, 15 Sweet Shade\, Irvine\, CA 92606\nhttps://maps.app.goo.gl/b5qmSAG6VbGg3n5F8\n\n———————————————If you have any questions or comments about our event or about TAP-OC\, please message us directly on FB or IG. You can also e-mail us at hello@tap-oc.org.———————————————Safer Space Policy:TAP-OC aims to create events with a respectful\, understanding\, and kind space\, where members feel welcomed and are able to express themselves freely. Therefore\, TAP-OC holds a zero tolerance policy for all forms of physical and verbal harassment and discrimination. Please immediately report any inappropriate and unwanted behavior to a TAP-OC Board Member should this occur\, and appropriate actions will be taken. TAP-OC upholds high standards and expectations to host events with a safe and welcoming community.———————————————About TAP-OC:Taiwanese American Professionals – Orange County (TAP-OC) is an inclusive community that not only connects like-minded individuals of all cultures and backgrounds who are looking to contribute to something bigger than ourselves by giving back to society\, but also build lifelong friendships that will grow beyond the organization while pursuing professional and personal growth!———————————————SUBSCRIBE to our Newsletter!https://www.tap-oc.org/newsletter-archive/
URL:https://www.tap-oc.org/event/4-27-origami-workshop/
LOCATION:Sweet Shade Ability Center\, 15 Sweet Shade\, Irvine\, CA\, 92606\, United States
ATTACH;FMTTYPE=image/jpeg:https://www.tap-oc.org/wp-content/uploads/2024/04/436799142_729109119426149_1710416989689460884_n.jpg
ORGANIZER;CN="Taiwanese American Professionals - Orange County (TAP-OC)":MAILTO:info@tap-oc.org
END:VEVENT
END:VCALENDAR