BEGIN:VCALENDAR
VERSION:2.0
PRODID:-//Taiwanese American Professionals - Orange County Chapter - ECPv6.15.18//NONSGML v1.0//EN
CALSCALE:GREGORIAN
METHOD:PUBLISH
X-ORIGINAL-URL:https://www.tap-oc.org
X-WR-CALDESC:Events for Taiwanese American Professionals - Orange County Chapter
REFRESH-INTERVAL;VALUE=DURATION:PT1H
X-Robots-Tag:noindex
X-PUBLISHED-TTL:PT1H
BEGIN:VTIMEZONE
TZID:America/Los_Angeles
BEGIN:DAYLIGHT
TZOFFSETFROM:-0800
TZOFFSETTO:-0700
TZNAME:PDT
DTSTART:20220313T100000
END:DAYLIGHT
BEGIN:STANDARD
TZOFFSETFROM:-0700
TZOFFSETTO:-0800
TZNAME:PST
DTSTART:20221106T090000
END:STANDARD
BEGIN:DAYLIGHT
TZOFFSETFROM:-0800
TZOFFSETTO:-0700
TZNAME:PDT
DTSTART:20230312T100000
END:DAYLIGHT
BEGIN:STANDARD
TZOFFSETFROM:-0700
TZOFFSETTO:-0800
TZNAME:PST
DTSTART:20231105T090000
END:STANDARD
BEGIN:DAYLIGHT
TZOFFSETFROM:-0800
TZOFFSETTO:-0700
TZNAME:PDT
DTSTART:20240310T100000
END:DAYLIGHT
BEGIN:STANDARD
TZOFFSETFROM:-0700
TZOFFSETTO:-0800
TZNAME:PST
DTSTART:20241103T090000
END:STANDARD
END:VTIMEZONE
BEGIN:VEVENT
DTSTART;TZID=America/Los_Angeles:20231202T120000
DTEND;TZID=America/Los_Angeles:20231202T150000
DTSTAMP:20260425T141806
CREATED:20231127T222528Z
LAST-MODIFIED:20231127T222528Z
UID:6339-1701518400-1701529200@www.tap-oc.org
SUMMARY:12/2 Lunchgiving @ Rodeo 39
DESCRIPTION:We’re coming to you with a special December Double Event Day! \nIn the spirit of Thanksgiving\, join us at Rodeo 39 for Lunchgiving: lunch + donation drive! This is a wonderful opportunity to make new friends while also helping families in need. \nWe invite you to bring your gently used items and will accept your generous donations in the form of toys\, non-perishable food items and gift cards. \nEvent Details: \n Time: Saturday\, Dec 2\, 12-3 pm\n Location: Rodeo 39; 12885 Beach Blvd\, Stanton CA 90680 \nSee you there! 🤗
URL:https://www.tap-oc.org/event/12-2-lunchgiving-rodeo-39/
LOCATION:Rodeo 39\, 12885 Beach Blvd\, Stanton\, CA\, 90680\, United States
CATEGORIES:causes,family friendly,foodie,holiday
ATTACH;FMTTYPE=image/jpeg:https://www.tap-oc.org/wp-content/uploads/2023/11/404836677_650645690605826_1828177354783474436_n.jpg
ORGANIZER;CN="Taiwanese American Professionals - Orange County (TAP-OC)":MAILTO:info@tap-oc.org
END:VEVENT
BEGIN:VEVENT
DTSTART;TZID=America/Los_Angeles:20231202T150000
DTEND;TZID=America/Los_Angeles:20231202T170000
DTSTAMP:20260425T141806
CREATED:20231120T184438Z
LAST-MODIFIED:20231120T184438Z
UID:6334-1701529200-1701536400@www.tap-oc.org
SUMMARY:12/2 Let's Play Volleyball! Co-hosted w/ OCTW
DESCRIPTION:Join us for a fun-filled Saturday afternoon of volleyball! We’re excited to co-host this event with OCTW\, a vibrant Taiwanese/Taiwanese American community group that has been bringing people together for sports and hiking adventures in Orange County since 2014.\nAre you looking to shed those post-Thanksgiving pounds\, make new friends\, and reconnect with old ones? This event is the perfect opportunity to do just that! See you at the court!\n\nPlease RSVP here: https://tinyurl.com/tapoc-volleyball\n\n Event Details:\n\n Time: Saturday\, December 2\, 2023 3pm\n\n Location: Arnold Cypress Park
URL:https://www.tap-oc.org/event/12-2-lets-play-volleyball-co-hosted-w-octw/
LOCATION:Arnold Cypress Park\, 8611 Watson St\, Cypress\, CA\, 90630\, United States
CATEGORIES:fitness,outdoor,social,sports
ATTACH;FMTTYPE=image/jpeg:https://www.tap-oc.org/wp-content/uploads/2023/11/400094587_643938217943240_3748239913769547968_n.jpg
ORGANIZER;CN="Taiwanese American Professionals - Orange County (TAP-OC)":MAILTO:info@tap-oc.org
END:VEVENT
END:VCALENDAR