BEGIN:VCALENDAR
VERSION:2.0
PRODID:-//Taiwanese American Professionals - Orange County Chapter - ECPv6.15.18//NONSGML v1.0//EN
CALSCALE:GREGORIAN
METHOD:PUBLISH
X-WR-CALNAME:Taiwanese American Professionals - Orange County Chapter
X-ORIGINAL-URL:https://www.tap-oc.org
X-WR-CALDESC:Events for Taiwanese American Professionals - Orange County Chapter
REFRESH-INTERVAL;VALUE=DURATION:PT1H
X-Robots-Tag:noindex
X-PUBLISHED-TTL:PT1H
BEGIN:VTIMEZONE
TZID:America/Los_Angeles
BEGIN:DAYLIGHT
TZOFFSETFROM:-0800
TZOFFSETTO:-0700
TZNAME:PDT
DTSTART:20220313T100000
END:DAYLIGHT
BEGIN:STANDARD
TZOFFSETFROM:-0700
TZOFFSETTO:-0800
TZNAME:PST
DTSTART:20221106T090000
END:STANDARD
BEGIN:DAYLIGHT
TZOFFSETFROM:-0800
TZOFFSETTO:-0700
TZNAME:PDT
DTSTART:20230312T100000
END:DAYLIGHT
BEGIN:STANDARD
TZOFFSETFROM:-0700
TZOFFSETTO:-0800
TZNAME:PST
DTSTART:20231105T090000
END:STANDARD
BEGIN:DAYLIGHT
TZOFFSETFROM:-0800
TZOFFSETTO:-0700
TZNAME:PDT
DTSTART:20240310T100000
END:DAYLIGHT
BEGIN:STANDARD
TZOFFSETFROM:-0700
TZOFFSETTO:-0800
TZNAME:PST
DTSTART:20241103T090000
END:STANDARD
END:VTIMEZONE
BEGIN:VEVENT
DTSTART;TZID=America/Los_Angeles:20230924T090000
DTEND;TZID=America/Los_Angeles:20230924T120000
DTSTAMP:20260425T191647
CREATED:20230920T023821Z
LAST-MODIFIED:20230920T023821Z
UID:6309-1695546000-1695556800@www.tap-oc.org
SUMMARY:09/24 TAP-OC Hike to the Top of the World
DESCRIPTION:Come join us for a Sunday morning hike to the Top of the World. Renowned in Orange County for its sweeping panoramic views\, it’s a scene you won’t want to miss. Looking forward to a day of nature\, connection\, and well-being. See you all at the trailhead!\n Please sign up here : https://forms.gle/Z4TBn17ftVGVx6XXA\n\nDetails:\n Date and Time: Sunday 9/24\, 9am – 12pm\n Meeting Location: We will be meeting at the entrance to Canyon View Park (https://goo.gl/maps/fuYRhXYDRxkspNDu5) at 9am sharp!\n Parking: Available in the surrounding residential area\n Trail Info: This is a 5.4-mile moderate out-and-back hike that takes about 2.5 to 3 hours complete.\n Essentials: The trail has limited shade\, so bring your sunglasses \, sunscreen \, and plenty of water to stay hydrated.\n  Pets: Please note\, dogs are not allowed on this trail\n\n Post-Hike Lunch: For those interested\, after soaking in the views\, we’ll be gathering for an optional lunch. Stay tuned for more details on this!
URL:https://www.tap-oc.org/event/09-24-tap-oc-hike-to-the-top-of-the-world/
LOCATION:Top of the World Laguna\, W Ridge\,\, Laguna Beach\, CA\, 92651
CATEGORIES:fitness,outdoor,social
ATTACH;FMTTYPE=image/jpeg:https://www.tap-oc.org/wp-content/uploads/2023/09/hike-top.jpeg
ORGANIZER;CN="Taiwanese American Professionals - Orange County (TAP-OC)":MAILTO:info@tap-oc.org
END:VEVENT
END:VCALENDAR