BEGIN:VCALENDAR
VERSION:2.0
PRODID:-//Taiwanese American Professionals - Orange County Chapter - ECPv6.15.18//NONSGML v1.0//EN
CALSCALE:GREGORIAN
METHOD:PUBLISH
X-WR-CALNAME:Taiwanese American Professionals - Orange County Chapter
X-ORIGINAL-URL:https://www.tap-oc.org
X-WR-CALDESC:Events for Taiwanese American Professionals - Orange County Chapter
REFRESH-INTERVAL;VALUE=DURATION:PT1H
X-Robots-Tag:noindex
X-PUBLISHED-TTL:PT1H
BEGIN:VTIMEZONE
TZID:America/Los_Angeles
BEGIN:DAYLIGHT
TZOFFSETFROM:-0800
TZOFFSETTO:-0700
TZNAME:PDT
DTSTART:20240310T100000
END:DAYLIGHT
BEGIN:STANDARD
TZOFFSETFROM:-0700
TZOFFSETTO:-0800
TZNAME:PST
DTSTART:20241103T090000
END:STANDARD
BEGIN:DAYLIGHT
TZOFFSETFROM:-0800
TZOFFSETTO:-0700
TZNAME:PDT
DTSTART:20250309T100000
END:DAYLIGHT
BEGIN:STANDARD
TZOFFSETFROM:-0700
TZOFFSETTO:-0800
TZNAME:PST
DTSTART:20251102T090000
END:STANDARD
BEGIN:DAYLIGHT
TZOFFSETFROM:-0800
TZOFFSETTO:-0700
TZNAME:PDT
DTSTART:20260308T100000
END:DAYLIGHT
BEGIN:STANDARD
TZOFFSETFROM:-0700
TZOFFSETTO:-0800
TZNAME:PST
DTSTART:20261101T090000
END:STANDARD
BEGIN:DAYLIGHT
TZOFFSETFROM:-0800
TZOFFSETTO:-0700
TZNAME:PDT
DTSTART:20270314T100000
END:DAYLIGHT
BEGIN:STANDARD
TZOFFSETFROM:-0700
TZOFFSETTO:-0800
TZNAME:PST
DTSTART:20271107T090000
END:STANDARD
END:VTIMEZONE
BEGIN:VEVENT
DTSTART;TZID=America/Los_Angeles:20251101T120000
DTEND;TZID=America/Los_Angeles:20251101T150000
DTSTAMP:20260423T163614
CREATED:20251018T182031Z
LAST-MODIFIED:20251018T182031Z
UID:6977-1761998400-1762009200@www.tap-oc.org
SUMMARY:11/1 Pumpkin Carving with TAP-OC
DESCRIPTION:Get ready to slice\, scoop\, and sculpt your way into the fall spirit! \nJoin us for a festive Pumpkin Carving event at T.A. Archives — a cozy\, creative space perfect for an afternoon of Halloween-season fun. \nWhether you’re a carving pro or a first-time pumpkin artist\, we’ve got you covered — all materials will be provided!\n Entry Fee: $25\n Includes: Pumpkins\, carving tools\, and everything you need to bring your spooky (or cute!) creation to life.\n Bonus: Enjoy a warm\, relaxed atmosphere filled with fall vibes\, laughter\, and great company.\nDon’t miss out on this perfect weekend activity to unwind\, meet new friends\, and get into the autumn mood with TAP-OC.\n Spots fill up fast — RSVP via Zeffy!
URL:https://www.tap-oc.org/event/11-1-pumpkin-carving-with-tap-oc/
LOCATION:Taiwan Archive Center\, 22 Corporate Park\, Irvine\, CA\, United States
CATEGORIES:social
ATTACH;FMTTYPE=image/jpeg:https://www.tap-oc.org/wp-content/uploads/561264231_1120354303634960_4717912534037073210_n.jpg
ORGANIZER;CN="Taiwanese American Professionals - Orange County (TAP-OC)":MAILTO:info@tap-oc.org
END:VEVENT
BEGIN:VEVENT
DTSTART;TZID=America/Los_Angeles:20251107T043000
DTEND;TZID=America/Los_Angeles:20251107T173000
DTSTAMP:20260423T163614
CREATED:20251030T021327Z
LAST-MODIFIED:20251030T022158Z
UID:6996-1762489800-1762536600@www.tap-oc.org
SUMMARY:Blizzard Entertainment Company Tour (Seat Lotto)
DESCRIPTION:Blizzard Office Tour is here!!\nStep into the world of magic\, mayhem\, and epic game vibes \nJoin us for an exclusive behind-the-scenes tour at Blizzard HQ! \nSpots are limited — lock in the date and get ready for a legendary adventure you won’t forget!\nPlease note that only eight participants will be selected through a lottery. The results will be announced on Monday\, November 3\, followed by an email notification to all participants.\nTo enter into the drawing\, complete this Google Form: https://forms.gle/JBujVL9Jds2CxLUh7\nDetails:\n Date: Friday\, November 7\, 2025\n Time: 4:30 PM – 5:30 PM + Let’s grab dinner after the tour\n Location: Blizzard Entertainment (16215 Alton Pkwy\, Irvine\, CA 92618)\nDirection: Use the pin below to drive through the gates\, park and meet by the Orc statue in the middle of the courtyard\nhttps://maps.app.goo.gl/2dFo2J5SbbKAUnFb8\nParking: Free
URL:https://www.tap-oc.org/event/blizzard-entertainment-company-tour/
LOCATION:Blizzard Activision\, 16215 Alton Pkwy\, Irvine\, CA\, 92618
CATEGORIES:games,indoor
ATTACH;FMTTYPE=image/jpeg:https://www.tap-oc.org/wp-content/uploads/572276414_1130627592607631_339824031095082898_n.jpg
ORGANIZER;CN="Taiwanese American Professionals - Orange County (TAP-OC)":MAILTO:info@tap-oc.org
END:VEVENT
BEGIN:VEVENT
DTSTART;TZID=America/Los_Angeles:20251120T190000
DTEND;TZID=America/Los_Angeles:20251120T220000
DTSTAMP:20260423T163614
CREATED:20260125T210704Z
LAST-MODIFIED:20260125T210704Z
UID:7017-1763665200-1763676000@www.tap-oc.org
SUMMARY:11/20 Hanger 24 TAPpy Hour
DESCRIPTION:Join TAP-OC for a midweek reset at Hangar 24 on Thursday\, November 20th from 7:00–10:00 PM! Come hang out with young professionals from across Orange County\, make new friends\, and reconnect with familiar faces over craft drinks and good vibes.\nWhether you’re coming straight from work or dropping by to unwind\, this is a low-pressure\, come-as-you-are mixer—perfect for:\n Expanding your professional network\n Meeting other Taiwanese / Asian American young professionals in OC\n Swapping career tips\, travel stories\, and weekend plans\n\n Location: Hangar 24 (Orange County) Date: Thursday\, November 20 Time: 7:00–10:00 PM Who: Open to all young professionals & friends of TAP-OC What to Expect: Casual networking\, great conversations\, and a relaxed hangout atmosphere\nCome for the drinks\, stay for the community.We’d love to see you there—bring a friend or two!
URL:https://www.tap-oc.org/event/11-20-hanger-24-tappy-hour/
LOCATION:Hanger 24\, 17877 Von Karman Ave\, Irvine\, CA\, United States
CATEGORIES:social
ORGANIZER;CN="Taiwanese American Professionals - Orange County (TAP-OC)":MAILTO:info@tap-oc.org
END:VEVENT
BEGIN:VEVENT
DTSTART;TZID=America/Los_Angeles:20260111T100000
DTEND;TZID=America/Los_Angeles:20260125T120000
DTSTAMP:20260423T163614
CREATED:20260125T212010Z
LAST-MODIFIED:20260125T212010Z
UID:7021-1768125600-1769342400@www.tap-oc.org
SUMMARY:01/11 NY Resolution Hike at Carlson Trail
DESCRIPTION:🌞 Start 2026 with a healthy hike on the Carlson Trail at the San Joaquin Marsh Loop. Let’s take a break from our daily routine and remember what it means to be in the moment with nature or just keep company and chat! 🧘🌿\n🍽 From noon to 2pm\, we will meet at UTC (University Town Center) to grab ourselves brunch afterwards.\nWhether it’s your first time with us or if you’re returning\, we look forward to seeing you! 😀\nLet us know you’re coming by completing this Google Form: https://forms.gle/zT7snxtV9qjyP51d7\n===================================\nEvent Details:\n📅 Date: Sunday\, January 11\, 2026\n🕙 Hiking Time: 10:00 AM – 12:00 PM\n🕛 Optional Brunch: 12:00PM – 2:00PM\n🗺 Location: San Joaquin Marsh & Wildlife Sanctuary\n🅿️ Parking is free 🅿️\n📍Meeting Spot: The Duck Club (IRWD) as indicated on map🦆\n💧Things To Bring: Water\, sunscreen\, light energy snacks\, hat\, sunglasses\, hiking clothes\, etc. 🥾
URL:https://www.tap-oc.org/event/01-11-ny-resolution-hike-at-carlson-trail/
ORGANIZER;CN="Taiwanese American Professionals - Orange County (TAP-OC)":MAILTO:info@tap-oc.org
END:VEVENT
BEGIN:VEVENT
DTSTART;TZID=America/Los_Angeles:20260123T190000
DTEND;TZID=America/Los_Angeles:20260123T220000
DTSTAMP:20260423T163614
CREATED:20260125T212158Z
LAST-MODIFIED:20260125T212158Z
UID:7023-1769194800-1769205600@www.tap-oc.org
SUMMARY:01/23 Dave & Buster's TAPpy Hour
DESCRIPTION:🎉 Kick off the New Year with TAP-OC! 🎉\nStart 2026 the right way with TAP-OC Tappy Hour at Dave & Buster’s Irvine 🕹️🍻\nJoin fellow Taiwanese American Professionals for a happy hour filled with drinks\, games\, and great conversations.\n📍 Dave & Buster’s Irvine\n🗓 January 23\, 2026\n⏰ 7–10 PM\nWhether you’re looking to reconnect\, expand your network\, or just unwind after a long week\, this is the perfect way to ring in the new year with the TAP-OC community.\n🎮 Drinks | Games | Networking | Good vibes\n👉 Sign up now at: https://forms.gle/CRhEJvLiSTdA8LM36
URL:https://www.tap-oc.org/event/01-23-dave-busters-tappy-hour/
CATEGORIES:indoor,social,tappy hour
ORGANIZER;CN="Taiwanese American Professionals - Orange County (TAP-OC)":MAILTO:info@tap-oc.org
END:VEVENT
BEGIN:VEVENT
DTSTART;TZID=America/Los_Angeles:20260208T140000
DTEND;TZID=America/Los_Angeles:20260208T193000
DTSTAMP:20260423T163614
CREATED:20260125T212406Z
LAST-MODIFIED:20260125T212406Z
UID:7025-1770559200-1770579000@www.tap-oc.org
SUMMARY:02/08 Superbowl Watch Party
DESCRIPTION:Join TAP-OC for a fun\, relaxed Super Bowl Watch Party! Come to connect and enjoy the game together in a friendly community setting. Whether you’re a big football fan or just there for the company and food\, everyone is welcome. Bring your friends and come enjoy a great afternoon together!\n Date: Sunday\, February 8\, 2026\n Time: 2:00 PM – 7:30 PM\n Location: TA Archives\n Food: This is a potluck-style gathering. Feel free to bring a dish to share\, or simply contribute $10 to help cover food and event costs.\n What to Expect: Live Super Bowl viewing\, casual networking & socializing\, good food\, great company\, and game-day vibes\nRSVP via Zeffy: https://www.zeffy.com/en-US/ticketing/superbowl-watch-party
URL:https://www.tap-oc.org/event/02-08-superbowl-watch-party/
LOCATION:Taiwan Archive Center\, 22 Corporate Park\, Irvine\, CA\, United States
ATTACH;FMTTYPE=image/jpeg:https://www.tap-oc.org/wp-content/uploads/621818259_1194491456221244_796397671937066490_n.jpg
ORGANIZER;CN="Taiwanese American Professionals - Orange County (TAP-OC)":MAILTO:info@tap-oc.org
END:VEVENT
BEGIN:VEVENT
DTSTART;TZID=America/Los_Angeles:20260215T140000
DTEND;TZID=America/Los_Angeles:20260215T170000
DTSTAMP:20260423T163614
CREATED:20260130T020158Z
LAST-MODIFIED:20260130T020158Z
UID:7028-1771164000-1771174800@www.tap-oc.org
SUMMARY:Lunar New Year Arts & Crafts Workshop
DESCRIPTION:Get ready to ring in the Lunar New Year with creativity\, color\, and a little extra luck! Join TAP-OC at our festive Decoration Workshop where you’ll get hands-on with traditional crafts and make your own meaningful keepsakes. \nTry calligraphy to write your own Spring Festival couplets\, explore the delicate art of paper-cutting\, decorate a glowing lantern to light up the new year\, and create a one-of-a-kind Horse zodiac craft that represents you as we gallop into the Year of the Horse. \nWe’ll have light snacks and refreshments to keep the creative energy flowing. Spots are limited\, so RSVP soon and take advantage of early bird pricing before it trots away!\n\n Register via Zeffy: https://www.zeffy.com/en-US/ticketing/tap-oc-lunar-new-year-decoration-workshop
URL:https://www.tap-oc.org/event/lunar-new-year-arts-crafts-workshop/
LOCATION:Taiwan Archive Center\, 22 Corporate Park\, Irvine\, CA\, United States
CATEGORIES:celebration,cultural,family friendly,holiday,indoor,social
ATTACH;FMTTYPE=image/jpeg:https://www.tap-oc.org/wp-content/uploads/618359670_1197584525911937_8063423812052872592_n.jpg
ORGANIZER;CN="Taiwanese American Professionals - Orange County (TAP-OC)":MAILTO:info@tap-oc.org
END:VEVENT
BEGIN:VEVENT
DTSTART;TZID=America/Los_Angeles:20260221T130000
DTEND;TZID=America/Los_Angeles:20260221T160000
DTSTAMP:20260423T163614
CREATED:20260130T020429Z
LAST-MODIFIED:20260130T020434Z
UID:7031-1771678800-1771689600@www.tap-oc.org
SUMMARY:Mahjong & Boba Social
DESCRIPTION:Tiles\, trials\, and tapioca smiles!  Join TAP-OC for a laid-back Mahjong & Boba Social where the vibes are sweet and the competition is brew-tifully friendly.\nWhether you’re a seasoned tile master or just here to spill the tea\, we’ve got you covered. Enjoy classic mahjong plus a variety of board games throughout the day — so you can mix\, match\, and play your way.\nAdmission includes a delicious boba drink from Wushiland\, because great strategy requires great sipping.\nSpots are limited\, so don’t leaf it for later — grab your seat before they’re gone!\n Register via Zeffy: https://www.zeffy.com/…/tick…/tap-oc-mahjong-boba-social
URL:https://www.tap-oc.org/event/mahjong-boba-social/
LOCATION:Taiwan Archive Center\, 22 Corporate Park\, Irvine\, CA\, United States
CATEGORIES:celebration,cultural,family friendly,games,holiday,indoor,social
ATTACH;FMTTYPE=image/jpeg:https://www.tap-oc.org/wp-content/uploads/618833458_1197588649244858_1138832157282170281_n.jpg
ORGANIZER;CN="Taiwanese American Professionals - Orange County (TAP-OC)":MAILTO:info@tap-oc.org
END:VEVENT
BEGIN:VEVENT
DTSTART;TZID=America/Los_Angeles:20260314T090000
DTEND;TZID=America/Los_Angeles:20260314T110000
DTSTAMP:20260423T163614
CREATED:20260313T054252Z
LAST-MODIFIED:20260313T054252Z
UID:7208-1773478800-1773486000@www.tap-oc.org
SUMMARY:03/14/2026 Bommer Canyon Hike
DESCRIPTION:March along Pi Day 2026 with a healthy hike in Irvine up and down the Bommer Canyon Trail starting from Turtle Rock Community Park. Let’s take a break from our daily routines and remember what it’s like to be in the moment with nature or just keep company and chat! \n Date: Saturday\, March 14\, 2026\n Hiking Time: 9:00 AM – 11:00 AM\n Location: Bommer Canyon Trail starting from Turtle Rock Community Parkhttps://maps.app.goo.gl/HgNUHEMHDqDNf9hW7\nDistance estimated to be about 4.1 miles out and back.\nElevation peak: 645ft above starting point.\nPets are not allowed on this hike.\nBathrooms: Restrooms will be available at Turtle Rock Community Park as well as the Bommer Trailhead area.\n Parking: Free. Due to the large group size\, our primary parking area will be at Turtle Rock Community Park. From there\, we will walk to the Bommer trailhead. Alternative parking for overflow will be at the main Bommer Canyon Trailhead. Claim your spots early and consider carpooling if you’d like.\nMeeting Spot: Turtle Rock Community Park’s parking lot for early and punctual birds. Late and overflow birds can wait and meet us at the Bommer Canyon Trailhead if parking is available there by the time we pass through.\nThings To Bring: Water\, sunscreen\, light energy snacks\, hat\, sunglasses\, hiking clothes\, etc. \nWhether it’s your first time with us or if you’re returning\, we look forward to seeing you!
URL:https://www.tap-oc.org/event/03-14-2026-bommer-canyon-hike/
LOCATION:Bommer Canyon Trailhead\, 6400 Shady Canyon Trail\, Irvine\, CA\, 92603
CATEGORIES:fitness,hike,nature,outdoor
ATTACH;FMTTYPE=image/jpeg:https://www.tap-oc.org/wp-content/uploads/644444981_1224976099839446_1106736601246643758_n.jpg
ORGANIZER;CN="Taiwanese American Professionals - Orange County (TAP-OC)":MAILTO:info@tap-oc.org
END:VEVENT
BEGIN:VEVENT
DTSTART;TZID=America/Los_Angeles:20260320T190000
DTEND;TZID=America/Los_Angeles:20260320T220000
DTSTAMP:20260423T163614
CREATED:20260313T054520Z
LAST-MODIFIED:20260313T054520Z
UID:7213-1774033200-1774044000@www.tap-oc.org
SUMMARY:03/20/2026 Holey Moley TAPpy Hour
DESCRIPTION:REGISTRATION & TICKET REQUIRED\n\nUnwind with TAP-OC at Tappy Hour!\nJoin fellow Taiwanese American professionals for a relaxed evening of conversation\, connection\, and community in Orange County.\nWhether you’re new to TAP-OC or a familiar face\, this is a simple way to grow your network\, share stories about Taiwanese culture\, and support a more connected community. RSVP so we can save you a spot. \nIf you can’t make it to mini golf\, feel free to join us at the end around 9pm at the bar for drinks!\n$45 event price includes:\n– One round of mini golf– Private event room– Light finger food (beef+chicken sliders\, fries and salad)– Unlimited sodas\n Register via Zeffy: https://www.zeffy.com/en-US/ticketing/happy-hour-8
URL:https://www.tap-oc.org/event/03-20-2026-holey-moley-tappy-hour/
LOCATION:Holey Moley Golf Club\, 517 Spectrum Center Dr\, Irvine\, CA\, 92618
CATEGORIES:games,indoor,social,tappy hour
ATTACH;FMTTYPE=image/jpeg:https://www.tap-oc.org/wp-content/uploads/643108068_1224065869930469_4248587137984366241_n.jpg
ORGANIZER;CN="Taiwanese American Professionals - Orange County (TAP-OC)":MAILTO:info@tap-oc.org
END:VEVENT
BEGIN:VEVENT
DTSTART;TZID=America/Los_Angeles:20260419T080000
DTEND;TZID=America/Los_Angeles:20260419T100000
DTSTAMP:20260423T163614
CREATED:20260416T190401Z
LAST-MODIFIED:20260416T190455Z
UID:7229-1776585600-1776592800@www.tap-oc.org
SUMMARY:TAP-OC x SurfRider North OC X Rotary Beach Cleanup
DESCRIPTION:Join TAP-OC as we team up with cleanup host SurfRider North OC and our community partners\, Rotary of Westminster\, for a beach cleanup in honor of Earth Day \nCome out for a day of fun\, friendship\, and fresh air—get some movement in\, connect with others\, and show some love for our environment while making a real impact \nBefore coming out:\n– Use the restroom! Public restrooms are…. not fun.\n– Bring reusable water bottle\, reusable gloves (gardening or mechanic)\, and sun protection.\n– Avoid bringing plastic bottles\, bags of chips\, and other single use plastic products.\n– Dress for the beach – wear a hat\, sunglasses\, shorts\, and flip flops.\nArriving:\n– PARKING is going to be EXTREMELY LIMITED and NOT free.\n– Ride a bike or skateboard if you are local.\n– Check in at the Surfrider popup tent.\n– Bags provided.\n\n Sign up link: https://volunteer.surfrider.org/timeslots/F5C4G0vtcf \nSee less\n\n\n\nCosta Mesa\, California
URL:https://www.tap-oc.org/event/tap-oc-x-surfrider-north-oc-x-rotary-beach-cleanup/
LOCATION:Newport Pier\, Newport beach
ATTACH;FMTTYPE=image/jpeg:https://www.tap-oc.org/wp-content/uploads/668942918_1256770133326709_1728095764943195033_n.jpg
END:VEVENT
BEGIN:VEVENT
DTSTART;TZID=America/Los_Angeles:20260426T100000
DTEND;TZID=America/Los_Angeles:20260426T120000
DTSTAMP:20260423T163614
CREATED:20260403T031346Z
LAST-MODIFIED:20260416T185732Z
UID:7218-1777197600-1777204800@www.tap-oc.org
SUMMARY:04/26/2026 Laguna Niguel Badlands April Hike
DESCRIPTION:Kick off April with a refreshing hike along Laguna Niguel’s Badlands Trail. Take a break from the everyday\, enjoy the scenery\, and soak in some time outdoors—whether that means quiet moments in nature or catching up with friends along the way \n\n\n\nLeashed pets are welcome on this hike \n\n\n\n Street parking is free along Isle Vista\, but spots can fill up quickly—arrive early if you can.\n\n\n\n Let us know you’re coming by completing the Google Form (link in bio)
URL:https://www.tap-oc.org/event/04-12-2026-laguna-niguel-badlands-april-hike/
LOCATION:Laguna Niguel Badlands\, 31671 Isle Vista\, Laguna Niguel\, CA
CATEGORIES:fitness,hike,nature,networking,outdoor,pet friendly
ATTACH;FMTTYPE=image/jpeg:https://www.tap-oc.org/wp-content/uploads/667707951_1256840366653019_1736400500945250901_n.jpg
ORGANIZER;CN="Taiwanese American Professionals - Orange County (TAP-OC)":MAILTO:info@tap-oc.org
END:VEVENT
BEGIN:VEVENT
DTSTART;TZID=America/Los_Angeles:20260605T080000
DTEND;TZID=America/Los_Angeles:20260607T190000
DTSTAMP:20260423T163614
CREATED:20260403T031350Z
LAST-MODIFIED:20260403T031350Z
UID:7219-1780646400-1780858800@www.tap-oc.org
SUMMARY:06/05/2026 TAP Southern California Camping Trip
DESCRIPTION:Join TAP-OC\, TAP-LA\, and TAP-SD for a weekend camping trip\, and come meet TAP locals from your neighboring Southern California chapters! Whether you’re a seasoned camper or a first-timer\, this event is designed for everyone to enjoy the great outdoors and create unforgettable memories.\n\nWilliam Heise County Park is located in a forest of pines and oaks in the Laguna Mountain Range\, just 10 minutes from Julian. It offers miles of scenic hiking trails\, several playgrounds\, and rangers-led activities.\n\nGet to know TAP members from OC\, LA\, & SD in a camping adventure complete with cooked meals\, games and outdoor recreation\, and warm s’mores over a campfire at a campground with flush toilets and hot coin-op showers. Cooked meals are provided the whole day for Saturday and Sunday. Participants should bring their own food for the Friday arrival night.\n\nRegister as an early bird for $65 by April 15!
URL:https://www.tap-oc.org/event/06-05-2026-tap-southern-california-camping-trip/
LOCATION:William Heise County Park\, 1585 Glenco Ln\, Julian\, CA
CATEGORIES:hike,nature,outdoor,social
ATTACH;FMTTYPE=image/jpeg:https://www.tap-oc.org/wp-content/uploads/661482245_1248000547537001_7990587726514701606_n.jpg
ORGANIZER;CN="Taiwanese American Professionals - Orange County (TAP-OC)":MAILTO:info@tap-oc.org
END:VEVENT
END:VCALENDAR