BEGIN:VCALENDAR
VERSION:2.0
PRODID:-//Taiwanese American Professionals - Orange County Chapter - ECPv6.15.18//NONSGML v1.0//EN
CALSCALE:GREGORIAN
METHOD:PUBLISH
X-ORIGINAL-URL:https://www.tap-oc.org
X-WR-CALDESC:Events for Taiwanese American Professionals - Orange County Chapter
REFRESH-INTERVAL;VALUE=DURATION:PT1H
X-Robots-Tag:noindex
X-PUBLISHED-TTL:PT1H
BEGIN:VTIMEZONE
TZID:America/Los_Angeles
BEGIN:DAYLIGHT
TZOFFSETFROM:-0800
TZOFFSETTO:-0700
TZNAME:PDT
DTSTART:20190310T100000
END:DAYLIGHT
BEGIN:STANDARD
TZOFFSETFROM:-0700
TZOFFSETTO:-0800
TZNAME:PST
DTSTART:20191103T090000
END:STANDARD
BEGIN:DAYLIGHT
TZOFFSETFROM:-0800
TZOFFSETTO:-0700
TZNAME:PDT
DTSTART:20200308T100000
END:DAYLIGHT
BEGIN:STANDARD
TZOFFSETFROM:-0700
TZOFFSETTO:-0800
TZNAME:PST
DTSTART:20201101T090000
END:STANDARD
BEGIN:DAYLIGHT
TZOFFSETFROM:-0800
TZOFFSETTO:-0700
TZNAME:PDT
DTSTART:20210314T100000
END:DAYLIGHT
BEGIN:STANDARD
TZOFFSETFROM:-0700
TZOFFSETTO:-0800
TZNAME:PST
DTSTART:20211107T090000
END:STANDARD
END:VTIMEZONE
BEGIN:VEVENT
DTSTART;TZID=America/Los_Angeles:20201010T140000
DTEND;TZID=America/Los_Angeles:20201010T150000
DTSTAMP:20260423T210427
CREATED:20201004T231957Z
LAST-MODIFIED:20201004T231957Z
UID:5037-1602338400-1602342000@www.tap-oc.org
SUMMARY:10/10 Mid-Autumn x Double Ten Mooncake Celebration
DESCRIPTION:? Have you ever wanted to learn how to make a traditional mooncake? Or wondered how you could add your own twist on a traditional mooncake filling? Come join us for a virtual cooking demo where we’ll show how to make a traditional lotus paste mooncake and how to make a matcha mooncake!\n———\n? Before the event ?\n1. Please pre-register via the Google form below to receive the meeting link!(https://forms.gle/EtPYDsh8THQt8tNt9)\nThe meeting link will be sent out to those who have signed up on Google (the link will not be shared on the FB event page) \n2. Prepare the following tools and ingredients to follow along: \nTools:\n– Measuring Spoon/Cups\n– Food Scale\n– Parchment Paper or Silicon Baking Mats\n– Pastry Brush\n– Baking Tray\n– Mooncake Molds – (e.g. https://www.amazon.com/…/ref=ppx_yo_dt_b_asin_title_o02…)\n– Rolling Pin \nIngredients for Lotus Seed Mooncake:\n– Golden Syrup\n– Lye Water\n– Neutral oil\n– Cake Flour\n– Lotus Seed Paste – (e.g. https://www.amazon.com/Lotus-Seed-Paste-16-oz/dp/B07YJ6Q4YH) \nIngredients for Matcha Mooncake filling:\n– Matcha Powder\n– Split Mung Beans\n– Salt\n– Sugar\n– Milk\n– Glutinous Rice Flour (Mochiko)\n– Neutral oil \nA detailed ingredient list and recipe will be shared closer to the event date \n?About TAP-OC?\nWe have (online) events almost every week! Join our weekly events and tell your friends! To stay tuned\, follow us on Instagram and Facebook “Taiwanese American Professionals – Orange County – TAP OC” for upcoming activities.
URL:https://www.tap-oc.org/event/10-10-mid-autumn-x-double-ten-mooncake-celebration/
CATEGORIES:celebration,cultural,foodie,virtual
ATTACH;FMTTYPE=image/jpeg:https://www.tap-oc.org/wp-content/uploads/2020/10/120300463_3682091078536913_7082538737713863455_n.jpg
ORGANIZER;CN="Taiwanese American Professionals - Orange County (TAP-OC)":MAILTO:info@tap-oc.org
END:VEVENT
BEGIN:VEVENT
DTSTART;TZID=America/Los_Angeles:20200910T190000
DTEND;TZID=America/Los_Angeles:20200910T200000
DTSTAMP:20260423T210427
CREATED:20200902T020630Z
LAST-MODIFIED:20200902T020630Z
UID:5031-1599764400-1599768000@www.tap-oc.org
SUMMARY:09/10 Hip Hop Workshop with JD
DESCRIPTION:Get ready to bust a move at our virtual hip hop dance workshop! We will be learning a fun Beginner’s piece from JD Vera Cruz\, who will be joining us live from New Mexico! No experience required.\nPlease pre-register via the Google form below to receive the meeting link!\nhttps://forms.gle/MVA4QD9bYbawhWUR7\nCheck back soon for more information about our instructor!\n 
URL:https://www.tap-oc.org/event/09-10-hip-hop-workshop-with-jd/
CATEGORIES:fitness,virtual
ATTACH;FMTTYPE=image/jpeg:https://www.tap-oc.org/wp-content/uploads/2020/09/118011829_3574682949277727_2554515748024127427_o.jpg
ORGANIZER;CN="Taiwanese American Professionals - Orange County (TAP-OC)":MAILTO:info@tap-oc.org
END:VEVENT
BEGIN:VEVENT
DTSTART;TZID=America/Los_Angeles:20200813T183000
DTEND;TZID=America/Los_Angeles:20200813T193000
DTSTAMP:20260423T210427
CREATED:20200720T230245Z
LAST-MODIFIED:20200720T230245Z
UID:5019-1597343400-1597347000@www.tap-oc.org
SUMMARY:08/13 A Dietitian's Guide to Healthy Eating During a Pandemic
DESCRIPTION:Whether we like it or not\, many of us have started staying at home a lot more the past few months! But how do we stay healthy and get the nutrients we need to live life well during the current pandemic? Please join us as we learn some helpful tips and tricks for home cooking and healthy eating from Registered Dietitian Nutritionist\, Joyce Dyer! \nIn this informative webinar\, we will cover the following topics:\n*General Nutrition\n*How to Navigate a Grocery Store\n*How to Read a Nutrition Label\n*How to Stock your Pantry\, Fridge\, & Freezer\n*Food Safety\n*Important Minerals & Vitamins\n*Healthy Meals & Snack Ideas\n*Tips for Ordering Out\n…and more! \nWe will also have a Q&A section! \nPlease pre-register by clicking below to receive the virtual meeting link:\nhttps://forms.gle/UobLkxMTupa4YiuZ7 \nAbout the Speaker:\nJoyce Dyer is a registered dietitian nutritionist whom has coordinated with medical director physicians\, nursing\, and regional executive chefs to provide best care practices for her patients\, as well as employees. With nearly a decade of experience in the field of food and nutrition\, Joyce has been blessed to work with companies like AltaMed\, Disneyland\, Sodexo and Hoag Hospital. She is currently a clinical RD consultant for PostAcute/Long Term Care facilities in the Los Angeles area. As a childhood leukemia cancer survivor\, she believes that a positive mindset\, well balanced diet and mind is the key to a fulfilling\, healthy\, and joyful life.
URL:https://www.tap-oc.org/event/08-13-a-dietitians-guide-to-healthy-eating-during-a-pandemic/
CATEGORIES:fitness,virtual
ATTACH;FMTTYPE=image/jpeg:https://www.tap-oc.org/wp-content/uploads/2020/07/115860425_3465146916897998_5840296504892709802_n.jpg
END:VEVENT
BEGIN:VEVENT
DTSTART;TZID=America/Los_Angeles:20200728T180000
DTEND;TZID=America/Los_Angeles:20200728T190000
DTSTAMP:20260423T210427
CREATED:20200714T073020Z
LAST-MODIFIED:20200714T073020Z
UID:5009-1595959200-1595962800@www.tap-oc.org
SUMMARY:07/28 Tabata Tuesday & Foam Roller 101
DESCRIPTION:If you’ve been missing our weekly Tuesday workouts\, you’re in luck\, because we’re back with a special one time engagement! Please join us for a virtual 30-min Tabata session followed by a 15-min foam rolling demo led by David Valle\, DC! \nDr. David is a chiropractor at True Health & Wellness in Tustin\, CA. He studied Kinesiology and has more than 10 years of personal training experience! \nNot sure what Tabata is? This type of training is a high-intensity interval training (HIIT) workout that alternates between 20-second intervals performed at maximum effort and 10-second stages of rest. The sets are repeated eight times for efficient\, quick four-minute workouts. It’s hard work\, but it’ll be over before you know it! \nWhat’s so great about foam rolling? This self-myofascial release (SMR) technique can help relieve muscle tightness\, soreness\, and inflammation\, and increase your joint range of motion! Many people find it to be an effective tool to add to your warm-up or cool-down\, before and after exercise. \nDon’t have a foam roller? No problem! A tennis ball or rolling pin can work in a pinch! Be sure to have a towel and water on hand as well\, and get ready to burn some major calories! ????
URL:https://www.tap-oc.org/event/07-28-tabata-tuesday-foam-roller-101/
CATEGORIES:fitness,virtual
ATTACH;FMTTYPE=image/jpeg:https://www.tap-oc.org/wp-content/uploads/2020/07/107463565_3440212396058117_5690126383691336616_o.jpg
ORGANIZER;CN="Taiwanese American Professionals - Orange County (TAP-OC)":MAILTO:info@tap-oc.org
END:VEVENT
BEGIN:VEVENT
DTSTART;TZID=America/Los_Angeles:20200723T193000
DTEND;TZID=America/Los_Angeles:20200723T203000
DTSTAMP:20260423T210427
CREATED:20200714T071635Z
LAST-MODIFIED:20200714T071635Z
UID:5002-1595532600-1595536200@www.tap-oc.org
SUMMARY:07/23 Board Info Session
DESCRIPTION:? If you’ve been looking to volunteer\, get involved and learn more about what it is like to be a part of the TAP-OC Board and Committee\, we will be hosting a virtual info session as the current board members share their experiences! \n❓Bring any questions about what it’s like to be on the board or part of a committee\, or what the expectations of each role are. \n? To apply\, please complete this form: https://forms.gle/D5dnYfqPGiquAjSB8 \nWhat does it mean to be part of the board and committee? To us\, it means…\n– Being part of a greater cause and making a bigger impact that’s more than just ourselves.\n– Developing leadership skills and expanding into areas of expertise outside of your day-to-day job.\n– Participating in team building activities and individual growth opportunities.\n– Bonding with a close-knit of awesome\, motivated people as One Tappy Family! \nFor any questions\, please contact yentso.kuo@tap-oc.org. \nThank you! \nSincerely yours\,\nTAP-OC Board ? \n**You do NOT need to be Taiwanese or Taiwanese-American to apply to be on our board — all cultures and backgrounds are accepted and love.
URL:https://www.tap-oc.org/event/07-23-board-info-session/
CATEGORIES:professional,virtual
ATTACH;FMTTYPE=image/jpeg:https://www.tap-oc.org/wp-content/uploads/2020/07/107094301_3441463829266307_7582461717169018268_n.jpg
ORGANIZER;CN="Taiwanese American Professionals - Orange County (TAP-OC)":MAILTO:info@tap-oc.org
END:VEVENT
BEGIN:VEVENT
DTSTART;TZID=America/Los_Angeles:20200702T190000
DTEND;TZID=America/Los_Angeles:20200702T200000
DTSTAMP:20260423T210427
CREATED:20200630T193100Z
LAST-MODIFIED:20200630T193100Z
UID:4991-1593716400-1593720000@www.tap-oc.org
SUMMARY:07/02 Stay At Home Scavenger Hunt
DESCRIPTION:Wondering what else to do during the pandemic lock down at home? Do you have an adventurous soul? Are you looking for something fun with your friends? \nTo kick off the 4th of July long weekend\, join the very first TAP-OC Stay-At-Home Scavenger Hunt with us! With the case numbers going up day by day?\, TAP-OC has been brainstorming about ways to keep us connected while keeping everyone home and safe☺️. On Thursday\, we will break up into groups online and compete to see who’s the real Scavenger Hunt Master ? \n? Date: Thursday\, July 2nd 2020\n? Time: 7:00PM (PST)\n?Where: Zoom meeting\n?? How: Register on Google Form & Click “Going” here \n⭐️ Google Registration: https://forms.gle/pG4B7v7KVa9z2NtP8 \n**Please sign up via the Google Form and click “Going” on this event page. We will send out the Zoom link via email to those who signed up on Google (please note that we will NOT post the link on this page).** \nIt will be a fun and interesting night\, let alone chatting with your friends and meeting new folks! Please DM us if you have any questions.
URL:https://www.tap-oc.org/event/07-02-stay-at-home-scavenger-hunt/
CATEGORIES:social,virtual
ATTACH;FMTTYPE=image/jpeg:https://www.tap-oc.org/wp-content/uploads/2020/06/104433143_3400819389997418_3735556613631367695_o.jpg
ORGANIZER;CN="Taiwanese American Professionals - Orange County (TAP-OC)":MAILTO:info@tap-oc.org
END:VEVENT
END:VCALENDAR