BEGIN:VCALENDAR
VERSION:2.0
PRODID:-//Taiwanese American Professionals - Orange County Chapter - ECPv6.15.18//NONSGML v1.0//EN
CALSCALE:GREGORIAN
METHOD:PUBLISH
X-WR-CALNAME:Taiwanese American Professionals - Orange County Chapter
X-ORIGINAL-URL:https://www.tap-oc.org
X-WR-CALDESC:Events for Taiwanese American Professionals - Orange County Chapter
REFRESH-INTERVAL;VALUE=DURATION:PT1H
X-Robots-Tag:noindex
X-PUBLISHED-TTL:PT1H
BEGIN:VTIMEZONE
TZID:America/Los_Angeles
BEGIN:DAYLIGHT
TZOFFSETFROM:-0800
TZOFFSETTO:-0700
TZNAME:PDT
DTSTART:20240310T100000
END:DAYLIGHT
BEGIN:STANDARD
TZOFFSETFROM:-0700
TZOFFSETTO:-0800
TZNAME:PST
DTSTART:20241103T090000
END:STANDARD
BEGIN:DAYLIGHT
TZOFFSETFROM:-0800
TZOFFSETTO:-0700
TZNAME:PDT
DTSTART:20250309T100000
END:DAYLIGHT
BEGIN:STANDARD
TZOFFSETFROM:-0700
TZOFFSETTO:-0800
TZNAME:PST
DTSTART:20251102T090000
END:STANDARD
BEGIN:DAYLIGHT
TZOFFSETFROM:-0800
TZOFFSETTO:-0700
TZNAME:PDT
DTSTART:20260308T100000
END:DAYLIGHT
BEGIN:STANDARD
TZOFFSETFROM:-0700
TZOFFSETTO:-0800
TZNAME:PST
DTSTART:20261101T090000
END:STANDARD
END:VTIMEZONE
BEGIN:VEVENT
DTSTART;TZID=America/Los_Angeles:20250209T143000
DTEND;TZID=America/Los_Angeles:20250209T190000
DTSTAMP:20260424T130554
CREATED:20250208T014557Z
LAST-MODIFIED:20250208T014557Z
UID:6799-1739111400-1739127600@www.tap-oc.org
SUMMARY:2/9/2025 Superbowl Potluck
DESCRIPTION:Join us for a Superbowl Potluck\nLocation: TA Archives Center Irvine\nTo enter you must bring a dish to share with others. Please bring your own alcohol and dress for the team you plan to support. There will be a BBQ grill available and a large TV. Please be mindful of common allergies when you prepare food to share with others.
URL:https://www.tap-oc.org/event/2-9-2025-superbowl-potluck/
LOCATION:Taiwan Archive Center\, 22 Corporate Park\, Irvine\, CA\, United States
CATEGORIES:celebration,networking,social,sports
ATTACH;FMTTYPE=image/jpeg:https://www.tap-oc.org/wp-content/uploads/suoerbowl.jpg
ORGANIZER;CN="Taiwanese American Professionals - Orange County (TAP-OC)":MAILTO:info@tap-oc.org
END:VEVENT
END:VCALENDAR