BEGIN:VCALENDAR
VERSION:2.0
PRODID:-//Taiwanese American Professionals - Orange County Chapter - ECPv6.15.18//NONSGML v1.0//EN
CALSCALE:GREGORIAN
METHOD:PUBLISH
X-ORIGINAL-URL:https://www.tap-oc.org
X-WR-CALDESC:Events for Taiwanese American Professionals - Orange County Chapter
REFRESH-INTERVAL;VALUE=DURATION:PT1H
X-Robots-Tag:noindex
X-PUBLISHED-TTL:PT1H
BEGIN:VTIMEZONE
TZID:America/Los_Angeles
BEGIN:DAYLIGHT
TZOFFSETFROM:-0800
TZOFFSETTO:-0700
TZNAME:PDT
DTSTART:20240310T100000
END:DAYLIGHT
BEGIN:STANDARD
TZOFFSETFROM:-0700
TZOFFSETTO:-0800
TZNAME:PST
DTSTART:20241103T090000
END:STANDARD
BEGIN:DAYLIGHT
TZOFFSETFROM:-0800
TZOFFSETTO:-0700
TZNAME:PDT
DTSTART:20250309T100000
END:DAYLIGHT
BEGIN:STANDARD
TZOFFSETFROM:-0700
TZOFFSETTO:-0800
TZNAME:PST
DTSTART:20251102T090000
END:STANDARD
BEGIN:DAYLIGHT
TZOFFSETFROM:-0800
TZOFFSETTO:-0700
TZNAME:PDT
DTSTART:20260308T100000
END:DAYLIGHT
BEGIN:STANDARD
TZOFFSETFROM:-0700
TZOFFSETTO:-0800
TZNAME:PST
DTSTART:20261101T090000
END:STANDARD
END:VTIMEZONE
BEGIN:VEVENT
DTSTART;TZID=America/Los_Angeles:20251101T120000
DTEND;TZID=America/Los_Angeles:20251101T150000
DTSTAMP:20260423T164449
CREATED:20251018T182031Z
LAST-MODIFIED:20251018T182031Z
UID:6977-1761998400-1762009200@www.tap-oc.org
SUMMARY:11/1 Pumpkin Carving with TAP-OC
DESCRIPTION:Get ready to slice\, scoop\, and sculpt your way into the fall spirit! \nJoin us for a festive Pumpkin Carving event at T.A. Archives — a cozy\, creative space perfect for an afternoon of Halloween-season fun. \nWhether you’re a carving pro or a first-time pumpkin artist\, we’ve got you covered — all materials will be provided!\n Entry Fee: $25\n Includes: Pumpkins\, carving tools\, and everything you need to bring your spooky (or cute!) creation to life.\n Bonus: Enjoy a warm\, relaxed atmosphere filled with fall vibes\, laughter\, and great company.\nDon’t miss out on this perfect weekend activity to unwind\, meet new friends\, and get into the autumn mood with TAP-OC.\n Spots fill up fast — RSVP via Zeffy!
URL:https://www.tap-oc.org/event/11-1-pumpkin-carving-with-tap-oc/
LOCATION:Taiwan Archive Center\, 22 Corporate Park\, Irvine\, CA\, United States
CATEGORIES:social
ATTACH;FMTTYPE=image/jpeg:https://www.tap-oc.org/wp-content/uploads/561264231_1120354303634960_4717912534037073210_n.jpg
ORGANIZER;CN="Taiwanese American Professionals - Orange County (TAP-OC)":MAILTO:info@tap-oc.org
END:VEVENT
BEGIN:VEVENT
DTSTART;TZID=America/Los_Angeles:20251120T190000
DTEND;TZID=America/Los_Angeles:20251120T220000
DTSTAMP:20260423T164449
CREATED:20260125T210704Z
LAST-MODIFIED:20260125T210704Z
UID:7017-1763665200-1763676000@www.tap-oc.org
SUMMARY:11/20 Hanger 24 TAPpy Hour
DESCRIPTION:Join TAP-OC for a midweek reset at Hangar 24 on Thursday\, November 20th from 7:00–10:00 PM! Come hang out with young professionals from across Orange County\, make new friends\, and reconnect with familiar faces over craft drinks and good vibes.\nWhether you’re coming straight from work or dropping by to unwind\, this is a low-pressure\, come-as-you-are mixer—perfect for:\n Expanding your professional network\n Meeting other Taiwanese / Asian American young professionals in OC\n Swapping career tips\, travel stories\, and weekend plans\n\n Location: Hangar 24 (Orange County) Date: Thursday\, November 20 Time: 7:00–10:00 PM Who: Open to all young professionals & friends of TAP-OC What to Expect: Casual networking\, great conversations\, and a relaxed hangout atmosphere\nCome for the drinks\, stay for the community.We’d love to see you there—bring a friend or two!
URL:https://www.tap-oc.org/event/11-20-hanger-24-tappy-hour/
LOCATION:Hanger 24\, 17877 Von Karman Ave\, Irvine\, CA\, United States
CATEGORIES:social
ORGANIZER;CN="Taiwanese American Professionals - Orange County (TAP-OC)":MAILTO:info@tap-oc.org
END:VEVENT
END:VCALENDAR