BEGIN:VCALENDAR
VERSION:2.0
PRODID:-//Taiwanese American Professionals - Orange County Chapter - ECPv6.15.18//NONSGML v1.0//EN
CALSCALE:GREGORIAN
METHOD:PUBLISH
X-ORIGINAL-URL:https://www.tap-oc.org
X-WR-CALDESC:Events for Taiwanese American Professionals - Orange County Chapter
REFRESH-INTERVAL;VALUE=DURATION:PT1H
X-Robots-Tag:noindex
X-PUBLISHED-TTL:PT1H
BEGIN:VTIMEZONE
TZID:America/Los_Angeles
BEGIN:DAYLIGHT
TZOFFSETFROM:-0800
TZOFFSETTO:-0700
TZNAME:PDT
DTSTART:20240310T100000
END:DAYLIGHT
BEGIN:STANDARD
TZOFFSETFROM:-0700
TZOFFSETTO:-0800
TZNAME:PST
DTSTART:20241103T090000
END:STANDARD
BEGIN:DAYLIGHT
TZOFFSETFROM:-0800
TZOFFSETTO:-0700
TZNAME:PDT
DTSTART:20250309T100000
END:DAYLIGHT
BEGIN:STANDARD
TZOFFSETFROM:-0700
TZOFFSETTO:-0800
TZNAME:PST
DTSTART:20251102T090000
END:STANDARD
BEGIN:DAYLIGHT
TZOFFSETFROM:-0800
TZOFFSETTO:-0700
TZNAME:PDT
DTSTART:20260308T100000
END:DAYLIGHT
BEGIN:STANDARD
TZOFFSETFROM:-0700
TZOFFSETTO:-0800
TZNAME:PST
DTSTART:20261101T090000
END:STANDARD
END:VTIMEZONE
BEGIN:VEVENT
DTSTART;TZID=America/Los_Angeles:20251017T190000
DTEND;TZID=America/Los_Angeles:20251017T220000
DTSTAMP:20260423T181705
CREATED:20251013T075149Z
LAST-MODIFIED:20251013T075216Z
UID:6935-1760727600-1760738400@www.tap-oc.org
SUMMARY:Halloween TAPpy Hour
DESCRIPTION:Tappy Hour is back with a spooky twist! \nJoin us and Taiwanese Junior Chamber of Commerce in Orange County (TJCCOC) for brews\, good vibes\, and even better company at Bootlegger’s Brewery in Costa Mesa \nWhether you’re here to network\, meet new friends\, or just enjoy happy hour\, this is THE place to be. Don’t miss it! \nTag your crew\, mark your calendars\, and let’s make it a night to remember.  We will be outside on the patio so please dress accordingly for the weather.\nRSVP here  https://forms.gle/qChggVfh2qyRnGN79\n==========================================\nDetails:\n Date: Friday\, October 17\, 2025\n Time: 7 PM to 10 PM – Come before 7pm to take advantage of the happy hour deals!\n Location: Bootlegger’s Brewery\n Dress Code: Halloween costumes encouraged \n\n Parking: Free Parking \nSee less
URL:https://www.tap-oc.org/event/halloween-tappy-hour/
LOCATION:Bootlegger’s Brewery\, 696 Randolph Av Ste B\, Costa Mesa\, CA\, 92626
CATEGORIES:networking,social
ATTACH;FMTTYPE=image/jpeg:https://www.tap-oc.org/wp-content/uploads/560542244_1114724327531291_6608907649363067103_n.jpg
ORGANIZER;CN="Taiwanese American Professionals - Orange County (TAP-OC)":MAILTO:info@tap-oc.org
END:VEVENT
END:VCALENDAR