BEGIN:VCALENDAR
VERSION:2.0
PRODID:-//Taiwanese American Professionals - Orange County Chapter - ECPv6.15.18//NONSGML v1.0//EN
CALSCALE:GREGORIAN
METHOD:PUBLISH
X-WR-CALNAME:Taiwanese American Professionals - Orange County Chapter
X-ORIGINAL-URL:https://www.tap-oc.org
X-WR-CALDESC:Events for Taiwanese American Professionals - Orange County Chapter
REFRESH-INTERVAL;VALUE=DURATION:PT1H
X-Robots-Tag:noindex
X-PUBLISHED-TTL:PT1H
BEGIN:VTIMEZONE
TZID:America/Los_Angeles
BEGIN:DAYLIGHT
TZOFFSETFROM:-0800
TZOFFSETTO:-0700
TZNAME:PDT
DTSTART:20160313T100000
END:DAYLIGHT
BEGIN:STANDARD
TZOFFSETFROM:-0700
TZOFFSETTO:-0800
TZNAME:PST
DTSTART:20161106T090000
END:STANDARD
BEGIN:DAYLIGHT
TZOFFSETFROM:-0800
TZOFFSETTO:-0700
TZNAME:PDT
DTSTART:20170312T100000
END:DAYLIGHT
BEGIN:STANDARD
TZOFFSETFROM:-0700
TZOFFSETTO:-0800
TZNAME:PST
DTSTART:20171105T090000
END:STANDARD
BEGIN:DAYLIGHT
TZOFFSETFROM:-0800
TZOFFSETTO:-0700
TZNAME:PDT
DTSTART:20180311T100000
END:DAYLIGHT
BEGIN:STANDARD
TZOFFSETFROM:-0700
TZOFFSETTO:-0800
TZNAME:PST
DTSTART:20181104T090000
END:STANDARD
BEGIN:DAYLIGHT
TZOFFSETFROM:-0800
TZOFFSETTO:-0700
TZNAME:PDT
DTSTART:20190310T100000
END:DAYLIGHT
BEGIN:STANDARD
TZOFFSETFROM:-0700
TZOFFSETTO:-0800
TZNAME:PST
DTSTART:20191103T090000
END:STANDARD
BEGIN:DAYLIGHT
TZOFFSETFROM:-0800
TZOFFSETTO:-0700
TZNAME:PDT
DTSTART:20200308T100000
END:DAYLIGHT
BEGIN:STANDARD
TZOFFSETFROM:-0700
TZOFFSETTO:-0800
TZNAME:PST
DTSTART:20201101T090000
END:STANDARD
END:VTIMEZONE
BEGIN:VEVENT
DTSTART;TZID=America/Los_Angeles:20190608T083000
DTEND;TZID=America/Los_Angeles:20190608T113000
DTSTAMP:20260424T074842
CREATED:20190603T221931Z
LAST-MODIFIED:20190603T221931Z
UID:2971-1559982600-1559993400@www.tap-oc.org
SUMMARY:06/08 Summer Food Bank Service
DESCRIPTION:Summer is here and so is our next community service event! Join TAP-OC as we volunteer at the Second Harvest Food Bank of Orange County. There are a limited number of spots available for volunteers\, so be sure to sign up ASAP if you missed our previous events! \nWe will be helping out by sorting and packaging fresh produce\, non-perishable food and food drive items. Together\, we are able to fight hunger in our community\, one step at a time. \n**Sign up here** https://feedoc.volunteerhub.com/event/index/8454851\nLocation: Second Harvest Food Bank (8014 Marine Way\, Irvine CA 92618) \n**Directions and Parking**\nPlease plan to arrive 10 – 15 minutes prior to the start of the shift to allow time to check in and begin on time.\n>> Map and directions to Second Harvest Food Bank: https://goo.gl/jZX9Ad\n>> Parking directions: https://goo.gl/tLEpqh \n**What to Wear and Expect**\n>> Closed-toed shoes are required.\n>> The temperature in the distribution center is similar to the temperature outside. We recommend wearing comfortable clothing accordingly.\n>> It is recommended not bringing any valuable items with you or leave them in your car.
URL:https://www.tap-oc.org/event/06-08-summer-food-bank-service/
LOCATION:Second Harvest Food Bank\, 8014 Marine Way\, Irvine\, CA\, 92618\, United States
CATEGORIES:indoor,service
ATTACH;FMTTYPE=image/jpeg:https://www.tap-oc.org/wp-content/uploads/60714524_2507698589309507_1770715411554238464_o.jpg
ORGANIZER;CN="Taiwanese American Professionals - Orange County (TAP-OC)":MAILTO:info@tap-oc.org
END:VEVENT
BEGIN:VEVENT
DTSTART;TZID=America/Los_Angeles:20190518T090000
DTEND;TZID=America/Los_Angeles:20190518T120000
DTSTAMP:20260424T074842
CREATED:20190506T175512Z
LAST-MODIFIED:20190506T175512Z
UID:2173-1558170000-1558180800@www.tap-oc.org
SUMMARY:05/18 OC Nature Restoration
DESCRIPTION:Living in OC\, have you ever paid a visit to the heritages in OC and learned about OC’s stories and history? TAP-OC is here to present you a great opportunity to learn more about our home Orange County while helping restoring the area with Heritage Museum of Orange County. \nHeritage Museum of Orange County is a cultural and natural history center dedicated to preserving\, promoting\, and restoring the heritage of Orange County and the surrounding region through quality hands-on educational programs for students and visitors of all ages. \nSign up the at below link today!\nhttps://forms.gle/FxuAPuvPCzrHrgGB6 \n>> Time <<\nSaturday\, May 18th\, 9:00 am-12:00 pm \n>> Location <<\n3101 West Harvard Street\nSanta Ana\, CA 92704 \n>> How we are going to help <<\nWe will be helping on trail maintenance\, nature observations\, trash cleanup\, etc. (More details to come.)\nAll equipment will be provided. \n>> What to Wear <<\n– Weather-appropriate work clothes\n– Close-toe walking shoes\n– Sunscreen\, sunglasses\, and sunhat \nWe will send out an email to you for the details and confirmation when the day gets closer. If you have any questions\, please contact us at tina.lee@tap-oc.org \nCheers\, \nTAP-OC
URL:https://www.tap-oc.org/event/05-18-oc-nature-restoration/
LOCATION:Heritage Museum Santa Ana\, 3101 W Harvard St\, Santa Ana\, CA\, 92704
CATEGORIES:nature,service
ATTACH;FMTTYPE=image/jpeg:https://www.tap-oc.org/wp-content/uploads/58669733_2464743360271697_7458778950857129984_o.jpg
ORGANIZER;CN="Taiwanese American Professionals - Orange County (TAP-OC)":MAILTO:info@tap-oc.org
END:VEVENT
BEGIN:VEVENT
DTSTART;TZID=America/Los_Angeles:20190420T090000
DTEND;TZID=America/Los_Angeles:20190420T123000
DTSTAMP:20260424T074842
CREATED:20190326T060146Z
LAST-MODIFIED:20190326T060146Z
UID:2051-1555750800-1555763400@www.tap-oc.org
SUMMARY:04/20 Earthroots Volunteering at Big Oak Canyon
DESCRIPTION:We’ve got big plans to make a real impact for the community here at TAP-OC. Are you ready to be a part of it? Earthroots is developing a 200-year plan for restoring and stewarding Big Oak Canyon and you are invited to assist with with these efforts! \nLimited spots available\, sign up here:\nhttps://docs.google.com/forms/d/1Wc0V899WlRjtKNHWg_LpgMuqCIqsL_q3Asv__tW9v40/edit \n*** All ages are welcome. Ages 12 and under require adult supervision. Ages 12-18 need an adult signature on the release form. This event will qualify for any high school students looking to complete their community service requirements. Please bring your verification form to the volunteer event to get it signed. \n>> Time <<\nSaturday\, April 20th\, 9am-12:30pm \n>> Location <<\nBig Oak Canyon (30464 Silverado Canyon Road\, Silverado Canyon\, CA\, 92676) \n>> How are we going to help <<\n1) Clear non-native plants\, trees\, and grasses from our 39-acre property\n2) Restore a seasonal wetland habitat\n3) Tend the orchard\n4) Litter removal\n5) Count animal/plant species\n6) Paint a shade structure and signs\n7) Enjoy the nature and some good workout with new friends! \n>> What to Bring <<\nAll the tools will be provided\, here are some suggestions of what you can bring:\nA comfortable backpack with…\n– Energizing\, healthy snacks & lunch\n– Plenty of water in a refillable container (there is limited potable water at Big Oak)\n– Extra set of clothes for the ride home (in case you get wet/muddy/dirty) \n>> What to Wear <<\n– Weather-appropriate work clothes (long-sleeve and long pants suggested)\n– Warm layers\n– Sturdy walking shoes\n– Sunscreen\, sunglasses\, and sunhat \nWe will send out an email to you for the details and confirmation. If you have any questions\, please contact us at tina.lee@tap-oc.org \nCheers\,\nTAP-OC
URL:https://www.tap-oc.org/event/04-20-earthroots-volunteering-at-big-oak-canyon/
LOCATION:Big Oak Canyon\, 30464 Silverado Canyon Rd\, Silverado\, CA\, 92676
CATEGORIES:nature,outdoor,service
ATTACH;FMTTYPE=image/jpeg:https://www.tap-oc.org/wp-content/uploads/TAP-OC-Earthroots-Service-Event.jpg
ORGANIZER;CN="Taiwanese American Professionals - Orange County (TAP-OC)":MAILTO:info@tap-oc.org
END:VEVENT
BEGIN:VEVENT
DTSTART;TZID=America/Los_Angeles:20190223T090000
DTEND;TZID=America/Los_Angeles:20190223T120000
DTSTAMP:20260424T074842
CREATED:20190208T003915Z
LAST-MODIFIED:20190208T003915Z
UID:1779-1550912400-1550923200@www.tap-oc.org
SUMMARY:02/23 Harvest Season Volunteer
DESCRIPTION:Spring is here and who’s ready for some fun time harvesting for a good cause? \nEvery year Orange County Food Access Coalition (OCFAC) harvests hundreds of thousands fresh products that would have otherwise gone to waste and was donated to those in need. This year\, let TAP-OC help! We are going to pick the excess fruits from the neighborhood backyard and have them sent to the Saddleback Church\, which will distribute the fruits to our neighbors in need. \nSign up here!\nhttps://goo.gl/forms/QZIy4JUEtcFq5S2K3 \n[Time] Saturday\, February 23rd\, 9:00am – 12:00pm\n[Location] Lake Forest / El Toro Park neighborhood (***Address will be sent along with the confirmation email.)\n[Attire] Sneakers and exercise outfit. Tools to glean will be provided.\n[Waiver] We will have printed waiver for you to sign on the day of. \nPlease sign up with the form by 2/19. We will send out an email confirmation with the volunteer details and address. If you have any questions\, please contact us at tina.lee@tap-oc.org \nHappy Chinese New Year! \nTAP-OC
URL:https://www.tap-oc.org/event/02-23-harvest-season-volunteer/
LOCATION:El Toro Community Park\, Los Alisos Blvd\, Lake Forest\, California\, 92630
CATEGORIES:outdoor,service
ATTACH;FMTTYPE=image/jpeg:https://www.tap-oc.org/wp-content/uploads/TAP-OC-Harvest-Event-February-2019.jpg
ORGANIZER;CN="Taiwanese American Professionals - Orange County (TAP-OC)":MAILTO:info@tap-oc.org
END:VEVENT
BEGIN:VEVENT
DTSTART;TZID=America/Los_Angeles:20181209T133000
DTEND;TZID=America/Los_Angeles:20181209T160000
DTSTAMP:20260424T074842
CREATED:20181109T071917Z
LAST-MODIFIED:20181109T071917Z
UID:1212-1544362200-1544371200@www.tap-oc.org
SUMMARY:12/09 Home for the Paw-lidays!
DESCRIPTION:Home for Holidays pet adoption fair is around the corner! Irvine Animal Center hosts the pet adoption event twice every year. Earlier this year there were more than 320 animals found their home and more than $45K was raised to support Irvine Animal Care Center. We would like to invite you to join the crew making OC a better place for animals! \nTime: Sunday\, December 9 at 1:45pm-4pm\nLocation: Irvine Animal Care Center (6443 Oak Canyon\, Irvine\, CA 92618) \n<<Sign up Here>>\nhttps://goo.gl/forms/AHbGLKJOywVzA0Gz2 \nWhat to expect:\n***Duties: Volunteers will work in small groups to break down the event – putting away tents\, tables\, chairs\, banners\, fencing\, signs\, trashcan\, and other items throughout the center.\n***Requirements: Must be able to push\, pull\, lift and carry up to 30 pounds.\n***Attire: Flat\, closed-toed shoes are required and pants are recommended. \nPlease sign up with the link by 12/2 (we have only 15 spots available\, first come first serve). We will send out an email to you for confirmation. If you have any questions\, please contact us at tina.lee@tap-oc.org
URL:https://www.tap-oc.org/event/12-09-home-for-the-paw-lidays/
LOCATION:Irvine Animal Care Center\, 6443 Oak Cyn\, Irvine\, CA\, 92618
CATEGORIES:animals,service
ATTACH;FMTTYPE=image/jpeg:https://www.tap-oc.org/wp-content/uploads/2018/11/taiwanese-american-professionals-xmas-pet-fair-2018.jpg
ORGANIZER;CN="Taiwanese American Professionals - Orange County (TAP-OC)":MAILTO:info@tap-oc.org
END:VEVENT
BEGIN:VEVENT
DTSTART;TZID=America/Los_Angeles:20181114T180000
DTEND;TZID=America/Los_Angeles:20181114T210000
DTSTAMP:20260424T074842
CREATED:20181030T010521Z
LAST-MODIFIED:20181030T010521Z
UID:1147-1542218400-1542229200@www.tap-oc.org
SUMMARY:11/14 TAPpy Hour x Toy Drive
DESCRIPTION:Missed us at our last TAPpy Hour? No worries\, we are back! Join us for our fall TAPpy Hour on 11/14 at Fireside Tavern in Costa Mesa. Guests will be able to enjoy gourmet food while catching up with the community! \nMore details about the toy drive and Happy Hour specials TBA! \nPlenty of free parking on site! Fireside Tavern is located inside the Crowne Plaza Hotel. \nIf you have any questions\, contact us at tina.lee@tap-oc.org or amanda.ni@tap-oc.org.
URL:https://www.tap-oc.org/event/11-14-tappy-hour-x-toy-drive/
LOCATION:Fireside Tavern\, 3131 Bristol Street\, Costa Mesa\, CA\, 92626
CATEGORIES:holiday,service,social,tappy hour
ATTACH;FMTTYPE=image/jpeg:https://www.tap-oc.org/wp-content/uploads/2018/10/tappy-hour-x-toy-drive-2018-taiwanese.jpg
ORGANIZER;CN="Taiwanese American Professionals - Orange County (TAP-OC)":MAILTO:info@tap-oc.org
END:VEVENT
BEGIN:VEVENT
DTSTART;TZID=America/Los_Angeles:20180923T080000
DTEND;TZID=America/Los_Angeles:20180923T110000
DTSTAMP:20260424T074842
CREATED:20180907T053409Z
LAST-MODIFIED:20180907T053409Z
UID:1074-1537689600-1537700400@www.tap-oc.org
SUMMARY:09/23 Race for the Cure
DESCRIPTION:You are invited to join TAP-OC as we partner with the Southern California Chapter of North America Taiwanese Women’s Association (NATWA) as “Team Taiwan” in the Susan G. Komen Race for the Cure! The Susan G. Komen Race for the Cure has been the most powerful event that raises significant funds and awareness for the breast cancer movement\, and honors those who have lost their battle with the disease. \nTo Register with Team Taiwan:\nVisit www.komenoc.org/race > Register Today\n> Join a Team > Login/Register\n> Search for Team Taiwan > Complete Registration*.\n*Registration Fees: Adult ($35) | Breast Cancer Survivors ($30) | Youth ($15). All ages are welcome! \nMeeting Place & Time:\n900 Newport Center Dr\, Newport Beach\, CA 92660\nTeam Taiwan will meet at 8 AM in front of the Newport Beach Marriott Hotel. We recommend to park at Corporate Plaza (PCH & Newport Center Dr.)\, and to walk to our meeting place at the Marriot Hotel. There is no need to shuttle. Our race time begins at approximately 9:45 AM and ends by 12:15 PM. Remember to bring sunscreen and your favorite thirst quencher. \nBackground Information:\nSusan G. Komen for the Cure is the world’s largest grassroots network of breast cancer survivors and activists fighting to save lives\, empower people\, ensure quality care for all and energize science to find the cures. Since 1982\, the organization has invested nearly $1 billion to fulfill the promise becoming one of the largest sources of nonprofit funds dedicated to the fight against breast cancer in the world. \nNorth America Taiwanese Women’s Association-Southern CA Chapter (NATWA-SCA) has been participating in this event since 2005 as “Team Taiwan”. We will love to invite all our friends to participate in this very meaningful activity to help raise funds for the breast cancer research and education. In the meantime\, it will also increase the visibility of Taiwan.
URL:https://www.tap-oc.org/event/09-23-race-for-the-cure/
LOCATION:CA
CATEGORIES:fitness,outdoor,service
ATTACH;FMTTYPE=image/jpeg:https://www.tap-oc.org/wp-content/uploads/2018/09/taiwanese-american-professionals-orange-county-race-for-cure-2018.jpg
ORGANIZER;CN="Taiwanese American Professionals - Orange County (TAP-OC)":MAILTO:info@tap-oc.org
END:VEVENT
BEGIN:VEVENT
DTSTART;TZID=America/Los_Angeles:20180811T123000
DTEND;TZID=America/Los_Angeles:20180811T153000
DTSTAMP:20260424T074842
CREATED:20180710T190911Z
LAST-MODIFIED:20180813T074855Z
UID:857-1533990600-1534001400@www.tap-oc.org
SUMMARY:08/11 Hungry to End Hunger
DESCRIPTION:Summer is here and so is our next community service event! Join TAP-OC as we volunteer at the Second Harvest Food Bank of Orange County. There are a limited number of spots available for volunteers\, so be sure to sign up ASAP if you missed our previous events! \nWe will be helping out by sorting and packaging fresh produce\, non-perishable food and food drive items. Together\, we are able to fight hunger in our community\, one step at a time. \n**Sign up here** https://feedoc.volunteerhub.com/Event/Index/6452103 (only 15 spots available.)\nLocation: Second Harvest Food Bank (8014 Marine Way\, Irvine CA 92618) \n**Directions and Parking**\nPlease plan to arrive 10 – 15 minutes prior to the start of the shift to allow time to check in and begin on time.\n>> Map and directions to Second Harvest Food Bank: https://goo.gl/jZX9Ad\n>> Parking directions: https://goo.gl/tLEpqh \n**What to Wear and Expect**\n>> Closed-toed shoes are required.\n>> The temperature in the distribution center is similar to the temperature outside. We recommend wearing comfortable clothing accordingly.\n>> It is recommended not bringing any valuable items with you or leave them in your car.
URL:https://www.tap-oc.org/event/08-11-community-service-hungry-to-end-hunger/
LOCATION:Second Harvest Food Bank\, 8014 Marine Way\, Irvine\, CA\, 92618\, United States
CATEGORIES:indoor,service
ATTACH;FMTTYPE=image/jpeg:https://www.tap-oc.org/wp-content/uploads/2018/07/taiwanese-american-professionals-orange-county-food-bank-18-2.jpg
ORGANIZER;CN="Taiwanese American Professionals - Orange County (TAP-OC)":MAILTO:info@tap-oc.org
END:VEVENT
BEGIN:VEVENT
DTSTART;TZID=America/Los_Angeles:20180715T163000
DTEND;TZID=America/Los_Angeles:20180715T190000
DTSTAMP:20260424T074842
CREATED:20180620T232728Z
LAST-MODIFIED:20180620T232850Z
UID:824-1531672200-1531681200@www.tap-oc.org
SUMMARY:07/15 Rescue Mission Service
DESCRIPTION:Out of sight doesn’t mean out of mind. In Orange County\, there are hundreds of homeless that are in need for help. Orange County Rescue Mission\, a non-profit organization based in OC\, has well-designed programs to help them in job training\, education\, shelter\, clothing\, food\, and so on. \nAs we being part of the community\, TAP-OC would like to invite you to join us to volunteer for the dinner service with Rescue Mission. We will only have 10 spots open for this volunteer. To secure your spot\, please sign up with the google link. \nhttps://docs.google.com/forms/d/e/1FAIpQLSdddxjkEdyDNyhKjRWLmABW49P_hgxAPjF_4wMKzdo1azHNgQ/viewform \n*** Time: 4:30pm-7:00pm\n*** Location: One Hope Drive\, Tustin\, CA 92782\n*** Duty: Serve dinner to the residents at Village of Hope and help clean up afterwards. \nWe will send out an email to you for the detail and confirmation. If you have any questions\, please contact us at tina.lee@tap-oc.org
URL:https://www.tap-oc.org/event/824/
LOCATION:Village Of Hope\, 1 Hope Dr\, Tustin\, California\, 92782
CATEGORIES:service
ATTACH;FMTTYPE=image/jpeg:https://www.tap-oc.org/wp-content/uploads/2018/06/taiwanese-american-professionals-orange-county-rescue-mission.jpg
ORGANIZER;CN="Taiwanese American Professionals - Orange County (TAP-OC)":MAILTO:info@tap-oc.org
END:VEVENT
BEGIN:VEVENT
DTSTART;TZID=America/Los_Angeles:20180603T150000
DTEND;TZID=America/Los_Angeles:20180603T170000
DTSTAMP:20260424T074842
CREATED:20180510T162556Z
LAST-MODIFIED:20180510T162812Z
UID:763-1528038000-1528045200@www.tap-oc.org
SUMMARY:06/03 Super Pet Adoption
DESCRIPTION:Pet adoption fair is coming back! Last year was a great success and we had lots of fun helping set up at the Home for Holiday animal adoption fair. If you missed it\, must sign up early this time! 🙂 \nTime: Sunday\, June 3 from 3pm-5pm (actual event starts from 10am-3pm\, you are welcome to come earlier to pet our furry friends.) \nLocation: Irvine Animal Care Center (6443 Oak Canyon\, Irvine\, CA 92618) \n<<Sign up Here>> \nhttps://docs.google.com/forms/d/e/1FAIpQLSfARMZZmLAfgx4AQMtzDcHLGTjRalD53jSR7eOMR0t1n0OVwQ/viewform \nWhat to expect:\n***Duties: Volunteers will work in small groups to break down the event – putting away tents\, tables\, chairs\, banners\, fencing\, signs\, trashcan\, and other items throughout the center.\n***Requirements: Must be able to push\, pull\, lift and carry up to 30 pounds. \nPlease sign up with the link by 5/27 (we have only 25 spots available\, first come first serve). We will send out an email to you for the detail and confirmation. If you have any questions\, please contact us at tina.lee@tap-oc.org
URL:https://www.tap-oc.org/event/06-03-super-pet-adoption/
LOCATION:Irvine Animal Care Center\, 6443 Oak Cyn\, Irvine\, CA\, 92618
CATEGORIES:animals,service
ORGANIZER;CN="Taiwanese American Professionals - Orange County (TAP-OC)":MAILTO:info@tap-oc.org
END:VEVENT
BEGIN:VEVENT
DTSTART;TZID=America/Los_Angeles:20180422T094500
DTEND;TZID=America/Los_Angeles:20180422T120000
DTSTAMP:20260424T074842
CREATED:20180327T164857Z
LAST-MODIFIED:20180406T000135Z
UID:389-1524390300-1524398400@www.tap-oc.org
SUMMARY:04/22 Earth Day Beach Clean-Up
DESCRIPTION:What better way to celebrate Earth Day than a beach clean-up with TAP-OC? On April 22\, We invite you to join us at our next community service event in Huntington Beach as we partner with Orange County Coastkeeper. \n** Time: Sunday\, April 22nd\, 10:00am-12:00pm (meet at 9:45am)\n** Location: 22355 Pacific Coast Hwy\, Huntington Beach\, CA 92646 (Tower#2) \nTo sign up\, please fill out below google doc and enter “TAP-OC” for the group name.\nhttps://docs.google.com/forms/d/e/1FAIpQLSdFPl2xhWNlO-e6agG9UQ46qYgKSZmg2i5TYhMGj-JESQd95w/viewform \n** Parking: Let the parking attendant know that you are there for the “Beach Cleanup” to receive FREE parking.\n** Come prepared!\n= Closed-toed shoes\n= Comfortable\, active and weather-appropriate clothing\n= Sun protection (e.g. Hat\, Sunglasses\, Sunscreen\, etc.)\n= Reusable water bottle\n= BYO Bag\, Bucket\, and/or Gloves (bags and gloves will be provided with one dollar donation\, but it is recommended to bring your own reusable bag and gloves.) \nIf you have any questions\, feel free to contact us at tina.lee@tap-oc.org
URL:https://www.tap-oc.org/event/earth-day-beach-clean-up/
LOCATION:CA
CATEGORIES:service
ORGANIZER;CN="Taiwanese American Professionals - Orange County (TAP-OC)":MAILTO:info@tap-oc.org
END:VEVENT
BEGIN:VEVENT
DTSTART;TZID=America/Los_Angeles:20180317T123000
DTEND;TZID=America/Los_Angeles:20180317T153000
DTSTAMP:20260424T074842
CREATED:20180315T063913Z
LAST-MODIFIED:20180405T233726Z
UID:325-1521289800-1521300600@www.tap-oc.org
SUMMARY:03/17 OC Food Bank
DESCRIPTION:Join TAP-OC in our next Community Service event as we volunteer at the Second Harvest Food Bank of Orange County! We will be helping out by sorting and packaging fresh produce\, non-perishable food and food drive items. Together\, we are able to fight hunger in our community\, one step at a time. There are a limited number of spots available for volunteers\, so be sure to sign up ASAP if you want to help make a difference! \n**Sign up here** https://feedoc.volunteerhub.com/Event/Index/5424994 (only 20 spots available) All spots have been filled!\nLocation: Second Harvest Food Bank (8014 Marine Way\, Irvine CA 92618) \n**Directions and Parking**\nPlease plan to arrive 10 – 15 minutes prior to the start of the shift to allow time to check in and begin on time.\n>> Map and directions to Second Harvest Food Bank: https://goo.gl/jZX9Ad\n>> Parking directions: https://goo.gl/tLEpqh  \n**What to Wear and Expect**\n>> Closed-toed shoes are required.\n>> The temperature in the distribution center is similar to the temperature outside. We recommend wearing comfortable clothing accordingly.\n>> It is recommended not bringing any valuable items with you or leave them in your car.
URL:https://www.tap-oc.org/event/oc-food-bank/
LOCATION:Second Harvest Food Bank\, 8014 Marine Way\, Irvine\, CA\, 92618\, United States
CATEGORIES:service
ORGANIZER;CN="Taiwanese American Professionals - Orange County (TAP-OC)":MAILTO:info@tap-oc.org
END:VEVENT
BEGIN:VEVENT
DTSTART;TZID=America/Los_Angeles:20171209T100000
DTEND;TZID=America/Los_Angeles:20171209T120000
DTSTAMP:20260424T074842
CREATED:20180404T195851Z
LAST-MODIFIED:20180405T234302Z
UID:611-1512813600-1512820800@www.tap-oc.org
SUMMARY:12/09 Pet Adoption Fair
DESCRIPTION:Irvine Animal Center has been hosting its Home for Holidays adoption fair every year and this year we would like to invite you to help out and check out the cute rescued animals! (Dinner together afterwards!) \nTime: Saturday\, December 9 at 10am-12pm\nLocation: Irvine Animal Care Center (6443 Oak Canyon\, Irvine\, CA 92618) \nWhat to expect:\n***Duties: Set up tents\, tables\, chairs\, banners\, fencing\, signs\, trashcans and other items throughout the Center.\n***Requirements: Must be able to push\, pull\, lift and carry up to 30 pounds. \nPlease RSVP at below link by 11/20. We will send out an email to you for the details. If you have any questions\, please contact us at tina.lee@tap-oc.org
URL:https://www.tap-oc.org/event/pet-adoption-fair/
LOCATION:Irvine Animal Care Center\, 6443 Oak Cyn\, Irvine\, CA\, 92618
CATEGORIES:animals,service
ORGANIZER;CN="Taiwanese American Professionals - Orange County (TAP-OC)":MAILTO:info@tap-oc.org
END:VEVENT
BEGIN:VEVENT
DTSTART;TZID=America/Los_Angeles:20171118T110000
DTEND;TZID=America/Los_Angeles:20171118T140000
DTSTAMP:20260424T074842
CREATED:20180404T200738Z
LAST-MODIFIED:20180405T234317Z
UID:614-1511002800-1511013600@www.tap-oc.org
SUMMARY:11/18 Holiday Toy Drive Luncheon
DESCRIPTION:Thanksgiving is just around the corner and it is the perfect time to give back to the community! \nThis holiday season\, Taiwanese American Professionals – Orange County (TAP-OC) and OCTW are teaming up to host a Holiday Toy Drive Luncheon! Our goal this year is to provide 50 kids with toys this holiday season. Please come out\, support the kids and our community. \nDate and Time: November 18th 11:00am – 2:00pm\nLocation: 2901 W. MacArthur Blvd. #115 Santa Ana\, CA 92704\nTicket: $15 – includes lunch by O’Shine and a sponsored toy that will be donated to a kid in need. (Thanks to Sunlite Industrial Corp.!) \nCash and Venmo payments will be accepted at the door! \nIf you can’t make it\, you can still donate a toy to someone in need! Please Venmo TAP-OC or reach out to one of our boardmembers. \nOPTIONAL: \nOCTW and TAP-OC will also be supporting Samaritan’s Purse project\, Operation Christmas Child. Their mission is to provide local partners around the world with shoeboxes filled with small toys and school supplies as a means of reaching out to children in their own communities. Samaritan’s Purse provides these boxes to children affected by war\, poverty\, natural disaster\, famine and disease. \nWe ask that if you’re interested to participate in this great project. For all who participate\, there will be a competition for the best shoebox. Winner will receive a $50 gift card! Sound tempting? Invite your friends to join the feast of love and delicious Taiwanese food now!
URL:https://www.tap-oc.org/event/holiday-toy-drive-luncheon/
LOCATION:TECO (Santa Ana)\, 2901 W. MacArthur Blvd. #115\, Santa Ana\, CA\, 92704
CATEGORIES:indoor,service
ORGANIZER;CN="Taiwanese American Professionals - Orange County (TAP-OC)":MAILTO:info@tap-oc.org
END:VEVENT
BEGIN:VEVENT
DTSTART;TZID=America/Los_Angeles:20170924T094500
DTEND;TZID=America/Los_Angeles:20170924T121500
DTSTAMP:20260424T074842
CREATED:20180404T202025Z
LAST-MODIFIED:20180405T234504Z
UID:625-1506246300-1506255300@www.tap-oc.org
SUMMARY:09/24 Susan G. Komen Race for the Cure
DESCRIPTION:You are invited to join TAP-OC as we partner with the Southern California Chapter of North America Taiwanese Women’s Association (NATWA) as “Team Taiwan” in the Susan G. Komen Race for the Cure! The Susan G. Komen Race for the Cure has been the most powerful event that raises significant funds and awareness for the breast cancer movement\, and honors those who have lost their battle with the disease. \nTo Register with Team Taiwan:\nVisit www.komenoc.org/race > Register Today\n> Join a Team > Login/Register\n> Search for Team Taiwan > Complete Registration*.\n*Registration Fees: Adult ($35) | Breast Cancer Survivors ($30) | Youth ($15). All ages are welcome! \nMeeting Place & Time:\n900 Newport Center Dr\, Newport Beach\, CA 92660\nTeam Taiwan will meet at 9:15 AM in front of the Newport Beach Marriott Hotel. We recommend to park at Corporate Plaza (PCH & Newport Center Dr.)\, and to walk to our meeting place at the Marriot Hotel. There is no need to shuttle. Our race time begins at approximately 9:45 AM and ends by 12:15 PM. Remember to bring sunscreen and your favorite thirst quencher. \nBackground Information:\nSusan G. Komen for the Cure is the world’s largest grassroots network of breast cancer survivors and activists fighting to save lives\, empower people\, ensure quality care for all and energize science to find the cures. Since 1982\, the organization has invested nearly $1 billion to fulfill the promise becoming one of the largest sources of nonprofit funds dedicated to the fight against breast cancer in the world. \nNorth America Taiwanese Women’s Association-Southern CA Chapter (NATWA-SCA) has been participating in this event since 2005 as “Team Taiwan”. We will love to invite all our friends to participate in this very meaningful activity to help raise funds for the breast cancer research and education. In the meantime\, it will also increase the visibility of Taiwan.
URL:https://www.tap-oc.org/event/susan-g-komen-race-for-the-cure/
LOCATION:CA
CATEGORIES:fitness,outdoor,service
ORGANIZER;CN="Taiwanese American Professionals - Orange County (TAP-OC)":MAILTO:info@tap-oc.org
END:VEVENT
END:VCALENDAR