BEGIN:VCALENDAR
VERSION:2.0
PRODID:-//Taiwanese American Professionals - Orange County Chapter - ECPv6.15.18//NONSGML v1.0//EN
CALSCALE:GREGORIAN
METHOD:PUBLISH
X-WR-CALNAME:Taiwanese American Professionals - Orange County Chapter
X-ORIGINAL-URL:https://www.tap-oc.org
X-WR-CALDESC:Events for Taiwanese American Professionals - Orange County Chapter
REFRESH-INTERVAL;VALUE=DURATION:PT1H
X-Robots-Tag:noindex
X-PUBLISHED-TTL:PT1H
BEGIN:VTIMEZONE
TZID:America/Los_Angeles
BEGIN:DAYLIGHT
TZOFFSETFROM:-0800
TZOFFSETTO:-0700
TZNAME:PDT
DTSTART:20240310T100000
END:DAYLIGHT
BEGIN:STANDARD
TZOFFSETFROM:-0700
TZOFFSETTO:-0800
TZNAME:PST
DTSTART:20241103T090000
END:STANDARD
BEGIN:DAYLIGHT
TZOFFSETFROM:-0800
TZOFFSETTO:-0700
TZNAME:PDT
DTSTART:20250309T100000
END:DAYLIGHT
BEGIN:STANDARD
TZOFFSETFROM:-0700
TZOFFSETTO:-0800
TZNAME:PST
DTSTART:20251102T090000
END:STANDARD
BEGIN:DAYLIGHT
TZOFFSETFROM:-0800
TZOFFSETTO:-0700
TZNAME:PDT
DTSTART:20260308T100000
END:DAYLIGHT
BEGIN:STANDARD
TZOFFSETFROM:-0700
TZOFFSETTO:-0800
TZNAME:PST
DTSTART:20261101T090000
END:STANDARD
END:VTIMEZONE
BEGIN:VEVENT
DTSTART;TZID=America/Los_Angeles:20251026T080000
DTEND;TZID=America/Los_Angeles:20251026T120000
DTSTAMP:20260423T222941
CREATED:20251018T181620Z
LAST-MODIFIED:20251018T181620Z
UID:6974-1761465600-1761480000@www.tap-oc.org
SUMMARY:10/26 Seal Beach Cleanup
DESCRIPTION:Come with us as TAP-OC co-hosts a Halloween Beach Clean Up with Surfrider North OC and our community partner Rotary Club of Westminster\, along with Rotary Club of Santa Ana\, Yorba Linda Sunrise Rotary\, Newport-Irvine Rotary and NEOC Leadership Rotary in a multi-community organizational effort! \nBring your family and friends and make new acquaintances to raise awareness about litter and plastic pollution while serving our Orange County Community! \nIf you have high school relatives that need hours\, hours will be provided by SurfRider North OC! \n Date: Sun\, Oct 26\, 2025\n Time: 8:00 AM – 12:00 PM\nLocation: 15 1st St\, Seal Beach CA\nThis is SurfRider’s 5th annual costume cleanup. Feel free to come out dressed up. \nBefore coming out:\n– Bring reusable water bottle\, reusable gloves (gardening or mechanic)\, and sun protection.\n– Avoid bringing plastic bottles\, bags of chips\, and other single use plastic products.\n– We recommend wearing a hat\, sunglasses\, shorts\, and flip flops.\n– Dress for the beach. \nArriving:\n– Parking is NOT free — $2/hr\, capped at $10/day — carpooling is recommended.\n– Check in at the Surfrider popup tent.\n– Bags will be provided.
URL:https://www.tap-oc.org/event/10-26-seal-beach-cleanup/
CATEGORIES:outdoor,service
ATTACH;FMTTYPE=image/jpeg:https://www.tap-oc.org/wp-content/uploads/565179210_1121410336862690_7130898590274989418_n.jpg
END:VEVENT
END:VCALENDAR