BEGIN:VCALENDAR
VERSION:2.0
PRODID:-//Taiwanese American Professionals - Orange County Chapter - ECPv6.15.18//NONSGML v1.0//EN
CALSCALE:GREGORIAN
METHOD:PUBLISH
X-ORIGINAL-URL:https://www.tap-oc.org
X-WR-CALDESC:Events for Taiwanese American Professionals - Orange County Chapter
REFRESH-INTERVAL;VALUE=DURATION:PT1H
X-Robots-Tag:noindex
X-PUBLISHED-TTL:PT1H
BEGIN:VTIMEZONE
TZID:America/Los_Angeles
BEGIN:DAYLIGHT
TZOFFSETFROM:-0800
TZOFFSETTO:-0700
TZNAME:PDT
DTSTART:20240310T100000
END:DAYLIGHT
BEGIN:STANDARD
TZOFFSETFROM:-0700
TZOFFSETTO:-0800
TZNAME:PST
DTSTART:20241103T090000
END:STANDARD
BEGIN:DAYLIGHT
TZOFFSETFROM:-0800
TZOFFSETTO:-0700
TZNAME:PDT
DTSTART:20250309T100000
END:DAYLIGHT
BEGIN:STANDARD
TZOFFSETFROM:-0700
TZOFFSETTO:-0800
TZNAME:PST
DTSTART:20251102T090000
END:STANDARD
BEGIN:DAYLIGHT
TZOFFSETFROM:-0800
TZOFFSETTO:-0700
TZNAME:PDT
DTSTART:20260308T100000
END:DAYLIGHT
BEGIN:STANDARD
TZOFFSETFROM:-0700
TZOFFSETTO:-0800
TZNAME:PST
DTSTART:20261101T090000
END:STANDARD
END:VTIMEZONE
BEGIN:VEVENT
DTSTART;TZID=America/Los_Angeles:20250905T183000
DTEND;TZID=America/Los_Angeles:20250905T220000
DTSTAMP:20260424T012016
CREATED:20250829T015303Z
LAST-MODIFIED:20250829T015303Z
UID:6895-1757097000-1757109600@www.tap-oc.org
SUMMARY:9/5/2025 TAP-OC TAPpy Hour
DESCRIPTION:TAP-OC HAPPY HOUR is BACK! \nJoin us for good vibes\, drinks\, and a night of connecting with the OC community! Whether you’re here to network\, meet new friends\, or just enjoy happy hour\, this is THE place to be. Don’t miss it! \nTag your crew\, mark your calendars\, and let’s make it a night to remember.  We will be outside on the patio so please dress accordingly for the weather.\nSign up via link to reserve your spot for an unforgettable evening! \n\nDetails:\n Date: Friday\, September 5\, 2025\n Time: 6:30 to 10 PM – Come before 7pm to take advantage of the happy hour deals!\n Location: Warehouse 72\, 17900 Jamboree Rd\, Irvine\, CA 92614\n Parking: First 3 hours free with validation at Hyatt Regency Irvine Self Parking Lot
URL:https://www.tap-oc.org/event/9-5-2025-tap-oc-tappy-hour/
LOCATION:Warehouse 72\, 17900 Jamboree Rd\, Irvine\, CA\, 92614\, United States
CATEGORIES:networking,professional,social,tappy hour
ATTACH;FMTTYPE=image/jpeg:https://www.tap-oc.org/wp-content/uploads/sept-happy.jpg
ORGANIZER;CN="Taiwanese American Professionals - Orange County (TAP-OC)":MAILTO:info@tap-oc.org
END:VEVENT
END:VCALENDAR