BEGIN:VCALENDAR
VERSION:2.0
PRODID:-//Taiwanese American Professionals - Orange County Chapter - ECPv6.15.18//NONSGML v1.0//EN
CALSCALE:GREGORIAN
METHOD:PUBLISH
X-ORIGINAL-URL:https://www.tap-oc.org
X-WR-CALDESC:Events for Taiwanese American Professionals - Orange County Chapter
REFRESH-INTERVAL;VALUE=DURATION:PT1H
X-Robots-Tag:noindex
X-PUBLISHED-TTL:PT1H
BEGIN:VTIMEZONE
TZID:America/Los_Angeles
BEGIN:DAYLIGHT
TZOFFSETFROM:-0800
TZOFFSETTO:-0700
TZNAME:PDT
DTSTART:20180311T100000
END:DAYLIGHT
BEGIN:STANDARD
TZOFFSETFROM:-0700
TZOFFSETTO:-0800
TZNAME:PST
DTSTART:20181104T090000
END:STANDARD
BEGIN:DAYLIGHT
TZOFFSETFROM:-0800
TZOFFSETTO:-0700
TZNAME:PDT
DTSTART:20190310T100000
END:DAYLIGHT
BEGIN:STANDARD
TZOFFSETFROM:-0700
TZOFFSETTO:-0800
TZNAME:PST
DTSTART:20191103T090000
END:STANDARD
BEGIN:DAYLIGHT
TZOFFSETFROM:-0800
TZOFFSETTO:-0700
TZNAME:PDT
DTSTART:20200308T100000
END:DAYLIGHT
BEGIN:STANDARD
TZOFFSETFROM:-0700
TZOFFSETTO:-0800
TZNAME:PST
DTSTART:20201101T090000
END:STANDARD
BEGIN:DAYLIGHT
TZOFFSETFROM:-0800
TZOFFSETTO:-0700
TZNAME:PDT
DTSTART:20210314T100000
END:DAYLIGHT
BEGIN:STANDARD
TZOFFSETFROM:-0700
TZOFFSETTO:-0800
TZNAME:PST
DTSTART:20211107T090000
END:STANDARD
BEGIN:DAYLIGHT
TZOFFSETFROM:-0800
TZOFFSETTO:-0700
TZNAME:PDT
DTSTART:20220313T100000
END:DAYLIGHT
BEGIN:STANDARD
TZOFFSETFROM:-0700
TZOFFSETTO:-0800
TZNAME:PST
DTSTART:20221106T090000
END:STANDARD
BEGIN:DAYLIGHT
TZOFFSETFROM:-0800
TZOFFSETTO:-0700
TZNAME:PDT
DTSTART:20230312T100000
END:DAYLIGHT
BEGIN:STANDARD
TZOFFSETFROM:-0700
TZOFFSETTO:-0800
TZNAME:PST
DTSTART:20231105T090000
END:STANDARD
BEGIN:DAYLIGHT
TZOFFSETFROM:-0800
TZOFFSETTO:-0700
TZNAME:PDT
DTSTART:20240310T100000
END:DAYLIGHT
BEGIN:STANDARD
TZOFFSETFROM:-0700
TZOFFSETTO:-0800
TZNAME:PST
DTSTART:20241103T090000
END:STANDARD
BEGIN:DAYLIGHT
TZOFFSETFROM:-0800
TZOFFSETTO:-0700
TZNAME:PDT
DTSTART:20250309T100000
END:DAYLIGHT
BEGIN:STANDARD
TZOFFSETFROM:-0700
TZOFFSETTO:-0800
TZNAME:PST
DTSTART:20251102T090000
END:STANDARD
BEGIN:DAYLIGHT
TZOFFSETFROM:-0800
TZOFFSETTO:-0700
TZNAME:PDT
DTSTART:20260308T100000
END:DAYLIGHT
BEGIN:STANDARD
TZOFFSETFROM:-0700
TZOFFSETTO:-0800
TZNAME:PST
DTSTART:20261101T090000
END:STANDARD
END:VTIMEZONE
BEGIN:VEVENT
DTSTART;TZID=America/Los_Angeles:20250726T090000
DTEND;TZID=America/Los_Angeles:20250726T113000
DTSTAMP:20260423T115240
CREATED:20250717T174759Z
LAST-MODIFIED:20250717T174759Z
UID:6878-1753520400-1753529400@www.tap-oc.org
SUMMARY:7/26/2025 TAP-OC A Summer Day's Hike
DESCRIPTION:Join us for a fun and relaxing summer hike at the Peters Canyon Trail! All family\, friends\, and dogs are welcome Location: Peters Canyon South Trailhead\, Tustin\, CA – https://maps.app.goo.gl/nRnrj3vqeMq1PFd17We will meet at the South Trailhead Entrance by the gate at 9:00 AM. Please aim to arrive early to find parking as it can get busy (free street parking available\, you may also park at the nearby elementary school). There is no shade on this trail so remember to bring and wear sun protection. Hope to see you there! 
URL:https://www.tap-oc.org/event/7-26-2025-tap-oc-a-summer-days-hike/
LOCATION:Peters Canyon South Trailhead\, Tustin\, CA\, United States
CATEGORIES:family friendly,fitness,hike,nature,networking,outdoor,pet friendly,social
ATTACH;FMTTYPE=image/jpeg:https://www.tap-oc.org/wp-content/uploads/hike_peters.jpg
ORGANIZER;CN="Taiwanese American Professionals - Orange County (TAP-OC)":MAILTO:info@tap-oc.org
END:VEVENT
BEGIN:VEVENT
DTSTART;TZID=America/Los_Angeles:20250427T150000
DTEND;TZID=America/Los_Angeles:20250427T163000
DTSTAMP:20260423T115240
CREATED:20250421T190435Z
LAST-MODIFIED:20250427T180718Z
UID:6846-1745766000-1745771400@www.tap-oc.org
SUMMARY:4/27/2025 [UPDATE! Read Description for Map Guide] TAP-OC Walk with Cha at Woodbridge Lake
DESCRIPTION:While it’s still nice and cool this spring\, let’s hit our daily step goals with a stroll around beautiful Woodbridge Lake.\nWe’ll be meeting at Cha for Tea in the Woodbridge Village Center. After gathering there\, we’ll head over to the lake as a group to chat\, stroll\, and sip on a refreshing cup of boba from Cha.\nIf you arrive late\, just head straight to the lakeside and catch us on the next lap!\nAfter about four laps around the lake\, we’ll make our way back to the Village Center to hang out at Sessions West Coast Deli and grab a bite to eat.\nNot feeling the walk? No worries—feel free to meet us directly at the deli afterwards!\nAs with all outdoor events\, don’t forget to bring a hat\, put on some sunscreen\, and bring a small bottle of water (or just grab boba before the walk!).\nCan’t wait to walk witcha! Please RSVP on our Google Form so we don’t leave anyone behind.\nhttps://forms.gle/LcSJuVrE6ZkRfZaB8
URL:https://www.tap-oc.org/event/4-27-2025-tap-oc-walk-with-cha-at-woodbridge-lake/
LOCATION:CHA for TEA – Woodbridge Village Center\, 4740 BARRANCA PKWY\, Irvine\, CA\, 92604\, United States
CATEGORIES:family friendly,fitness,nature,networking,outdoor,pet friendly,social
ATTACH;FMTTYPE=image/png:https://www.tap-oc.org/wp-content/uploads/TAPpy-Sunday-Walk-Facebook-Cover.png
ORGANIZER;CN="Taiwanese American Professionals - Orange County (TAP-OC)":MAILTO:info@tap-oc.org
END:VEVENT
BEGIN:VEVENT
DTSTART;TZID=America/Los_Angeles:20230430T103000
DTEND;TZID=America/Los_Angeles:20230430T113000
DTSTAMP:20260423T115240
CREATED:20230411T235527Z
LAST-MODIFIED:20230517T003103Z
UID:6147-1682850600-1682854200@www.tap-oc.org
SUMMARY:04/30 Baby Goat Yoga
DESCRIPTION:TAP-OC Health & Wellness  invites you to experience bliss and check goat yoga off your bucket list!\nJoin us for a unique experience of both nature and community. The yoga will be suitable to all levels of practitioners. Afterwards\, we’ll gather for a short tour of the grounds which includes bath products and farm fresh produce.\n\nCheck out their website for more information: https://www.goodsandgoatsmarket.com\nRegister for Sunday April 30\, 10:30am session directly through https://www.goodsandgoatsmarket.com/book…/baby-goat-yoga-1\n\nPlease also let us know you’re coming:\nhttps://tinyurl.com/GoatYogawithTAPOC\n\nDress Code:\n-It’s important to wear shirts that cover your back and shoulders\n-Bring your own yoga mat or rent one for $5
URL:https://www.tap-oc.org/event/baby-goat-yoga-with-tap-oc/
LOCATION:Good and Goats Market\, 29458 Trabuco Creek Road\, San JuanCapistrano\, CA\, 92675\, United States
CATEGORIES:animals,fitness,outdoor,pet friendly
ATTACH;FMTTYPE=image/jpeg:https://www.tap-oc.org/wp-content/uploads/2023/04/340893203_6207860765902433_165163989665518003_n.jpg
ORGANIZER;CN="Taiwanese American Professionals - Orange County (TAP-OC)":MAILTO:info@tap-oc.org
END:VEVENT
BEGIN:VEVENT
DTSTART;TZID=America/Los_Angeles:20220212T090000
DTEND;TZID=America/Los_Angeles:20220212T120000
DTSTAMP:20260423T115240
CREATED:20220128T090046Z
LAST-MODIFIED:20220128T090046Z
UID:5790-1644656400-1644667200@www.tap-oc.org
SUMMARY:02/12 Valentine's Dog Beach Day
DESCRIPTION:Valentine’s Day  is just around the corner and what better way to spend it at the beach with furbabies. As we all know dogs are the greatest loves of our lives.\nSpend the morning meeting other TAP-OC dogs with their hoomans. Enjoy breathing in the ocean air while you chase puppies along the beach\nEnd the afternoon with TAP-OC Dogs and Hoomans at a dog friendly venue called the WetDog Tavern on Main Street.\nAttire: Athletic Wear\n********REGISTRATION LINK**********\nhttps://tinyurl.com/TAPOCVDAYDOGBEACH\n***************************************\n——————–\n NOTE: Attendees must be fully vaccinated at least 14 days before the event with proof of vaccination\, or show a negative result for a PCR COVID test within 72 hours or rapid test within 24 hours. Proof of vaccination or negative COVID test result will be required at check-in.\nIf you have any questions or comments about our event or about TAP-OC\, please message us directly on FB or IG. You can also e-mail us at info@tap-oc.org.
URL:https://www.tap-oc.org/event/02-12-valentines-dog-beach-day/
LOCATION:Huntington Dog Beach
CATEGORIES:outdoor,pet friendly,social
ATTACH;FMTTYPE=image/jpeg:https://www.tap-oc.org/wp-content/uploads/2022/01/272261345_5133750750037598_1504626322768590599_n.jpg
ORGANIZER;CN="Taiwanese American Professionals - Orange County (TAP-OC)":MAILTO:info@tap-oc.org
END:VEVENT
BEGIN:VEVENT
DTSTART;TZID=America/Los_Angeles:20210508T090000
DTEND;TZID=America/Los_Angeles:20210508T130000
DTSTAMP:20260423T115240
CREATED:20210419T022055Z
LAST-MODIFIED:20210419T022055Z
UID:5310-1620464400-1620478800@www.tap-oc.org
SUMMARY:05/08 Nature Therapy Hike
DESCRIPTION:Sign up now to reserve your spot! https://forms.gle/FHiLPFoqiTzRaAat6\n In honor of Mental Health Awareness Month\, TAP-OC will be providing an opportunity to decompress from the pressures of the pandemic and reconnect with the Great Outdoors with fellow TAP members at our Nature Therapy Hike! We will be hiking Roller Coaster Loop to Patriot Hill (https://www.alltrails.com/trail/us/california/roller-coaster)\, a 4.7-mile trail with a 787 feet elevation gain near San Clemente/San Juan Capistrano that features flowers\, wildlife\, ocean views\, and a patriotic photo op! This hike is considered moderate and has no shade\, so please plan accordingly. Well behaved dogs are welcome!\n\n Roller Coaster Ridge Trailhead\nIntersection of Camino de Los Mares & Portico Del Norte\nSan Clemente\, CA 92673\nThere is free street parking on Portico del Norte. We will meet in front of the gate at the end of Camino de Los Mares.\n\n After the hike\, join us for a picnic and ocean views at nearby Pines Park!\n34941 Camino Capistrano\nCapistrano Beach\, CA 92624\nYou can bring your own lunch or pick up food from a local spot.\n\n Please RSVP online prior to participating in the hike:\nhttps://forms.gle/FHiLPFoqiTzRaAat6\nPlease Note: Registration will be capped to 15 participants. We may split attendees into smaller groups in order to allow for social distancing. Sign up now to reserve your spot!\n\n What to Wear/Bring:\nHiking Clothes and Shoes\nMask\nHat\nSunscreen\nWater\nHand Sanitizer\nSnacks/Lunch\nPicnic Blanket/Chair\nDog Hiking Items – Water\, Poop Bags\, Treats\n\nIf you have any questions or comments about our event or about TAP-OC\, please message us directly on FB or IG. You can also e-mail us at info@tap-oc.org.\n\nAbout TAP-OC\nWe have (online) events almost every week! Join our weekly events and tell your friends! To stay tuned\, follow us on Instagram and Facebook “Taiwanese American Professionals – Orange County – TAP OC” for upcoming activities.
URL:https://www.tap-oc.org/event/05-08-nature-therapy-hike/
LOCATION:CA
CATEGORIES:hike,nature,outdoor,pet friendly
ATTACH;FMTTYPE=image/jpeg:https://www.tap-oc.org/wp-content/uploads/2021/04/174458497_4236247339787948_8466345229653909546_n.jpg
ORGANIZER;CN="Taiwanese American Professionals - Orange County (TAP-OC)":MAILTO:info@tap-oc.org
END:VEVENT
BEGIN:VEVENT
DTSTART;TZID=America/Los_Angeles:20191026T110000
DTEND;TZID=America/Los_Angeles:20191026T133000
DTSTAMP:20260423T115240
CREATED:20191002T231545Z
LAST-MODIFIED:20191014T181906Z
UID:4363-1572087600-1572096600@www.tap-oc.org
SUMMARY:10/26 Dog Meets Dog Social
DESCRIPTION:Boo let the dogs out?! ? \n? Paws on what you’re doing and dress up your pooches! We’re bringing our Dog Meets Dog Social back\, and this time with a fun twist. This doggy meet-up will have you howling for joy as our furry friends come dressed in their Halloween costumes at Petco. \n? We will have special goodie bags from Petco for all the good doggos that are ready to trick or treat. Please RSVP ahead of time so we know how many to prepare! Dogs that dress up will get first pick at selecting goodie bags\, which will include not only toys and treats\, but also grooming coupons\, free vet consultation with Petco’s new pet hospital\, and special prizes like free private lessons with a dog trainer! \n? No dog? No problem! We look forward to seeing you with or without a pup. Borrowed dogs will not be frowned upon and are highly encouraged! \n? Afterwards\, we’ll be hitting up a dog-friendly lunch spot to chow down with the pups around noon. Restaurant will be announced once we get closer to the event date! \n? If you have any questions\, please contact ilenia.chen@tap-oc.org. See you soon!
URL:https://www.tap-oc.org/event/10-26-dog-meets-dog-social/
LOCATION:Petco Irvine\, 15333 Culver Dr\, Ste 500\, Irvine\, CA\, 92604\, United States
CATEGORIES:family friendly,pet friendly,social
ATTACH;FMTTYPE=image/jpeg:https://www.tap-oc.org/wp-content/uploads/2019/10/2019-Petco-Halloween.jpg
ORGANIZER;CN="Taiwanese American Professionals - Orange County (TAP-OC)":MAILTO:info@tap-oc.org
END:VEVENT
END:VCALENDAR