BEGIN:VCALENDAR
VERSION:2.0
PRODID:-//Taiwanese American Professionals - Orange County Chapter - ECPv6.15.18//NONSGML v1.0//EN
CALSCALE:GREGORIAN
METHOD:PUBLISH
X-ORIGINAL-URL:https://www.tap-oc.org
X-WR-CALDESC:Events for Taiwanese American Professionals - Orange County Chapter
REFRESH-INTERVAL;VALUE=DURATION:PT1H
X-Robots-Tag:noindex
X-PUBLISHED-TTL:PT1H
BEGIN:VTIMEZONE
TZID:America/Los_Angeles
BEGIN:DAYLIGHT
TZOFFSETFROM:-0800
TZOFFSETTO:-0700
TZNAME:PDT
DTSTART:20160313T100000
END:DAYLIGHT
BEGIN:STANDARD
TZOFFSETFROM:-0700
TZOFFSETTO:-0800
TZNAME:PST
DTSTART:20161106T090000
END:STANDARD
BEGIN:DAYLIGHT
TZOFFSETFROM:-0800
TZOFFSETTO:-0700
TZNAME:PDT
DTSTART:20170312T100000
END:DAYLIGHT
BEGIN:STANDARD
TZOFFSETFROM:-0700
TZOFFSETTO:-0800
TZNAME:PST
DTSTART:20171105T090000
END:STANDARD
BEGIN:DAYLIGHT
TZOFFSETFROM:-0800
TZOFFSETTO:-0700
TZNAME:PDT
DTSTART:20180311T100000
END:DAYLIGHT
BEGIN:STANDARD
TZOFFSETFROM:-0700
TZOFFSETTO:-0800
TZNAME:PST
DTSTART:20181104T090000
END:STANDARD
BEGIN:DAYLIGHT
TZOFFSETFROM:-0800
TZOFFSETTO:-0700
TZNAME:PDT
DTSTART:20190310T100000
END:DAYLIGHT
BEGIN:STANDARD
TZOFFSETFROM:-0700
TZOFFSETTO:-0800
TZNAME:PST
DTSTART:20191103T090000
END:STANDARD
END:VTIMEZONE
BEGIN:VEVENT
DTSTART;TZID=America/Los_Angeles:20180520T100000
DTEND;TZID=America/Los_Angeles:20180520T120000
DTSTAMP:20260423T195313
CREATED:20180511T174949Z
LAST-MODIFIED:20180511T174949Z
UID:770-1526810400-1526817600@www.tap-oc.org
SUMMARY:05/20 OC Dog Meets Dog
DESCRIPTION:It’s time to stretch our legs for another fun-filled doggy meet up! Join us Sunday\, May 20th at 10AM as we enjoy the company of our favorite furry friends at Costa Mesa Bark Park. \nNo dog? No problem! We look forward to seeing you with or without a pup (borrowed dogs will not be frowned upon and are highly encouraged).
URL:https://www.tap-oc.org/event/05-20-oc-dog-meets-dog/
LOCATION:Costa Mesa Bark Park\, 970 Arlington Dr\, Costa Mesa\, CA\, 92626
CATEGORIES:animals,outdoor,social
ORGANIZER;CN="Taiwanese American Professionals - Orange County (TAP-OC)":MAILTO:info@tap-oc.org
END:VEVENT
BEGIN:VEVENT
DTSTART;TZID=America/Los_Angeles:20180429T100000
DTEND;TZID=America/Los_Angeles:20180429T123000
DTSTAMP:20260423T195313
CREATED:20180406T063304Z
LAST-MODIFIED:20180406T064601Z
UID:741-1524996000-1525005000@www.tap-oc.org
SUMMARY:04/29 Red Rock Canyon Hike
DESCRIPTION:Grab your hydration pack\, sunscreen\, hat\, and best hiking shoes\, because we’re hitting up the Red Rock Canyon! After a two mile hike\, we’ll get to see red rock canyons similar to those in Arizona. Four miles round trip\, slightly longer than our previous hike to the Top of the World. The hike is relatively straight forward\, but there are small trails that can be explored. We’ll be meeting approximately 15-20 minutes before the start of the hike. Parking is accessible for a small fee of $3. If you are interested in carpooling options\, please arrange that with us prior the the event. If you have any questions or comments\, you can contact Steven at steven.yang@tap-oc.org.
URL:https://www.tap-oc.org/event/04-29-red-rock-canyon-hike/
LOCATION:Red Rock Canyon Trail\, Red Rock Trl\, Lake Forest\, CA\, 92610
CATEGORIES:fitness,nature,outdoor
ORGANIZER;CN="Taiwanese American Professionals - Orange County (TAP-OC)":MAILTO:info@tap-oc.org
END:VEVENT
BEGIN:VEVENT
DTSTART;TZID=America/Los_Angeles:20180210T100000
DTEND;TZID=America/Los_Angeles:20180210T143000
DTSTAMP:20260423T195313
CREATED:20180201T224527Z
LAST-MODIFIED:20180405T234111Z
UID:274-1518256800-1518273000@www.tap-oc.org
SUMMARY:02/10 Dog Meets Dog
DESCRIPTION:What could possibly be more fun than watching our favorite 4 legged friends frolicking around the park? You’re right\, nothing! Join us on February 10 @ 10AM for our first doggy meetup. Irvine Central Bark Park is a beautiful and safe space for both large and small dogs to socialize. The park has ample shade and seating for their biped parents.\nhttps://www.yelp.com/biz/irvine-central-bark-dog-park-irvine \nWe’ll then grab brunch at pup-friendly Lazy Dog at 11:30.\n13290 Jamboree Rd\, Irvine\, CA 92602 \nDog menu and rules:\nhttps://www.lazydogrestaurants.com/img/content/Menu-Dog-Menu12142017114851-mc.pdf \nIn case you’re hungry too:\nhttps://www.lazydogrestaurants.com/img/content/Menu-Weekend-Brunch10162017043259-mc.pdf \nIf you have questions\, please email justin.chi@tap-oc.org. We look forward to seeing you there! \n*No pup required to attend*
URL:https://www.tap-oc.org/event/dog-meets-dog/
LOCATION:Irvine Central Bark Dog Park\, 6405 Oak Canyon Rd\, Irvine\, CA\, 92618\, United States
CATEGORIES:animals,outdoor,social
ORGANIZER;CN="Taiwanese American Professionals - Orange County (TAP-OC)":MAILTO:info@tap-oc.org
END:VEVENT
BEGIN:VEVENT
DTSTART;TZID=America/Los_Angeles:20180203T120000
DTEND;TZID=America/Los_Angeles:20180203T150000
DTSTAMP:20260423T195313
CREATED:20180111T010238Z
LAST-MODIFIED:20180405T234127Z
UID:240-1517659200-1517670000@www.tap-oc.org
SUMMARY:02/03 Lunar New Year Bash
DESCRIPTION:Join us as we celebrate the Lunar New Year and the 2018 Year of the Dog! \nThis year\, we are hosting an intimate cultural gathering at Bradbury Estates. Look forward to our specially customized food and beverage menu\, fun games\, and lucky prizes! \nPurchase tickets here ~ https://www.eventbrite.com/e/tap-lunar-new-year-bash-tickets-41450443392\n>> $45.00 Early Bird until January 25\, 2018\n>> $50.00 Regular until February 1\, 2018 \nFor security reasons\, NO walk-ins will be allowed. This event will be hosted at a private residence\, and the address will be e-mailed to all confirmed guests upon payment. \nDress code ~ Traditional Chinese attire highly encouraged. Alternatively\, please wear red themed semi-formal attire. \nParking ~ Complimentary valet will be provided but tips are always appreciated ?. Please be safe and try to Uber/Lyft or carpool if possible.
URL:https://www.tap-oc.org/event/lunar-new-year-bash/
LOCATION:Bradbury Estate\, Bradbury\, CA\, United States
CATEGORIES:cultural,outdoor,social
END:VEVENT
BEGIN:VEVENT
DTSTART;TZID=America/Los_Angeles:20180106T090000
DTEND;TZID=America/Los_Angeles:20180106T110000
DTSTAMP:20260423T195313
CREATED:20180404T195229Z
LAST-MODIFIED:20180405T234231Z
UID:603-1515229200-1515236400@www.tap-oc.org
SUMMARY:01/06 Top of the World Hike
DESCRIPTION:What better way to kickstart the New Year than to motivate each other with a fun scenic hike at Top of the World in Laguna Beach! Join us in starting on the right foot to getting back into shape after all that delicious feasting during the holidays. \nStarting Point: Alta Laguna Park (Top of the World)\nEnd: Loop around Mathis Canyon\nAfter the hike: Kitchen in the Canyon for lunch (845 Laguna Canyon Rd. Laguna Beach\, CA 92651 \nIf you have any questions\, please email steven.yang@tap-oc.org.
URL:https://www.tap-oc.org/event/603/
LOCATION:Top of the World Laguna\, W Ridge\,\, Laguna Beach\, CA\, 92651
CATEGORIES:hike,nature,outdoor
ORGANIZER;CN="Taiwanese American Professionals - Orange County (TAP-OC)":MAILTO:info@tap-oc.org
END:VEVENT
BEGIN:VEVENT
DTSTART;TZID=America/Los_Angeles:20171213T180000
DTEND;TZID=America/Los_Angeles:20171213T200000
DTSTAMP:20260423T195313
CREATED:20180404T195641Z
LAST-MODIFIED:20180405T234249Z
UID:607-1513188000-1513195200@www.tap-oc.org
SUMMARY:12/13 Holiday TAPpy Hour Social
DESCRIPTION:‘Tis the season to gather together and celebrate the holidays! As we take a look back at what a year 2017 has been for us\, we can’t wait to share with you what exciting plans we have in store for 2018. Join us at the cozy Fireside Patio in Eats Kitchen & Bar for the last event of the year and mingle with friends – both old and new! The restaurant has also agreed to kindly donate a part of the proceeds back to TAP-OC programs! \nYour ticket will cover a bottomless dinner as well as the option to purchase discounted drink tickets.\n>> Pre-sale (till 12/12): $20\n>> At-the-Door Ticket: $22 \nSelection of food includes:\n>> Margherita Thin-Crust Pizza: Roasted tomato sauce | Buffalo Mozzarella | Vine-Ripened Tomatoes | Basil\n>> Sweet & Spicy Wings: Backyard Bees Honey | Spicy Pickled Radish | Sambal\n>> Fundido Mac: Molten Cheddar | Conchiglie | Jalapeno | Chorizo | Sweet Onions \nDrinks will include a curated list of:\n>> Beer\n>> Wine\n>> Cocktails
URL:https://www.tap-oc.org/event/holiday-tappy-hour-social/
LOCATION:Eats Kitchen & Bar\, 17900 Jamboree Rd\, Irvine\, CA\, 92614
CATEGORIES:outdoor,social,tappy hour
ORGANIZER;CN="Taiwanese American Professionals - Orange County (TAP-OC)":MAILTO:info@tap-oc.org
END:VEVENT
BEGIN:VEVENT
DTSTART;TZID=America/Los_Angeles:20171028T094500
DTEND;TZID=America/Los_Angeles:20171028T114500
DTSTAMP:20260423T195313
CREATED:20180404T201516Z
LAST-MODIFIED:20180405T234426Z
UID:617-1509183900-1509191100@www.tap-oc.org
SUMMARY:10/28 Sanrio x Tanaka Farm Pumpkin Patch
DESCRIPTION:Get into the spirit of the fall season and join TAP-OC in this Pumpkin Patch adventure! There will be fun activities like going on a wagon ride\, feeding alpacas and goats in the petting zoo\, exploring the corn maze\, picking pumpkins and vegetables in addition to games\, delicious eats\, watching the pumpkin cannon\, and even a Sanrio costume contest! \nThe Pumpkin Fun Package ($10) includes admission\, the petting zoo and a wagon ride. Upon entry\, you’ll have the opportunity to snap some selfies with popular characters such as Chococat\, My Melody\, Pochacco\, and the famous Hello Kitty and Keroppi! \nPlease fill out this form if you plan on attending: http://bit.ly/2z70PBh \nIf you have any other questions\, feel free to email tiffany.yang@tap-oc.org. \nSee you at the farm! \n*****PLEASE READ***** \nDue to their popularity this year\, Tanaka Farms is implementing strict parking rules. Here are important things to note: \n1) Register for a FREE parking pass! http://www.tanakafarms.com/ \n2) Please choose the 1st time slot: “early as 8:30 am\, no later 10:00 am” and arrive by 9:45 AM. \n3) GROUP PHOTO at 10:15 AM inside the farm. \nYou can also UBER or LYFT to get to the farm\, but have to be dropped off at the front ticket entrance. No drop-offs on the sidewalk. \nPlease feel free to message us if you have any questions. ?
URL:https://www.tap-oc.org/event/617/
LOCATION:Tanaka Farms\, 5380 3/4 University Dr\, Irvine\, CA\, 92612
CATEGORIES:holiday,outdoor,social
ORGANIZER;CN="Taiwanese American Professionals - Orange County (TAP-OC)":MAILTO:info@tap-oc.org
END:VEVENT
BEGIN:VEVENT
DTSTART;TZID=America/Los_Angeles:20170924T094500
DTEND;TZID=America/Los_Angeles:20170924T121500
DTSTAMP:20260423T195313
CREATED:20180404T202025Z
LAST-MODIFIED:20180405T234504Z
UID:625-1506246300-1506255300@www.tap-oc.org
SUMMARY:09/24 Susan G. Komen Race for the Cure
DESCRIPTION:You are invited to join TAP-OC as we partner with the Southern California Chapter of North America Taiwanese Women’s Association (NATWA) as “Team Taiwan” in the Susan G. Komen Race for the Cure! The Susan G. Komen Race for the Cure has been the most powerful event that raises significant funds and awareness for the breast cancer movement\, and honors those who have lost their battle with the disease. \nTo Register with Team Taiwan:\nVisit www.komenoc.org/race > Register Today\n> Join a Team > Login/Register\n> Search for Team Taiwan > Complete Registration*.\n*Registration Fees: Adult ($35) | Breast Cancer Survivors ($30) | Youth ($15). All ages are welcome! \nMeeting Place & Time:\n900 Newport Center Dr\, Newport Beach\, CA 92660\nTeam Taiwan will meet at 9:15 AM in front of the Newport Beach Marriott Hotel. We recommend to park at Corporate Plaza (PCH & Newport Center Dr.)\, and to walk to our meeting place at the Marriot Hotel. There is no need to shuttle. Our race time begins at approximately 9:45 AM and ends by 12:15 PM. Remember to bring sunscreen and your favorite thirst quencher. \nBackground Information:\nSusan G. Komen for the Cure is the world’s largest grassroots network of breast cancer survivors and activists fighting to save lives\, empower people\, ensure quality care for all and energize science to find the cures. Since 1982\, the organization has invested nearly $1 billion to fulfill the promise becoming one of the largest sources of nonprofit funds dedicated to the fight against breast cancer in the world. \nNorth America Taiwanese Women’s Association-Southern CA Chapter (NATWA-SCA) has been participating in this event since 2005 as “Team Taiwan”. We will love to invite all our friends to participate in this very meaningful activity to help raise funds for the breast cancer research and education. In the meantime\, it will also increase the visibility of Taiwan.
URL:https://www.tap-oc.org/event/susan-g-komen-race-for-the-cure/
LOCATION:CA
CATEGORIES:fitness,outdoor,service
ORGANIZER;CN="Taiwanese American Professionals - Orange County (TAP-OC)":MAILTO:info@tap-oc.org
END:VEVENT
END:VCALENDAR