BEGIN:VCALENDAR
VERSION:2.0
PRODID:-//Taiwanese American Professionals - Orange County Chapter - ECPv6.15.18//NONSGML v1.0//EN
CALSCALE:GREGORIAN
METHOD:PUBLISH
X-ORIGINAL-URL:https://www.tap-oc.org
X-WR-CALDESC:Events for Taiwanese American Professionals - Orange County Chapter
REFRESH-INTERVAL;VALUE=DURATION:PT1H
X-Robots-Tag:noindex
X-PUBLISHED-TTL:PT1H
BEGIN:VTIMEZONE
TZID:America/Los_Angeles
BEGIN:DAYLIGHT
TZOFFSETFROM:-0800
TZOFFSETTO:-0700
TZNAME:PDT
DTSTART:20170312T100000
END:DAYLIGHT
BEGIN:STANDARD
TZOFFSETFROM:-0700
TZOFFSETTO:-0800
TZNAME:PST
DTSTART:20171105T090000
END:STANDARD
BEGIN:DAYLIGHT
TZOFFSETFROM:-0800
TZOFFSETTO:-0700
TZNAME:PDT
DTSTART:20180311T100000
END:DAYLIGHT
BEGIN:STANDARD
TZOFFSETFROM:-0700
TZOFFSETTO:-0800
TZNAME:PST
DTSTART:20181104T090000
END:STANDARD
BEGIN:DAYLIGHT
TZOFFSETFROM:-0800
TZOFFSETTO:-0700
TZNAME:PDT
DTSTART:20190310T100000
END:DAYLIGHT
BEGIN:STANDARD
TZOFFSETFROM:-0700
TZOFFSETTO:-0800
TZNAME:PST
DTSTART:20191103T090000
END:STANDARD
BEGIN:DAYLIGHT
TZOFFSETFROM:-0800
TZOFFSETTO:-0700
TZNAME:PDT
DTSTART:20200308T100000
END:DAYLIGHT
BEGIN:STANDARD
TZOFFSETFROM:-0700
TZOFFSETTO:-0800
TZNAME:PST
DTSTART:20201101T090000
END:STANDARD
END:VTIMEZONE
BEGIN:VEVENT
DTSTART;TZID=America/Los_Angeles:20190815T080000
DTEND;TZID=America/Los_Angeles:20190908T200000
DTSTAMP:20260423T170531
CREATED:20190815T173505Z
LAST-MODIFIED:20210918T061320Z
UID:3775-1565856000-1567972800@www.tap-oc.org
SUMMARY:08/15 Board Applications for 2019-2020
DESCRIPTION:Board and Committee Applications now OPEN ? !! \nWe’re more than excited to enter our 3rd year of TAP-OC as we continue to not only grow our community\, but also to enrich our board & committee members with personal and professional development opportunities. \nWhat does it mean to be part of the board and committee?\nTo us\, it means…\n– Being part of a greater cause and making a bigger impact that’s more than just ourselves.\n– Developing leadership skills and expanding into areas of expertise outside of your day-to-day job.\n– Participating in team building activities and individual growth opportunities.\n– Bonding with a close-knit of awesome\, motivated people as One Tappy Family! \nTo apply\, please complete this form: https://forms.gle/rBiiP6RKne7UZB6cA \nThank you! \nSincerely yours\,\nTAP-OC Board ?
URL:https://www.tap-oc.org/event/08-15-board-applications-for-2019-2020/
CATEGORIES:networking,professional
ATTACH;FMTTYPE=image/jpeg:https://www.tap-oc.org/wp-content/uploads/Board-Application-2019-2020-TAPOC.jpg
ORGANIZER;CN="Taiwanese American Professionals - Orange County (TAP-OC)":MAILTO:info@tap-oc.org
END:VEVENT
BEGIN:VEVENT
DTSTART;TZID=America/Los_Angeles:20190719T190000
DTEND;TZID=America/Los_Angeles:20190719T230000
DTSTAMP:20260423T170531
CREATED:20190605T193038Z
LAST-MODIFIED:20190701T213604Z
UID:2986-1563562800-1563577200@www.tap-oc.org
SUMMARY:07/19 Throwback to 90's InterOrg Summer Networking Mixer
DESCRIPTION:ACEL\, APEX\, NAAAP-OC\, and TAP-OC present… Throwback to 90’s Summer Networking Mixer! Whether you’re a fan of Britney Spears\, Michael Jackson\, NSYNC\, or the Backstreet Boys\, we’ll have #throwback tunes for you to show off your best dance moves to! The mixer/networking will begin at 7pm at 4th Street Market in Santa Ana\, where ping pong\, jenga\, and arcade games are also available. Come mingle/network\, eat some delicious food\, and dance the night away to your favorite 90’s music! \nMixer Agenda:\n7-9pm: Dinner/Networking @ 4th Street Market\n9-11pm: Dancing to 90’s Music @ Mission Control \nThis event is FREE and open to everyone\, so feel free to invite your friends! We hope to see you there! 🙂 \nParking:\nThere are two parking structures off 5th Street\, a metered parking lot off 3rd and Bush\, and metered parking throughout East End and Downtown Santa Ana. \nFor more information about our organization\, check out our Facebook pages: \nAsian Corporate & Entrepreneur Leaders: https://www.facebook.com/acelsocal/ \nAsian Professionals Exchange: https://www.facebook.com/APEXorg/ \nNational Association of Asian American Professionals: https://www.facebook.com/naaaptheoc/
URL:https://www.tap-oc.org/event/07-19-throwback-to-90s-interorg-summer-networking-mixer/
LOCATION:4th Street Market – Santa Ana\, 201 E 4th St\, Santa Ana\, CA\, 92701
CATEGORIES:foodie,indoor,networking,social,tappy hour
ATTACH;FMTTYPE=image/png:https://www.tap-oc.org/wp-content/uploads/Throwback-to-90s-Mixer-Banner.png
ORGANIZER;CN="Taiwanese American Professionals - Orange County (TAP-OC)":MAILTO:info@tap-oc.org
END:VEVENT
BEGIN:VEVENT
DTSTART;TZID=America/Los_Angeles:20190626T190000
DTEND;TZID=America/Los_Angeles:20190626T210000
DTSTAMP:20260423T170531
CREATED:20190611T183046Z
LAST-MODIFIED:20190621T215750Z
UID:3233-1561575600-1561582800@www.tap-oc.org
SUMMARY:06/26 TAP OC - Industry Dinner: Medical Professionals
DESCRIPTION:**Opening up this dinner to all healthcare and medical professionals** \nCome join us at Chaak as we share the best (or worst) of stories and experiences. Whether you’re a physician\, nurse\, pharmacy\, or other healthcare professions\, come dine with us and have some drinks! \nThere will be limited spots for this dinner meet-up and priority will be given to those who are healthcare professionals on a first come\, first serve basis via online RSVP: https://forms.gle/g3rGMYnq11pmAL6Z6 \nIf you have any questions\, please contact cyndy.kao@tap-oc.org \nThank you and see you soon ? \nNational Nurse Week just came to an end\, but that won’t stop us from celebrating the nurses in our TAP-OC community! Come join us at Chaak as we share the best (or worst) of stories and experiences. Whether you’re a practicing nurse\, an ex-nurse\, or a nursing student\, come dine with us and have some drinks\, because nurses need shots too!
URL:https://www.tap-oc.org/event/06-26-tap-oc-industry-dinner-nursing-professionals/
LOCATION:Chaak Kitchen\, 215 El Camino Real\, Tustin\, California\, 92780
CATEGORIES:foodie,indoor,networking,professional
ATTACH;FMTTYPE=image/jpeg:https://www.tap-oc.org/wp-content/uploads/64919621_2563535337059165_2868944450426503168_o.jpg
ORGANIZER;CN="Taiwanese American Professionals - Orange County (TAP-OC)":MAILTO:info@tap-oc.org
END:VEVENT
BEGIN:VEVENT
DTSTART;TZID=America/Los_Angeles:20190622T140000
DTEND;TZID=America/Los_Angeles:20190622T160000
DTSTAMP:20260423T170531
CREATED:20190611T182900Z
LAST-MODIFIED:20190621T220132Z
UID:3229-1561212000-1561219200@www.tap-oc.org
SUMMARY:06/22 Adulting 101 - Empower Your Savings\, Investments & Personal Finance
DESCRIPTION:Just started working or wondering how to make the most of your spare income? Want to make a little go a long way down the line? TAP OC has the answers for you! This will be a FREE event with light refreshments provided. SPACE IS LIMITED. Please bring your friends and family to come learn more about personal finance! A continuation of our Adulting 101 Series of Professional Events. \nJoin us as we dive into different ways post-college working professionals can make the best use of their money – savings\, investments\, and personal financial management! Come learn from experienced finance professionals as they share their wealth of information in workshop sessions\, followed by open Q&A to address any burning questions you have about all things money related. \nWe will be announcing each speaker of this event every week\, so make sure you click “Going” or “interested” to get the updates! \nIf you have questions\, please contact calvin.kou@tap-oc.org. \n\nAnnouncing the first speaker in our workshop! \n \nTony Chou has over 10 years of experience in the financial sector with firms such as Morgan Stanley and Merrill Lynch in the past. Past areas of Tony’s expertise include Private Wealth Management in the International division. Tony Chou now splits his time between running his own firms specializing in realty and finance/investment. Tony is currently involved with Opsis Capital\, an alternative investment firm with a focus on real estate. \nFUN FACT: He’s also a TAP Board Alumni. \n\nOur second speaker in this upcoming weekend’s workshop is Steve Huang\, MBA. \n\n \nAn OC resident of over 30 years\, Steve has had a hand in finance\, city council\, real estate\, and marketing and he has also dedicated his life to help others as a volunteer and as a professional. Steve’s financial expertise includes: \n• Working with clients to protect the most valuable assets\n• Replacing income stream if clients are unable to work\n• Maintaining quality of life if unforeseen events in life happen\n• Creating additional income stream for retirement\n• Providing a legacy for the future generation \n\nIn his free time\, he enjoys hiking and camping in the wonderful Californian wilderness. He is also deeply committed to community service. He currently serves on the Boards of Taiwanese American Professionals Orange County (TAP-OC) and Orange County Chinese American Artists (OCCAA)\, and also as a Steering Committee member for Irvine Global Village Festival. \n\nIntroducing our third and final speaker; Ajay Aggarwal \n \nHe has worked in the banking industry for over 17 years. Has a total of 20+ years in financial service combined. \nCurrently\, he serves as a Assistant Vice President and Branch Manager at US Bank. He is passionate about helping people with banking and personal and business finances. A topic he loves is helping people start toward financial wellness. \n\nAlso\, he has been a SoCal resident for over 30 years so he knows what it is like down here!
URL:https://www.tap-oc.org/event/06-22-adulting-101-empower-your-savings-investments-personal-finance/
LOCATION:Pacific Academy Irvine\, 4947 Alton Pkwy\, Irvine\, California\, 92604
CATEGORIES:indoor,networking,professional
ATTACH;FMTTYPE=image/jpeg:https://www.tap-oc.org/wp-content/uploads/61992914_2536585549754144_4515886154414817280_o.jpg
ORGANIZER;CN="Taiwanese American Professionals - Orange County (TAP-OC)":MAILTO:info@tap-oc.org
END:VEVENT
BEGIN:VEVENT
DTSTART;TZID=America/Los_Angeles:20190521T180000
DTEND;TZID=America/Los_Angeles:20190521T210000
DTSTAMP:20260423T170531
CREATED:20190506T175703Z
LAST-MODIFIED:20190506T175703Z
UID:2176-1558461600-1558472400@www.tap-oc.org
SUMMARY:05/21 TAPpy Hour & Mentorship Mixer
DESCRIPTION:Join us at our next social for a special edition of our TAPpy Hour where we will be highlighting our Mentorship Program that just launched in March! The program offers our community members the opportunity for both personal and professional development. \nYou’ll have the chance to meet both our prospective mentors and mentees for this program and see if you’re interested in joining the program. If you are interested in participating in our mentorship program\, please apply here prior to the event: http://tap-oc.org/mentorship/ \nWe’ll be taking over the heated patio so come enjoy good food and drinks with both old and new friends.The first hour of our event will offer their happy hour pricing (last call at 7) so come early to take advantage of these deals! \n:: $4.50 for Domestic Drafts ::\n:: $5.50 for Wine and Craft Drafts ::\n:: $6.50 for Martinis ::\n:: 1/2 Price on Select Appetizers ::\n:: $5.00 for Specialty Burgers + Tots or Fries all night :: \nIf you have any questions\, please email mia.xin@tap-oc.org \nWe look forward to having you there!
URL:https://www.tap-oc.org/event/05-21-tappy-hour-mentorship-mixer/
LOCATION:Bar Louie\, 2467 Park Ave\, Tustin\, CA\, 92782
CATEGORIES:networking,professional,social,tappy hour
ATTACH;FMTTYPE=image/jpeg:https://www.tap-oc.org/wp-content/uploads/58682386_2471046169641416_8240407645190619136_o.jpg
ORGANIZER;CN="Taiwanese American Professionals - Orange County (TAP-OC)":MAILTO:info@tap-oc.org
END:VEVENT
BEGIN:VEVENT
DTSTART;TZID=America/Los_Angeles:20190210T130000
DTEND;TZID=America/Los_Angeles:20190210T150000
DTSTAMP:20260423T170531
CREATED:20190125T193020Z
LAST-MODIFIED:20190125T193020Z
UID:1607-1549803600-1549810800@www.tap-oc.org
SUMMARY:02/10 Adulting 101 - Getting Real about Real Estate
DESCRIPTION:? Would you like to buy a property with down payment assistance loan programs? ? If you qualify\, why not take advantage of it? ? \nHave you thought about protecting ? you and your family’s assets through a Living Trust? \nCome with your family and friends to hear from our guest speakers ?‍??‍??‍? at our first professional event of 2019 on Sunday\, Feb. 10th! We will host our seminar at Virscend University (16490 Bake Pkwy #100\, Irvine\, CA 92618) with parking available. \n* Find out if you can qualify for any down payment assistance loan programs ?‍♀️?‍♂ \n* Find out the benefits of having a Living Trust for you and your family’s assets ?‍♂️?‍♀️ \n? We will also have a very special announcement at the closing of this event\, so be the first to find out by attending! Beverages and light snacks will be provided. \n–Admission–\n$3 via Eventbrite by 2/9/19: https://bit.ly/2FN59ci\n$5 at the door on the day of event \n* About our speakers * \nYolanda Lujan has more than 25 years of lending and real estate experience. She is the Vice President & Chief Business Officer of a nonprofit organization that helps buyers with down payment assistance loan programs. \n***********************************************************\nFor more than 10 years\, Steve Haskell has facilitated reverse mortgage loans for seniors. Reverse mortgages help create more carefree retirements for seniors by allowing them to acquire part of their home equity without selling their homes. Steve has considerable experience working with national banks\, direct lenders\, and brokers in the reverse mortgage loan process. \n***********************************************************\nWhile at Whittier Law School\, Sarah Rinelli was an active member of the Trial Advocacy Honors Board. She was also elected to a position on the Student Bar Association counsel. Sarah was at the top of her class in Will and Trust classes and it was at this point that she fell in love with this area of law. \nIf you have any questions about the event\, please email calvin.kou@tap-oc.org or victor.long@tap-oc.org\, thank you!
URL:https://www.tap-oc.org/event/02-10-adulting-101-getting-real-about-real-estate/
LOCATION:Virscend University\, pin 16490 Bake Pkwy #100\, Irvine\, CA\, 92618\, United States
CATEGORIES:educational,networking,professional
ATTACH;FMTTYPE=image/jpeg:https://www.tap-oc.org/wp-content/uploads/51010760_2325493974196637_2611730927927164928_o.jpg
ORGANIZER;CN="Taiwanese American Professionals - Orange County (TAP-OC)":MAILTO:info@tap-oc.org
END:VEVENT
BEGIN:VEVENT
DTSTART;TZID=America/Los_Angeles:20181014T113000
DTEND;TZID=America/Los_Angeles:20181014T150000
DTSTAMP:20260423T170531
CREATED:20180827T212746Z
LAST-MODIFIED:20181010T223912Z
UID:1058-1539516600-1539529200@www.tap-oc.org
SUMMARY:10/14 Thank You BBQ
DESCRIPTION:Please join TAP-OC in its 1st Thank You BBQ as we thank our community partners and supporters\, and celebrate this successful past year over delicious food! Let us appreciate YOU. \nSunday October 14\, 2018\n12:00 – 3:00 PM\nGreat Park Neighborhoods\nThe Meeting House and Patio @ Beacon Park\n501 Benchmark\, Irvine\, CA 92618 \nAll tickets purchased include catered BBQ\, appetizers\, and Taiwan Beer!\nSpace is limited\, so be sure to buy your tickets today. Wristbands will be provided on-site after confirmation of registration and payment. Wristbands required for access to food and beverages. All tickets sold cover the cost of catering. \nPurchase tickets here: https://goo.gl/forms/iotVEk43JkfrwufJ3\n1. Fill out the google form\n2. Venmo payment to “TAP-OC” or via Zelle to jenny.cheng@tap-oc.org\n(Please include your name when submitting payment.) \nEarly bird gets the worm – Pricing structure below:\nPre-purchased Tickets: $25 each\nWalk-in Tickets: $30 each \nFor questions and comments\, please contact info@tap-oc.org or message us on our Facebook page.
URL:https://www.tap-oc.org/event/10-14-thank-you-bbq/
LOCATION:Beacon Park\, 501 Benchmark\, Irvine\, CA\, 92618\, United States
CATEGORIES:celebration,networking,outdoor,social
ATTACH;FMTTYPE=image/jpeg:https://www.tap-oc.org/wp-content/uploads/2018/08/taiwanese-american-professionals-orange-county-thank-you-bbq-2017-2018.jpg
ORGANIZER;CN="Taiwanese American Professionals - Orange County (TAP-OC)":MAILTO:info@tap-oc.org
END:VEVENT
BEGIN:VEVENT
DTSTART;TZID=America/Los_Angeles:20180526T110000
DTEND;TZID=America/Los_Angeles:20180526T160000
DTSTAMP:20260423T170531
CREATED:20180503T164329Z
LAST-MODIFIED:20180511T175600Z
UID:758-1527332400-1527350400@www.tap-oc.org
SUMMARY:05/26 Amplify: Entrepreneurship Panel
DESCRIPTION:We are BACK again!\nTAP-LA & TAP-OC are bringing you Part 2 of our AMPLIFY Series. \nWhether you missed out on AMPLIFY Part 1 this past January (https://www.facebook.com/events/116696589054378/)\, or you thoroughly enjoyed our first Entrepreneurship Panel and just want more…we’ve got you covered. \nPricing (ticket link above) \n>> General Admission $20.00\n>> TAP Member Pricing $15.00 \nSaturday\, May 26\, 2018 \n>> 11:00 A.M. Speaker Meet and Greet\n>> 11:30 A.M. Introduction\n>> 11:45 A.M. Speaker Panel\n>> 1:30 P.M. Q & A\n>> 2:00 P.M. Open Networking\n>> 4:00 P.M. Event End \nLocation \nWeWork Gas Tower\n555 West 5th Street\, 35th Floor\, Los Angeles\, CA 90013 \nHosted by \nTaiwanese American Professionals-Los Angeles (TAP-LA)\nTaiwanese American Professionals-Orange County (TAP-OC)
URL:https://www.tap-oc.org/event/05-26-amplify-entrepreneurship-panel/
LOCATION:WeWork Gas Tower\, 555 West 5th Street\, Los Angeles\, California\, 90013
CATEGORIES:educational,networking,professional
END:VEVENT
BEGIN:VEVENT
DTSTART;TZID=America/Los_Angeles:20180418T190000
DTEND;TZID=America/Los_Angeles:20180418T210000
DTSTAMP:20260423T170531
CREATED:20180405T233447Z
LAST-MODIFIED:20180405T235813Z
UID:706-1524078000-1524085200@www.tap-oc.org
SUMMARY:04/18 Foodie Social - Small Group Dinner
DESCRIPTION:Hump day getting you down? How about checking out Taiwanese American Professionals of Orange County’s first ever Foodie Social! Come join us to meet other like-minded individuals at Santa Ana’s 4th Street Market. \n4th Street Market is a progressive culinary hub inspired by the spirit of creative chefs\, food artisans\, and small business entrepreneurs. The eclectic offering of dining options (featured in many food videos)\, craft cocktails\, beer garden\, cutting edge graffiti wall\, living wall\, and live music attract even the most discerning of food lovers. \nWe will have limited spots (16) for this event so make sure to sign up fast!\nClick here >> https://goo.gl/forms/YZ4jRbhtHGFWxalG2 \nFor questions or comments in regards to our events\, please contact: \n Amanda at amanda.ni@tap-oc.org; or\, \nTiffany at tiffany.yang@tap-oc.org.
URL:https://www.tap-oc.org/event/foodie-social-small-group-dinner/
LOCATION:4th Street Market – Santa Ana\, 201 E 4th St\, Santa Ana\, CA\, 92701
CATEGORIES:foodie,networking,social
ORGANIZER;CN="Taiwanese American Professionals - Orange County (TAP-OC)":MAILTO:info@tap-oc.org
END:VEVENT
BEGIN:VEVENT
DTSTART;TZID=America/Los_Angeles:20180120T120000
DTEND;TZID=America/Los_Angeles:20180120T120000
DTSTAMP:20260423T170531
CREATED:20180111T004319Z
LAST-MODIFIED:20180405T234213Z
UID:232-1516449600-1516449600@www.tap-oc.org
SUMMARY:01/20 Amplify: Entrepreneurship Panel
DESCRIPTION:Presenting AMPLIFY: Boosting the Way Young Professionals Project their Message in the Workplace \nInterested in starting a business or expanding your business? \nCome to our Entrepreneurship Panel featuring a discussion on the Risks\, Successes\, and Obstacles of starting a business. Meet other professionals of a similar entrepreneurial spirit and passion for professional growth and development! \nSign-up & Pricing \n>> $5 Advance\n>> $8 Walk-in \nStep one. To avoid service charges\, Venmo @TAP-OC in advance: In the Venmo app\, please list your NAME\, EMAIL\, and EVENT. \nStep two. Please fill out the Google Form: https://goo.gl/forms/4pizzOlEdCzsFI2v1 \nSaturday\, January 20\, 2018 \n>> 12:30 P.M. Check-in & Beverages\n>> 1:00 P.M. Introduction & Speaker Panel\n>> 2:30 P.M. Open Networking
URL:https://www.tap-oc.org/event/amplify-entrepreneurship-panel/
LOCATION:Ramada Plaza Anaheim\, 515 W Katella Ave\, Anaheim\, CA\, 92802\, United States
CATEGORIES:educational,networking,professional
ORGANIZER;CN="Taiwanese American Professionals - Orange County (TAP-OC)":MAILTO:info@tap-oc.org
END:VEVENT
END:VCALENDAR