BEGIN:VCALENDAR
VERSION:2.0
PRODID:-//Taiwanese American Professionals - Orange County Chapter - ECPv6.15.18//NONSGML v1.0//EN
CALSCALE:GREGORIAN
METHOD:PUBLISH
X-WR-CALNAME:Taiwanese American Professionals - Orange County Chapter
X-ORIGINAL-URL:https://www.tap-oc.org
X-WR-CALDESC:Events for Taiwanese American Professionals - Orange County Chapter
REFRESH-INTERVAL;VALUE=DURATION:PT1H
X-Robots-Tag:noindex
X-PUBLISHED-TTL:PT1H
BEGIN:VTIMEZONE
TZID:America/Los_Angeles
BEGIN:DAYLIGHT
TZOFFSETFROM:-0800
TZOFFSETTO:-0700
TZNAME:PDT
DTSTART:20160313T100000
END:DAYLIGHT
BEGIN:STANDARD
TZOFFSETFROM:-0700
TZOFFSETTO:-0800
TZNAME:PST
DTSTART:20161106T090000
END:STANDARD
BEGIN:DAYLIGHT
TZOFFSETFROM:-0800
TZOFFSETTO:-0700
TZNAME:PDT
DTSTART:20170312T100000
END:DAYLIGHT
BEGIN:STANDARD
TZOFFSETFROM:-0700
TZOFFSETTO:-0800
TZNAME:PST
DTSTART:20171105T090000
END:STANDARD
BEGIN:DAYLIGHT
TZOFFSETFROM:-0800
TZOFFSETTO:-0700
TZNAME:PDT
DTSTART:20180311T100000
END:DAYLIGHT
BEGIN:STANDARD
TZOFFSETFROM:-0700
TZOFFSETTO:-0800
TZNAME:PST
DTSTART:20181104T090000
END:STANDARD
BEGIN:DAYLIGHT
TZOFFSETFROM:-0800
TZOFFSETTO:-0700
TZNAME:PDT
DTSTART:20190310T100000
END:DAYLIGHT
BEGIN:STANDARD
TZOFFSETFROM:-0700
TZOFFSETTO:-0800
TZNAME:PST
DTSTART:20191103T090000
END:STANDARD
BEGIN:DAYLIGHT
TZOFFSETFROM:-0800
TZOFFSETTO:-0700
TZNAME:PDT
DTSTART:20200308T100000
END:DAYLIGHT
BEGIN:STANDARD
TZOFFSETFROM:-0700
TZOFFSETTO:-0800
TZNAME:PST
DTSTART:20201101T090000
END:STANDARD
END:VTIMEZONE
BEGIN:VEVENT
DTSTART;TZID=America/Los_Angeles:20190622T140000
DTEND;TZID=America/Los_Angeles:20190622T160000
DTSTAMP:20260423T193131
CREATED:20190611T182900Z
LAST-MODIFIED:20190621T220132Z
UID:3229-1561212000-1561219200@www.tap-oc.org
SUMMARY:06/22 Adulting 101 - Empower Your Savings\, Investments & Personal Finance
DESCRIPTION:Just started working or wondering how to make the most of your spare income? Want to make a little go a long way down the line? TAP OC has the answers for you! This will be a FREE event with light refreshments provided. SPACE IS LIMITED. Please bring your friends and family to come learn more about personal finance! A continuation of our Adulting 101 Series of Professional Events. \nJoin us as we dive into different ways post-college working professionals can make the best use of their money – savings\, investments\, and personal financial management! Come learn from experienced finance professionals as they share their wealth of information in workshop sessions\, followed by open Q&A to address any burning questions you have about all things money related. \nWe will be announcing each speaker of this event every week\, so make sure you click “Going” or “interested” to get the updates! \nIf you have questions\, please contact calvin.kou@tap-oc.org. \n\nAnnouncing the first speaker in our workshop! \n \nTony Chou has over 10 years of experience in the financial sector with firms such as Morgan Stanley and Merrill Lynch in the past. Past areas of Tony’s expertise include Private Wealth Management in the International division. Tony Chou now splits his time between running his own firms specializing in realty and finance/investment. Tony is currently involved with Opsis Capital\, an alternative investment firm with a focus on real estate. \nFUN FACT: He’s also a TAP Board Alumni. \n\nOur second speaker in this upcoming weekend’s workshop is Steve Huang\, MBA. \n\n \nAn OC resident of over 30 years\, Steve has had a hand in finance\, city council\, real estate\, and marketing and he has also dedicated his life to help others as a volunteer and as a professional. Steve’s financial expertise includes: \n• Working with clients to protect the most valuable assets\n• Replacing income stream if clients are unable to work\n• Maintaining quality of life if unforeseen events in life happen\n• Creating additional income stream for retirement\n• Providing a legacy for the future generation \n\nIn his free time\, he enjoys hiking and camping in the wonderful Californian wilderness. He is also deeply committed to community service. He currently serves on the Boards of Taiwanese American Professionals Orange County (TAP-OC) and Orange County Chinese American Artists (OCCAA)\, and also as a Steering Committee member for Irvine Global Village Festival. \n\nIntroducing our third and final speaker; Ajay Aggarwal \n \nHe has worked in the banking industry for over 17 years. Has a total of 20+ years in financial service combined. \nCurrently\, he serves as a Assistant Vice President and Branch Manager at US Bank. He is passionate about helping people with banking and personal and business finances. A topic he loves is helping people start toward financial wellness. \n\nAlso\, he has been a SoCal resident for over 30 years so he knows what it is like down here!
URL:https://www.tap-oc.org/event/06-22-adulting-101-empower-your-savings-investments-personal-finance/
LOCATION:Pacific Academy Irvine\, 4947 Alton Pkwy\, Irvine\, California\, 92604
CATEGORIES:indoor,networking,professional
ATTACH;FMTTYPE=image/jpeg:https://www.tap-oc.org/wp-content/uploads/61992914_2536585549754144_4515886154414817280_o.jpg
ORGANIZER;CN="Taiwanese American Professionals - Orange County (TAP-OC)":MAILTO:info@tap-oc.org
END:VEVENT
BEGIN:VEVENT
DTSTART;TZID=America/Los_Angeles:20190608T083000
DTEND;TZID=America/Los_Angeles:20190608T113000
DTSTAMP:20260423T193131
CREATED:20190603T221931Z
LAST-MODIFIED:20190603T221931Z
UID:2971-1559982600-1559993400@www.tap-oc.org
SUMMARY:06/08 Summer Food Bank Service
DESCRIPTION:Summer is here and so is our next community service event! Join TAP-OC as we volunteer at the Second Harvest Food Bank of Orange County. There are a limited number of spots available for volunteers\, so be sure to sign up ASAP if you missed our previous events! \nWe will be helping out by sorting and packaging fresh produce\, non-perishable food and food drive items. Together\, we are able to fight hunger in our community\, one step at a time. \n**Sign up here** https://feedoc.volunteerhub.com/event/index/8454851\nLocation: Second Harvest Food Bank (8014 Marine Way\, Irvine CA 92618) \n**Directions and Parking**\nPlease plan to arrive 10 – 15 minutes prior to the start of the shift to allow time to check in and begin on time.\n>> Map and directions to Second Harvest Food Bank: https://goo.gl/jZX9Ad\n>> Parking directions: https://goo.gl/tLEpqh \n**What to Wear and Expect**\n>> Closed-toed shoes are required.\n>> The temperature in the distribution center is similar to the temperature outside. We recommend wearing comfortable clothing accordingly.\n>> It is recommended not bringing any valuable items with you or leave them in your car.
URL:https://www.tap-oc.org/event/06-08-summer-food-bank-service/
LOCATION:Second Harvest Food Bank\, 8014 Marine Way\, Irvine\, CA\, 92618\, United States
CATEGORIES:indoor,service
ATTACH;FMTTYPE=image/jpeg:https://www.tap-oc.org/wp-content/uploads/60714524_2507698589309507_1770715411554238464_o.jpg
ORGANIZER;CN="Taiwanese American Professionals - Orange County (TAP-OC)":MAILTO:info@tap-oc.org
END:VEVENT
BEGIN:VEVENT
DTSTART;TZID=America/Los_Angeles:20190315T200000
DTEND;TZID=America/Los_Angeles:20190315T220000
DTSTAMP:20260423T193131
CREATED:20190304T064501Z
LAST-MODIFIED:20190304T064501Z
UID:1788-1552680000-1552687200@www.tap-oc.org
SUMMARY:03/15 Ice Skating Night
DESCRIPTION:Enjoy the last bit of the winter season and come ice skating with TAP-OC at this brand new\, state-of-the-art skating rink in Great Park Irvine! ❄️ Whether you’re new to ice skating or want to channel your inner Michelle Kwan or Shib-Sibs to show off your triple axel jumps\, we welcome all levels. ⛸ \n?? We will have limited spots available\, so reserve your spot ASAP! Purchases are non-refundable but are transferable. To reserve your spot\, please venmo @TAP-OC with your name and email in the payment description. \n? Ticket includes rink admission & skate rentals:\n$18 by March 14th\n$20 at the door \nIf you have any questions\, please contact us at info@tap-oc.org. \nAbout the facility: ??⛸\nConsidered the largest skating rink in California\, the complex is also where the Anaheim Ducks and Anaheim Ice will be practicing. At 280\,000 square ft\, the facility also offers different skating lesson programs and leagues – ice skating\, curling and hockey!
URL:https://www.tap-oc.org/event/03-15-ice-skating-night/
LOCATION:Great Park Ice\, 888 Ridge Valley\, Irvine\, CA\, 92618\, United States
CATEGORIES:fitness,indoor,social,sports
ATTACH;FMTTYPE=image/jpeg:https://www.tap-oc.org/wp-content/uploads/TAP-OC-Ice-Skating-2019.jpg
ORGANIZER;CN="Taiwanese American Professionals - Orange County (TAP-OC)":MAILTO:info@tap-oc.org
END:VEVENT
BEGIN:VEVENT
DTSTART;TZID=America/Los_Angeles:20190116T190000
DTEND;TZID=America/Los_Angeles:20190116T210000
DTSTAMP:20260423T193131
CREATED:20181207T202943Z
LAST-MODIFIED:20181207T202943Z
UID:1517-1547665200-1547672400@www.tap-oc.org
SUMMARY:01/16 Winter Board Game Social
DESCRIPTION:Dying to show off your board game prowess while exploring the local food scene? Well we’ve got the event for you! Come play awesome games with your fellow TAP-OC members and check out the amazing food court that features not just 1\, but 3 boba places! We will bring our favorite board games but feel free to bring your own as well! \nAny questions or comments\, please contact Amanda at amanda.ni@tap-oc.org
URL:https://www.tap-oc.org/event/01-16-winter-board-game-social/
LOCATION:The Source\, 6940 Beach Blvd\, Buena Park\, CA\, 90621\, United States
CATEGORIES:foodie,games,indoor,social
ATTACH;FMTTYPE=image/jpeg:https://www.tap-oc.org/wp-content/uploads/TAPOC-2019-Jan-Board-Game-Night.jpg
END:VEVENT
BEGIN:VEVENT
DTSTART;TZID=America/Los_Angeles:20181030T200000
DTEND;TZID=America/Los_Angeles:20181030T220000
DTSTAMP:20260423T193131
CREATED:20181025T170121Z
LAST-MODIFIED:20181025T170121Z
UID:1131-1540929600-1540936800@www.tap-oc.org
SUMMARY:10/30 Taiwan Philharmonic US Tour
DESCRIPTION:Following the Taiwan Philharmonic’s U.S. debut with the Philharmonic Society in 2016\, the Los Angeles Times declared\, “The Taiwan Philharmonic is overdue for a major U.S. tour.” This fall\, the Taiwan Philharmonic and music director Shao-Chia Lü return to Orange County to launch their first U.S. tour. \nPianist Stephen Hough\, a Commander of the British Empire\, joins them as featured soloist in Liszt’s Piano Concerto No. 1. The Taiwan Philharmonic also performs “Dancing Song” by notable Taiwan composer Gordon Chin and rounds out the program with two pillars from the French repertory: Debussy’s stirring evocation of the sea La Mer and the second suite from Ravel’s Daphnis et Chloé\, a brilliant orchestral showpiece. \nUse the promo code “TAPOC” at checkout and 20% of the proceeds will be donated to TAP-OC!
URL:https://www.tap-oc.org/event/10-30-taiwan-philharmonic-us-tour/
LOCATION:Segerstrom\, 600 Town Center Dr.\, Costa Mesa\, CA\, 92626\, United States
CATEGORIES:indoor
ATTACH;FMTTYPE=image/jpeg:https://www.tap-oc.org/wp-content/uploads/2018/10/taiwanese-american-professionals-orange-county-philharmonic.jpg
ORGANIZER;CN="Taiwanese American Professionals - Orange County (TAP-OC)":MAILTO:info@tap-oc.org
END:VEVENT
BEGIN:VEVENT
DTSTART;TZID=America/Los_Angeles:20181027T103000
DTEND;TZID=America/Los_Angeles:20181027T120000
DTSTAMP:20260423T193131
CREATED:20181010T194514Z
LAST-MODIFIED:20181010T195315Z
UID:1097-1540636200-1540641600@www.tap-oc.org
SUMMARY:10/27 Costume Trampoline Dodgeball
DESCRIPTION:Did you know that trampoline provides many of the same benefits as gymnastics\, yoga\, and calisthenics? Bring your A-game and get a great workout at Trampoline Dodgeball! Since Halloween is just right around the corner\, we welcome you to dress up in a costume – best dressed attendee will receive a special prize 🙂 \nOur event will be held at Big Air in Buena Park:\n8320 On The Mall\, Buena Park\, CA 90620 \nPurchase tickets here: https://goo.gl/forms/RFFVlLJKaguB2iqT2\n1. Fill out the Google form.\n2. Venmo payment to “TAP-OC” for $14 per person\n(Please include your name in payment description) \nCancellations & Refunds Policy:\n100% refund if notified prior to 10/20/2018 at 12:00 PM\n50% refund if notified prior to 10/24/2018 at 12:00 PM \nThere will be multiple attractions including:\n– Extreme Dodgeball\n– The Bullpen: Big Air experience will put your core to the test in classic cowboy fashion\n– Airstrike: Form a team and enter the AirStrike Arena where you and your team will put your skills to the test as you aim for targets\, stack up points\, and race the clock\n– Many more activities! \nAnyone and everyone is welcome\, so invite your friends.\nBring water and hop away! \nIf you have any questions about the event\, please email steven.yang@tap-oc.org.
URL:https://www.tap-oc.org/event/10-27-costume-trampoline-dodgeball/
LOCATION:Big Air Buena Park\, 8320 On the Mall\, Buena Park\, CA\, 90620
CATEGORIES:fitness,holiday,indoor,sports
ATTACH;FMTTYPE=image/jpeg:https://www.tap-oc.org/wp-content/uploads/2018/10/43414383_2157174664361903_663827813102518272_o.jpg
ORGANIZER;CN="Taiwanese American Professionals - Orange County (TAP-OC)":MAILTO:info@tap-oc.org
END:VEVENT
BEGIN:VEVENT
DTSTART;TZID=America/Los_Angeles:20180923T150000
DTEND;TZID=America/Los_Angeles:20180923T170000
DTSTAMP:20260423T193131
CREATED:20180911T183402Z
LAST-MODIFIED:20180912T223950Z
UID:1077-1537714800-1537722000@www.tap-oc.org
SUMMARY:09/23 Moonfest: Mid-Autumn Celebration
DESCRIPTION:Celebrate Mid-Autumn Festival (中秋節) with TAP-OC by joining us for mooncake and tea tasting and crafts! \nMid-Autumn is a time for reunion and a celebration for good luck. We will be using Chinese knotting (中國結) to make an ornament that celebrates “togetherness” (團結) and as an auspicious token of abundance\, harmony\, and luck. Plus\, who doesn’t love MOONCAKES? ???? \nWe are extremely delighted to welcome Teacher Chen (陳淑惠老師)\, who has been teaching at Irvine Chinese School for more than a decade. She will be sharing her Chinese knotting skills and tips with us! \nTickets are $15 per person\, including material fee\, mooncake and tea tasting. Venmo @TAP-OC to reserve your spot! \n***Please follow below format for venmo***\nName\, Moonfest\, Email \n***Please email Jenny at jenny.cheng@tap-oc.org for other payment options*** \nIf you have questions\, please reach out to our event lead: Jenny Cheng (jenny.cheng@tap-oc.org)
URL:https://www.tap-oc.org/event/09-23-moonfest-mid-autumn-celebration/
LOCATION:TECO (Santa Ana)\, 2901 W. MacArthur Blvd. #115\, Santa Ana\, CA\, 92704
CATEGORIES:celebration,cultural,indoor
ATTACH;FMTTYPE=image/jpeg:https://www.tap-oc.org/wp-content/uploads/2018/09/41544280_2120100404735996_1594651336152973312_n.jpg
ORGANIZER;CN="Taiwanese American Professionals - Orange County (TAP-OC)":MAILTO:info@tap-oc.org
END:VEVENT
BEGIN:VEVENT
DTSTART;TZID=America/Los_Angeles:20180811T123000
DTEND;TZID=America/Los_Angeles:20180811T153000
DTSTAMP:20260423T193131
CREATED:20180710T190911Z
LAST-MODIFIED:20180813T074855Z
UID:857-1533990600-1534001400@www.tap-oc.org
SUMMARY:08/11 Hungry to End Hunger
DESCRIPTION:Summer is here and so is our next community service event! Join TAP-OC as we volunteer at the Second Harvest Food Bank of Orange County. There are a limited number of spots available for volunteers\, so be sure to sign up ASAP if you missed our previous events! \nWe will be helping out by sorting and packaging fresh produce\, non-perishable food and food drive items. Together\, we are able to fight hunger in our community\, one step at a time. \n**Sign up here** https://feedoc.volunteerhub.com/Event/Index/6452103 (only 15 spots available.)\nLocation: Second Harvest Food Bank (8014 Marine Way\, Irvine CA 92618) \n**Directions and Parking**\nPlease plan to arrive 10 – 15 minutes prior to the start of the shift to allow time to check in and begin on time.\n>> Map and directions to Second Harvest Food Bank: https://goo.gl/jZX9Ad\n>> Parking directions: https://goo.gl/tLEpqh \n**What to Wear and Expect**\n>> Closed-toed shoes are required.\n>> The temperature in the distribution center is similar to the temperature outside. We recommend wearing comfortable clothing accordingly.\n>> It is recommended not bringing any valuable items with you or leave them in your car.
URL:https://www.tap-oc.org/event/08-11-community-service-hungry-to-end-hunger/
LOCATION:Second Harvest Food Bank\, 8014 Marine Way\, Irvine\, CA\, 92618\, United States
CATEGORIES:indoor,service
ATTACH;FMTTYPE=image/jpeg:https://www.tap-oc.org/wp-content/uploads/2018/07/taiwanese-american-professionals-orange-county-food-bank-18-2.jpg
ORGANIZER;CN="Taiwanese American Professionals - Orange County (TAP-OC)":MAILTO:info@tap-oc.org
END:VEVENT
BEGIN:VEVENT
DTSTART;TZID=America/Los_Angeles:20180726T190000
DTEND;TZID=America/Los_Angeles:20180726T203000
DTSTAMP:20260423T193131
CREATED:20180710T190427Z
LAST-MODIFIED:20180710T190529Z
UID:850-1532631600-1532637000@www.tap-oc.org
SUMMARY:07/26 Indoor Go-Kart Racing
DESCRIPTION:More details coming right around the corner\, hang on to your hats\, shells\, and bananas.
URL:https://www.tap-oc.org/event/07-26-indoor-go-kart-racing/
LOCATION:K1 Speed\, 17221 Von Karman Ave\, Irvine\, CA\, 92614
CATEGORIES:fitness,indoor,sports
ATTACH;FMTTYPE=image/jpeg:https://www.tap-oc.org/wp-content/uploads/2018/07/taiwanese-american-professionals-orange-county-k1.jpg
ORGANIZER;CN="Taiwanese American Professionals - Orange County (TAP-OC)":MAILTO:info@tap-oc.org
END:VEVENT
BEGIN:VEVENT
DTSTART;TZID=America/Los_Angeles:20180224T143000
DTEND;TZID=America/Los_Angeles:20180224T160000
DTSTAMP:20260423T193131
CREATED:20180201T225742Z
LAST-MODIFIED:20180405T234055Z
UID:284-1519482600-1519488000@www.tap-oc.org
SUMMARY:02/24 Arrow Tag: No Aim\, No Game!
DESCRIPTION:Ready for our next activity?! Come out for TAP-OC’s first Arrow Tag event. This activity combines your ability to maneuver around and shoot the target! Come show off what you got! \n>> $14 Early Bird until February 14th\n>> $17 Regular until all spots are filled \n(Step 1) Venmo @TAP-OC in advance. In the Venmo app\, please list your NAME\, EMAIL\, and EVENT (Arrow Tag 2/24)\n(Step 2) Please fill-out the Google Form: https://goo.gl/forms/RNtSw1KDOu6VIppu2\n(Step 3) Fill out the online waiver form: https://arrowtagoc.com/ \nPlease dress in sports attire\, bring a good amount of water!\nEach round will be around 4-6 minutes. Arrive on-time to start our pre-archery training offered by the facility. Don’t be late!\n\nAny questions\, please email steven.yang@tap-oc.org \nSee you all soon!
URL:https://www.tap-oc.org/event/arrow-tag-no-aim-no-game/
LOCATION:Arrow Tag OC\, 3400 W. Warner Ave\, Santa Ana\, CA\, 92704\, United States
CATEGORIES:fitness,indoor,sports
ORGANIZER;CN="Taiwanese American Professionals - Orange County (TAP-OC)":MAILTO:info@tap-oc.org
END:VEVENT
BEGIN:VEVENT
DTSTART;TZID=America/Los_Angeles:20171118T110000
DTEND;TZID=America/Los_Angeles:20171118T140000
DTSTAMP:20260423T193131
CREATED:20180404T200738Z
LAST-MODIFIED:20180405T234317Z
UID:614-1511002800-1511013600@www.tap-oc.org
SUMMARY:11/18 Holiday Toy Drive Luncheon
DESCRIPTION:Thanksgiving is just around the corner and it is the perfect time to give back to the community! \nThis holiday season\, Taiwanese American Professionals – Orange County (TAP-OC) and OCTW are teaming up to host a Holiday Toy Drive Luncheon! Our goal this year is to provide 50 kids with toys this holiday season. Please come out\, support the kids and our community. \nDate and Time: November 18th 11:00am – 2:00pm\nLocation: 2901 W. MacArthur Blvd. #115 Santa Ana\, CA 92704\nTicket: $15 – includes lunch by O’Shine and a sponsored toy that will be donated to a kid in need. (Thanks to Sunlite Industrial Corp.!) \nCash and Venmo payments will be accepted at the door! \nIf you can’t make it\, you can still donate a toy to someone in need! Please Venmo TAP-OC or reach out to one of our boardmembers. \nOPTIONAL: \nOCTW and TAP-OC will also be supporting Samaritan’s Purse project\, Operation Christmas Child. Their mission is to provide local partners around the world with shoeboxes filled with small toys and school supplies as a means of reaching out to children in their own communities. Samaritan’s Purse provides these boxes to children affected by war\, poverty\, natural disaster\, famine and disease. \nWe ask that if you’re interested to participate in this great project. For all who participate\, there will be a competition for the best shoebox. Winner will receive a $50 gift card! Sound tempting? Invite your friends to join the feast of love and delicious Taiwanese food now!
URL:https://www.tap-oc.org/event/holiday-toy-drive-luncheon/
LOCATION:TECO (Santa Ana)\, 2901 W. MacArthur Blvd. #115\, Santa Ana\, CA\, 92704
CATEGORIES:indoor,service
ORGANIZER;CN="Taiwanese American Professionals - Orange County (TAP-OC)":MAILTO:info@tap-oc.org
END:VEVENT
BEGIN:VEVENT
DTSTART;TZID=America/Los_Angeles:20171019T200000
DTEND;TZID=America/Los_Angeles:20171019T220000
DTSTAMP:20260423T193131
CREATED:20180404T201812Z
LAST-MODIFIED:20180405T234444Z
UID:622-1508443200-1508450400@www.tap-oc.org
SUMMARY:10/19 17th Door Halloween Haunt
DESCRIPTION:It’s time to ring in the holiday season with a thrilling visit to one of Southern California’s scariest Halloween attractions! On Thursday\, October 19th\, join TAP-OC as we brave our way through the chilling scenes at The 17th Door. \nTickets are $22. You may pre-purchase here: http://the17thdoor.com/october-19-tickets/\n**8-9PM tickets**
URL:https://www.tap-oc.org/event/17th-door-halloween-haunt/
LOCATION:17th Door\, 1851 W Orangethorpe\, Fullerton\, CA\, 92833
CATEGORIES:holiday,indoor,social
ORGANIZER;CN="Taiwanese American Professionals - Orange County (TAP-OC)":MAILTO:info@tap-oc.org
END:VEVENT
BEGIN:VEVENT
DTSTART;TZID=America/Los_Angeles:20170719T180000
DTEND;TZID=America/Los_Angeles:20170719T200000
DTSTAMP:20260423T193131
CREATED:20180404T202257Z
LAST-MODIFIED:20180405T234518Z
UID:628-1500487200-1500494400@www.tap-oc.org
SUMMARY:07/19 OC TAPpy Hour at Social
DESCRIPTION:With the full-blown hot summer weather taking over lately\, join us for a TAPpy Hour Social for a quick drink to cool down and get to know the TAP members in OC better! \nWe will be mingling at Social in Costa Mesa with happy hour deals going all night! Parking lot spaces are available but may be limited\, so Uber/Lyft is strongly encouraged if you’re nearby\, and more so if you plan on drinking! Valet is also available for $5.
URL:https://www.tap-oc.org/event/oc-tappy-hour-at-social/
LOCATION:Social Costa Mesa\, 512 W 19th St\, Costa Mesa\, CA\, 92627
CATEGORIES:indoor,social,tappy hour
ORGANIZER;CN="Taiwanese American Professionals - Orange County (TAP-OC)":MAILTO:info@tap-oc.org
END:VEVENT
END:VCALENDAR