BEGIN:VCALENDAR
VERSION:2.0
PRODID:-//Taiwanese American Professionals - Orange County Chapter - ECPv6.15.18//NONSGML v1.0//EN
CALSCALE:GREGORIAN
METHOD:PUBLISH
X-WR-CALNAME:Taiwanese American Professionals - Orange County Chapter
X-ORIGINAL-URL:https://www.tap-oc.org
X-WR-CALDESC:Events for Taiwanese American Professionals - Orange County Chapter
REFRESH-INTERVAL;VALUE=DURATION:PT1H
X-Robots-Tag:noindex
X-PUBLISHED-TTL:PT1H
BEGIN:VTIMEZONE
TZID:America/Los_Angeles
BEGIN:DAYLIGHT
TZOFFSETFROM:-0800
TZOFFSETTO:-0700
TZNAME:PDT
DTSTART:20240310T100000
END:DAYLIGHT
BEGIN:STANDARD
TZOFFSETFROM:-0700
TZOFFSETTO:-0800
TZNAME:PST
DTSTART:20241103T090000
END:STANDARD
BEGIN:DAYLIGHT
TZOFFSETFROM:-0800
TZOFFSETTO:-0700
TZNAME:PDT
DTSTART:20250309T100000
END:DAYLIGHT
BEGIN:STANDARD
TZOFFSETFROM:-0700
TZOFFSETTO:-0800
TZNAME:PST
DTSTART:20251102T090000
END:STANDARD
BEGIN:DAYLIGHT
TZOFFSETFROM:-0800
TZOFFSETTO:-0700
TZNAME:PDT
DTSTART:20260308T100000
END:DAYLIGHT
BEGIN:STANDARD
TZOFFSETFROM:-0700
TZOFFSETTO:-0800
TZNAME:PST
DTSTART:20261101T090000
END:STANDARD
END:VTIMEZONE
BEGIN:VEVENT
DTSTART;TZID=America/Los_Angeles:20251107T043000
DTEND;TZID=America/Los_Angeles:20251107T173000
DTSTAMP:20260423T204657
CREATED:20251030T021327Z
LAST-MODIFIED:20251030T022158Z
UID:6996-1762489800-1762536600@www.tap-oc.org
SUMMARY:Blizzard Entertainment Company Tour (Seat Lotto)
DESCRIPTION:Blizzard Office Tour is here!!\nStep into the world of magic\, mayhem\, and epic game vibes \nJoin us for an exclusive behind-the-scenes tour at Blizzard HQ! \nSpots are limited — lock in the date and get ready for a legendary adventure you won’t forget!\nPlease note that only eight participants will be selected through a lottery. The results will be announced on Monday\, November 3\, followed by an email notification to all participants.\nTo enter into the drawing\, complete this Google Form: https://forms.gle/JBujVL9Jds2CxLUh7\nDetails:\n Date: Friday\, November 7\, 2025\n Time: 4:30 PM – 5:30 PM + Let’s grab dinner after the tour\n Location: Blizzard Entertainment (16215 Alton Pkwy\, Irvine\, CA 92618)\nDirection: Use the pin below to drive through the gates\, park and meet by the Orc statue in the middle of the courtyard\nhttps://maps.app.goo.gl/2dFo2J5SbbKAUnFb8\nParking: Free
URL:https://www.tap-oc.org/event/blizzard-entertainment-company-tour/
LOCATION:Blizzard Activision\, 16215 Alton Pkwy\, Irvine\, CA\, 92618
CATEGORIES:games,indoor
ATTACH;FMTTYPE=image/jpeg:https://www.tap-oc.org/wp-content/uploads/572276414_1130627592607631_339824031095082898_n.jpg
ORGANIZER;CN="Taiwanese American Professionals - Orange County (TAP-OC)":MAILTO:info@tap-oc.org
END:VEVENT
END:VCALENDAR