BEGIN:VCALENDAR
VERSION:2.0
PRODID:-//Taiwanese American Professionals - Orange County Chapter - ECPv6.15.18//NONSGML v1.0//EN
CALSCALE:GREGORIAN
METHOD:PUBLISH
X-WR-CALNAME:Taiwanese American Professionals - Orange County Chapter
X-ORIGINAL-URL:https://www.tap-oc.org
X-WR-CALDESC:Events for Taiwanese American Professionals - Orange County Chapter
REFRESH-INTERVAL;VALUE=DURATION:PT1H
X-Robots-Tag:noindex
X-PUBLISHED-TTL:PT1H
BEGIN:VTIMEZONE
TZID:America/Los_Angeles
BEGIN:DAYLIGHT
TZOFFSETFROM:-0800
TZOFFSETTO:-0700
TZNAME:PDT
DTSTART:20170312T100000
END:DAYLIGHT
BEGIN:STANDARD
TZOFFSETFROM:-0700
TZOFFSETTO:-0800
TZNAME:PST
DTSTART:20171105T090000
END:STANDARD
BEGIN:DAYLIGHT
TZOFFSETFROM:-0800
TZOFFSETTO:-0700
TZNAME:PDT
DTSTART:20180311T100000
END:DAYLIGHT
BEGIN:STANDARD
TZOFFSETFROM:-0700
TZOFFSETTO:-0800
TZNAME:PST
DTSTART:20181104T090000
END:STANDARD
BEGIN:DAYLIGHT
TZOFFSETFROM:-0800
TZOFFSETTO:-0700
TZNAME:PDT
DTSTART:20190310T100000
END:DAYLIGHT
BEGIN:STANDARD
TZOFFSETFROM:-0700
TZOFFSETTO:-0800
TZNAME:PST
DTSTART:20191103T090000
END:STANDARD
END:VTIMEZONE
BEGIN:VEVENT
DTSTART;TZID=America/Los_Angeles:20180711T183000
DTEND;TZID=America/Los_Angeles:20180711T223000
DTSTAMP:20260423T223410
CREATED:20180620T232507Z
LAST-MODIFIED:20180710T190659Z
UID:820-1531333800-1531348200@www.tap-oc.org
SUMMARY:07/11 Summer TAPpy Hour
DESCRIPTION:Join us for a fun outing at our next TAPpy Hour on July 11! What better way to celebrate the awesomeness of 7-11 than to dine in style at Eureka!\, located in the University Center by UCI. Don’t miss out on our ever-growing social gatherings. We’ll end the night with some dessert at the popular CHA FOR TEA\, or maybe if you’re in for some cold dessert you can get Stax\, Yogurtland\, or Snow Monster!
URL:https://www.tap-oc.org/event/07-11-summer-tappy-hour/
LOCATION:Eureka\, Irvine\, 4143 Campus Drive\, Irvine\, California\, 92612
CATEGORIES:foodie,social,tappy hour
ATTACH;FMTTYPE=image/jpeg:https://www.tap-oc.org/wp-content/uploads/2018/06/taiwanese-american-professionals-orange-county-summer-tappy-hour-18.jpg
ORGANIZER;CN="Taiwanese American Professionals - Orange County (TAP-OC)":MAILTO:info@tap-oc.org
END:VEVENT
BEGIN:VEVENT
DTSTART;TZID=America/Los_Angeles:20180620T183000
DTEND;TZID=America/Los_Angeles:20180620T203000
DTSTAMP:20260423T223410
CREATED:20180511T175513Z
LAST-MODIFIED:20180511T183235Z
UID:775-1529519400-1529526600@www.tap-oc.org
SUMMARY:06/20 Foodie Social in Irvine
DESCRIPTION:Back by popular demand from our food-loving members… Foodie Social Pt. 2 hits up another local spot that serves up some of the most Instagrammable dishes. From burgers to seafood platters\, poke bowls to waffle popsicles – TRADE Food Hall has got it all. \nThere will be limited spots available (16 total) so PLEASE RSVP so that we can keep the dinner in a smaller\, more intimate group setting. \nSign up here: https://goo.gl/forms/zUW6ycNwmwV8H1663 \nFor questions or comments in regards to our events\, please contact tiffany.yang@tap-oc.org.
URL:https://www.tap-oc.org/event/06-20-foodie-social-in-irvine/
LOCATION:TRADE Food Hall\, 2222 Michelson Drive\, Irvine\, CA\, 92612
CATEGORIES:foodie,social
ATTACH;FMTTYPE=image/jpeg:https://www.tap-oc.org/wp-content/uploads/2018/05/taiwanese-american-professionals-orange-county-foodie-2.jpg
ORGANIZER;CN="Taiwanese American Professionals - Orange County (TAP-OC)":MAILTO:info@tap-oc.org
END:VEVENT
BEGIN:VEVENT
DTSTART;TZID=America/Los_Angeles:20180530T190000
DTEND;TZID=America/Los_Angeles:20180530T210000
DTSTAMP:20260423T223410
CREATED:20180514T173449Z
LAST-MODIFIED:20180514T174316Z
UID:784-1527706800-1527714000@www.tap-oc.org
SUMMARY:05/30 Taiwanese American Heritage Month Munch
DESCRIPTION:With the month of May being what we would like to call Taiwanese American Heritage Month\, we’ve got a customized dinner planned out at one of our local favorites\, O’Shine! \nFor $15\, you too can join in on a hand-picked meal from the owner. Don’t miss out on local comfort food\, and there’s really no better price than a manager special. \nSign up here: https://goo.gl/forms/ncQ6zK75cFKTGaGq2 \nThere are limited spots available so be sure to RSVP early on!
URL:https://www.tap-oc.org/event/05-30-taiwanese-american-heritage-month-munch/
LOCATION:O’Shine Taiwanese Kitchen\, 13834 Red Hill Ave\, Tustin\, California\, 92780
CATEGORIES:cultural,foodie,social
ATTACH;FMTTYPE=image/jpeg:https://www.tap-oc.org/wp-content/uploads/2018/05/taiwanese-american-professionals-orange-county-oshine.jpg
ORGANIZER;CN="Taiwanese American Professionals - Orange County (TAP-OC)":MAILTO:info@tap-oc.org
END:VEVENT
BEGIN:VEVENT
DTSTART;TZID=America/Los_Angeles:20180418T190000
DTEND;TZID=America/Los_Angeles:20180418T210000
DTSTAMP:20260423T223410
CREATED:20180405T233447Z
LAST-MODIFIED:20180405T235813Z
UID:706-1524078000-1524085200@www.tap-oc.org
SUMMARY:04/18 Foodie Social - Small Group Dinner
DESCRIPTION:Hump day getting you down? How about checking out Taiwanese American Professionals of Orange County’s first ever Foodie Social! Come join us to meet other like-minded individuals at Santa Ana’s 4th Street Market. \n4th Street Market is a progressive culinary hub inspired by the spirit of creative chefs\, food artisans\, and small business entrepreneurs. The eclectic offering of dining options (featured in many food videos)\, craft cocktails\, beer garden\, cutting edge graffiti wall\, living wall\, and live music attract even the most discerning of food lovers. \nWe will have limited spots (16) for this event so make sure to sign up fast!\nClick here >> https://goo.gl/forms/YZ4jRbhtHGFWxalG2 \nFor questions or comments in regards to our events\, please contact: \n Amanda at amanda.ni@tap-oc.org; or\, \nTiffany at tiffany.yang@tap-oc.org.
URL:https://www.tap-oc.org/event/foodie-social-small-group-dinner/
LOCATION:4th Street Market – Santa Ana\, 201 E 4th St\, Santa Ana\, CA\, 92701
CATEGORIES:foodie,networking,social
ORGANIZER;CN="Taiwanese American Professionals - Orange County (TAP-OC)":MAILTO:info@tap-oc.org
END:VEVENT
END:VCALENDAR