BEGIN:VCALENDAR
VERSION:2.0
PRODID:-//Taiwanese American Professionals - Orange County Chapter - ECPv6.15.18//NONSGML v1.0//EN
CALSCALE:GREGORIAN
METHOD:PUBLISH
X-WR-CALNAME:Taiwanese American Professionals - Orange County Chapter
X-ORIGINAL-URL:https://www.tap-oc.org
X-WR-CALDESC:Events for Taiwanese American Professionals - Orange County Chapter
REFRESH-INTERVAL;VALUE=DURATION:PT1H
X-Robots-Tag:noindex
X-PUBLISHED-TTL:PT1H
BEGIN:VTIMEZONE
TZID:America/Los_Angeles
BEGIN:DAYLIGHT
TZOFFSETFROM:-0800
TZOFFSETTO:-0700
TZNAME:PDT
DTSTART:20180311T100000
END:DAYLIGHT
BEGIN:STANDARD
TZOFFSETFROM:-0700
TZOFFSETTO:-0800
TZNAME:PST
DTSTART:20181104T090000
END:STANDARD
BEGIN:DAYLIGHT
TZOFFSETFROM:-0800
TZOFFSETTO:-0700
TZNAME:PDT
DTSTART:20190310T100000
END:DAYLIGHT
BEGIN:STANDARD
TZOFFSETFROM:-0700
TZOFFSETTO:-0800
TZNAME:PST
DTSTART:20191103T090000
END:STANDARD
BEGIN:DAYLIGHT
TZOFFSETFROM:-0800
TZOFFSETTO:-0700
TZNAME:PDT
DTSTART:20200308T100000
END:DAYLIGHT
BEGIN:STANDARD
TZOFFSETFROM:-0700
TZOFFSETTO:-0800
TZNAME:PST
DTSTART:20201101T090000
END:STANDARD
BEGIN:DAYLIGHT
TZOFFSETFROM:-0800
TZOFFSETTO:-0700
TZNAME:PDT
DTSTART:20210314T100000
END:DAYLIGHT
BEGIN:STANDARD
TZOFFSETFROM:-0700
TZOFFSETTO:-0800
TZNAME:PST
DTSTART:20211107T090000
END:STANDARD
BEGIN:DAYLIGHT
TZOFFSETFROM:-0800
TZOFFSETTO:-0700
TZNAME:PDT
DTSTART:20220313T100000
END:DAYLIGHT
BEGIN:STANDARD
TZOFFSETFROM:-0700
TZOFFSETTO:-0800
TZNAME:PST
DTSTART:20221106T090000
END:STANDARD
END:VTIMEZONE
BEGIN:VEVENT
DTSTART;TZID=America/Los_Angeles:20210122T190000
DTEND;TZID=America/Los_Angeles:20210122T203000
DTSTAMP:20260423T195249
CREATED:20210113T094601Z
LAST-MODIFIED:20210113T094601Z
UID:5098-1611342000-1611347400@www.tap-oc.org
SUMMARY:01/22 Minute to Win It Virtual Tournament
DESCRIPTION:Happy New Year\, TAPpy Fam!  Get a jump start to your fitness and social New Year resolutions with fellow TAP members in our first ever Minute to Win In Virtual Tournament!\nBrought to you by TAP-OC’s Health & Wellness and Social Programs\, this tournament will give contestants the opportunity to compete on teams in a series of fun and active games that last for one minute each. Inspired by the popular TV show\, each Minute to Win It game is a bit ridiculous by design\, uses common household items\, and can be played by anyone regardless of skill. The team at the end with the most points takes home bragging rights and some sweet swag! \nContestants will be randomly assigned into teams of 4-5 members at the beginning of the tournament. For the majority of the games\, one person from each team will be selected to compete with the selected contestants from the other teams\, while a few games will require total team participation. Activities may include some fitness components. \n Items Needed to Participate:\n• 1 apple\n• 1 cup of uncooked rice\n• A pair of chopsticks\n• A medium sized bowl\n• A small cracker or cookie\, such as an Oreo or Ritz cracker (~1.8 inches in diameter)\n• A baseball cap\n• A fork or spoon\n• 25 coins of the same size\nPlease sign up by Sunday\, January 17th\, via the Google Form below to enter the tournament!\nhttps://forms.gle/37TrW86EskEH7N2q8\nAfter registration closes\, participants will be emailed a final list of common household items to have ready during the tournament. All participants must also be willing to show their video during the virtual tournament. How else will we know you’re not cheating?? \nSign up soon to secure your spot! May the best team win! \nIf you have any questions or comments about our event or about TAP-OC\, please message us directly on FB or IG. You can also e-mail us at info@tap-oc.org.\nFollow us on Instagram and Facebook “Taiwanese American Professionals – Orange County – TAP OC” for the latest updates!
URL:https://www.tap-oc.org/event/01-22-minute-to-win-it-virtual-tournament/
LOCATION:CA
CATEGORIES:educational,family friendly,fitness,games,social,virtual
ATTACH;FMTTYPE=image/jpeg:https://www.tap-oc.org/wp-content/uploads/2021/01/TAP-OC-Minute-to-Win-It-2021.jpg
ORGANIZER;CN="Taiwanese American Professionals - Orange County (TAP-OC)":MAILTO:info@tap-oc.org
END:VEVENT
BEGIN:VEVENT
DTSTART;TZID=America/Los_Angeles:20200424T200000
DTEND;TZID=America/Los_Angeles:20200424T220000
DTSTAMP:20260423T195249
CREATED:20200418T000452Z
LAST-MODIFIED:20200418T000452Z
UID:4894-1587758400-1587765600@www.tap-oc.org
SUMMARY:04/24 Tigertail Watch Party (虎尾)
DESCRIPTION:? Get your popcorn and cozy loungewear ready ? it’s time for movie night with TAP-OC as we watch Tigertail\, the latest film written and directed by Taiwanese American director Alan Yang\, well known for Netflix series\, Master of None! \n? Be sure to RSVP ahead of time to receive the invite link prior to the event! https://forms.gle/3QuQBM6gTPKb9RPr8\nAlso\, you will need to install the Google Chrome extension and have access to a Netflix account to join. The movie will be played in sync for everyone and allow us to chat on the side! \n? Install the Google Extension beforehand: https://bit.ly/3ecpaqq \n? Afterwards\, we will host an after-movie-party where we can chat about the film\, any cultural revelations and all the emotions/feels\, etc. (We may possibly even have special guests stop by the party if we’re lucky) ? \n————— \nAbout Tigertail（虎尾） \nA Taiwanese factory worker makes the difficult decision to leave Taiwan\, his homeland\, to seek opportunity in America\, where he struggles to find connection while balancing family and newfound responsibilities in this multi-generational drama.
URL:https://www.tap-oc.org/event/04-24-tigertail-watch-party-%e8%99%8e%e5%b0%be/
LOCATION:CA
CATEGORIES:cultural,family friendly,social
ATTACH;FMTTYPE=image/png:https://www.tap-oc.org/wp-content/uploads/2020/04/tigertail.png
ORGANIZER;CN="Taiwanese American Professionals - Orange County (TAP-OC)":MAILTO:info@tap-oc.org
END:VEVENT
BEGIN:VEVENT
DTSTART;TZID=America/Los_Angeles:20200104T140000
DTEND;TZID=America/Los_Angeles:20200104T160000
DTSTAMP:20260423T195249
CREATED:20191210T092852Z
LAST-MODIFIED:20191210T092852Z
UID:4428-1578146400-1578153600@www.tap-oc.org
SUMMARY:01/04 TAP OC x NAAAP OC: Moon Cake 101
DESCRIPTION:What kind of festive Taiwanese food is your favorite? Rice cake (Niangao) for Chinese New Year\, Rice dumpling (Zongzi) for Dragon Boat Festival\, or moon cake for Mid-Autumn Festival? \nTAP OC and NAAAP OC are presenting you our first joint event in 2020: the snow skin moon cake cooking class! \nMoon cake is one of the traditional desserts for Mid-Autumn Festival and also an all-time popular delicacy that is usually enjoyed with family and friends. We would like to invite you to join us and have some fun (and delicious) time with our big OC family. ? \nSign up for early bird discount today! (early bird ends on 12/21 and sign up ends on 12/28)\nTo complete the sign up\, please (1) fill out this form and (2) Venmo @TAP-OC or Zelle to cyndy.kao@tap-oc.org with the event name and your full name to RSVP. \nhttps://forms.gle/NYRd8Q6eKTfzEmmp7 \n[ Time ] Saturday\, 1/4/2020\, 2:00 PM – 4:00 PM\n[ Location ] 18071 Fitch #200\, Irvine\, CA 92614\n[ Fee ] Early bird $12 (ends 12/21); General Admission $15 (ends 12/28)\n[ Sign up Deadline ] 12/28/2019 (Saturday)\n(Including two moon cakes to enjoy on the day of and four to take home.)\nIf you have any questions\, please contact us at tina.lee@tap-oc.org \nCheers\, \nTAP-OC & NAAP-OC
URL:https://www.tap-oc.org/event/01-04-tap-oc-x-naaap-oc-moon-cake-101/
LOCATION:Office 1\, 18071 Fitch #200\, Irvine\, CA\, 92614
CATEGORIES:celebration,cultural,family friendly,foodie,holiday
ATTACH;FMTTYPE=image/jpeg:https://www.tap-oc.org/wp-content/uploads/2019/12/Mooncake-101-Workshop-2020.jpg
ORGANIZER;CN="Taiwanese American Professionals - Orange County (TAP-OC)":MAILTO:info@tap-oc.org
END:VEVENT
BEGIN:VEVENT
DTSTART;TZID=America/Los_Angeles:20191215T140000
DTEND;TZID=America/Los_Angeles:20191215T160000
DTSTAMP:20260423T195249
CREATED:20191210T092619Z
LAST-MODIFIED:20191210T092619Z
UID:4423-1576418400-1576425600@www.tap-oc.org
SUMMARY:12/15 Holiday Party (Gingerbread Contest & Gift Drive)
DESCRIPTION:Get ready to celebrate the winter holidays with TAP-OC and friends as we host our last event of 2019! ?? \nJoin our holiday festivities as we not only have fun holiday themed activities and games but also giving back to the community as well! \n————– \nPart 1: THE FUN ?\nGet hands-on in our first ever Gingerbread House Contest as we see who’s got the best creative and architectural vision in OC! A little fun competition never hurt anyone (except the gingerbread men) so let’s see what you’ve got! ? \n? Ticket: $10 per entry (pay via Venmo @TAP-OC)\nYou may participate individually or as a team (up to 4 per team)\n**Limited tickets – so get yours ASAP! \nSign up here: https://forms.gle/ZF7tXWPESSQiePxS7 \nWinner will be selected by popularity vote during the event and will win a special prize and ultimate bragging rights! ? \nPart 2: THE GOOD ?\nHelp us give back to the community by bringing item donations as we continue our project with Grandma’s House of Hope last month! \nGrandma’s House of Hope (GHH) is a 501(c)(3) nonprofit organization committed to improving the quality of life for Orange County’s most vulnerable\, underserved and socio-economically disadvantaged community members by providing housing\, food and trauma-informed supportive services. \n?? Please see below for a list of items needed ??\n• Bus passes\n• Devotionals\n• Daily Planners\n• Shower Caddies\n• Cleaning Supplies\n• Blankets\n• Coffee\n• Paper Goods (paper plates\, etc.)\n• Cleaning Supplies\n• Diapers (newborn\, size 1\,2\,3)\n• Vacuums\n• Lawn Mowers\n• Brita Filters\n• Gift cards\n• Movie tickets to Regal or AMC theatres\n• NEW twin bedding (including sheets\, comforters\, blankets\, & pillows)\n• Hygiene products (toothbrush\, toothpaste\, toilet tissue\, body wash and lotion\, shampoo/conditioner\, dental floss\, Q-tips\, emery board\, nail clippers\, wash cloth\, etc.)\n• Art supplies\n• Gardening supplies\n• Seed packets \n? In the second half of our event\, we will be packing these items and writing holiday cards for the recipients of your donations! \n————– \nThis event is friendly for all ages! Bring your family\, kids\, friends and pets! (The park is dog friendly). \nFeel free to message us if you have any questions! See you soon ? \nSign up here: https://forms.gle/ZF7tXWPESSQiePxS7
URL:https://www.tap-oc.org/event/12-15-holiday-party-gingerbread-contest-gift-drive/
LOCATION:Lower Peters Canyon Park\, 3901 Farwell Ave\, Irvine\, California\, 92602
CATEGORIES:celebration,family friendly,holiday,social
ATTACH;FMTTYPE=image/jpeg:https://www.tap-oc.org/wp-content/uploads/2019/12/Gingerbread-Holiday-Party-2019.jpg
ORGANIZER;CN="Taiwanese American Professionals - Orange County (TAP-OC)":MAILTO:info@tap-oc.org
END:VEVENT
BEGIN:VEVENT
DTSTART;TZID=America/Los_Angeles:20191122T193000
DTEND;TZID=America/Los_Angeles:20191122T220000
DTSTAMP:20260423T195249
CREATED:20191115T022300Z
LAST-MODIFIED:20191115T022300Z
UID:4417-1574451000-1574460000@www.tap-oc.org
SUMMARY:11/22 ‘80s Skate Night “Fun”draiser
DESCRIPTION:We’re putting the “Fun” in fundraiser! Bring your family and friends and join TAP-OC at the Holiday Skate Center in Orange for a totally awesome night of roller skating! All levels and ages are welcome! \n? Holiday Skate Center\n175 N. Wayfield St.\nOrange\, CA 92867 \n? $14.50 will get you admission into the rink & regular skate rentals. Just let them know at the door that you’re with TAP-OC! Proceeds from ticket sales will go towards future events. Thank you for your support! \n? Don’t forget your leg warmers and fanny packs! The best ‘80s outfit will get a prize! \nPlease RSVP online via https://forms.gle/B23FQpEQMbYPxJqU8. \nLet the good times roll! ? \nIf you have any questions\, please contact Esther.Lee@tap-oc.org.
URL:https://www.tap-oc.org/event/11-22-80s-skate-night-fundraiser/
LOCATION:Holiday Skate Center\, 175 N. Wayfield St.\, Orange\, CA\, 92867
CATEGORIES:family friendly,social,sports
ATTACH;FMTTYPE=image/jpeg:https://www.tap-oc.org/wp-content/uploads/2019/11/76972150_2835982396481123_8929237824427786240_n.jpg
ORGANIZER;CN="Taiwanese American Professionals - Orange County (TAP-OC)":MAILTO:info@tap-oc.org
END:VEVENT
BEGIN:VEVENT
DTSTART;TZID=America/Los_Angeles:20191026T110000
DTEND;TZID=America/Los_Angeles:20191026T133000
DTSTAMP:20260423T195249
CREATED:20191002T231545Z
LAST-MODIFIED:20191014T181906Z
UID:4363-1572087600-1572096600@www.tap-oc.org
SUMMARY:10/26 Dog Meets Dog Social
DESCRIPTION:Boo let the dogs out?! ? \n? Paws on what you’re doing and dress up your pooches! We’re bringing our Dog Meets Dog Social back\, and this time with a fun twist. This doggy meet-up will have you howling for joy as our furry friends come dressed in their Halloween costumes at Petco. \n? We will have special goodie bags from Petco for all the good doggos that are ready to trick or treat. Please RSVP ahead of time so we know how many to prepare! Dogs that dress up will get first pick at selecting goodie bags\, which will include not only toys and treats\, but also grooming coupons\, free vet consultation with Petco’s new pet hospital\, and special prizes like free private lessons with a dog trainer! \n? No dog? No problem! We look forward to seeing you with or without a pup. Borrowed dogs will not be frowned upon and are highly encouraged! \n? Afterwards\, we’ll be hitting up a dog-friendly lunch spot to chow down with the pups around noon. Restaurant will be announced once we get closer to the event date! \n? If you have any questions\, please contact ilenia.chen@tap-oc.org. See you soon!
URL:https://www.tap-oc.org/event/10-26-dog-meets-dog-social/
LOCATION:Petco Irvine\, 15333 Culver Dr\, Ste 500\, Irvine\, CA\, 92604\, United States
CATEGORIES:family friendly,pet friendly,social
ATTACH;FMTTYPE=image/jpeg:https://www.tap-oc.org/wp-content/uploads/2019/10/2019-Petco-Halloween.jpg
ORGANIZER;CN="Taiwanese American Professionals - Orange County (TAP-OC)":MAILTO:info@tap-oc.org
END:VEVENT
END:VCALENDAR