BEGIN:VCALENDAR
VERSION:2.0
PRODID:-//Taiwanese American Professionals - Orange County Chapter - ECPv6.15.18//NONSGML v1.0//EN
CALSCALE:GREGORIAN
METHOD:PUBLISH
X-ORIGINAL-URL:https://www.tap-oc.org
X-WR-CALDESC:Events for Taiwanese American Professionals - Orange County Chapter
REFRESH-INTERVAL;VALUE=DURATION:PT1H
X-Robots-Tag:noindex
X-PUBLISHED-TTL:PT1H
BEGIN:VTIMEZONE
TZID:America/Los_Angeles
BEGIN:DAYLIGHT
TZOFFSETFROM:-0800
TZOFFSETTO:-0700
TZNAME:PDT
DTSTART:20170312T100000
END:DAYLIGHT
BEGIN:STANDARD
TZOFFSETFROM:-0700
TZOFFSETTO:-0800
TZNAME:PST
DTSTART:20171105T090000
END:STANDARD
BEGIN:DAYLIGHT
TZOFFSETFROM:-0800
TZOFFSETTO:-0700
TZNAME:PDT
DTSTART:20180311T100000
END:DAYLIGHT
BEGIN:STANDARD
TZOFFSETFROM:-0700
TZOFFSETTO:-0800
TZNAME:PST
DTSTART:20181104T090000
END:STANDARD
BEGIN:DAYLIGHT
TZOFFSETFROM:-0800
TZOFFSETTO:-0700
TZNAME:PDT
DTSTART:20190310T100000
END:DAYLIGHT
BEGIN:STANDARD
TZOFFSETFROM:-0700
TZOFFSETTO:-0800
TZNAME:PST
DTSTART:20191103T090000
END:STANDARD
BEGIN:DAYLIGHT
TZOFFSETFROM:-0800
TZOFFSETTO:-0700
TZNAME:PDT
DTSTART:20200308T100000
END:DAYLIGHT
BEGIN:STANDARD
TZOFFSETFROM:-0700
TZOFFSETTO:-0800
TZNAME:PST
DTSTART:20201101T090000
END:STANDARD
BEGIN:DAYLIGHT
TZOFFSETFROM:-0800
TZOFFSETTO:-0700
TZNAME:PDT
DTSTART:20210314T100000
END:DAYLIGHT
BEGIN:STANDARD
TZOFFSETFROM:-0700
TZOFFSETTO:-0800
TZNAME:PST
DTSTART:20211107T090000
END:STANDARD
BEGIN:DAYLIGHT
TZOFFSETFROM:-0800
TZOFFSETTO:-0700
TZNAME:PDT
DTSTART:20220313T100000
END:DAYLIGHT
BEGIN:STANDARD
TZOFFSETFROM:-0700
TZOFFSETTO:-0800
TZNAME:PST
DTSTART:20221106T090000
END:STANDARD
END:VTIMEZONE
BEGIN:VEVENT
DTSTART;TZID=America/Los_Angeles:20210626T110000
DTEND;TZID=America/Los_Angeles:20210626T120000
DTSTAMP:20260423T193253
CREATED:20210607T164513Z
LAST-MODIFIED:20210607T164513Z
UID:5357-1624705200-1624708800@www.tap-oc.org
SUMMARY:06/26 Personal Finance 101
DESCRIPTION:Can Money really buy happiness? \n Planning for retirement\, future college education\, personal investments and more can be confusing. Throw in debt from student loans\, mortgage loans\, or maybe even bankruptcy can make this process even worse! \nFrom Roth IRAs and post-401ks to setting up a 529 plan\, it’s easy to get lost in the details.\nTAP-OC and TAP-LA will share how to get started in planning your financial future!\n Ben Ling\, Wealth Management Advisor\, will help guide you with tips on personal finance\, items to consider depending on different scenarios\, and address any questions you might have in mind!\nPlease register and send any specific questions you have in mind to discuss during our Q&A session!\n https://tinyurl.com/TAPMONEYHAPPY\nIf you have any questions or comments about our event or about TAP-OC/ TAP-LA\, please message us directly on FB or IG. You can also e-mail us at info@tap-oc.org / info@tap-la.org.\nAbout TAP-OC\nWe have (online) events almost every week! Join our weekly events and tell your friends! To stay tuned\, follow us on Instagram and Facebook “Taiwanese American Professionals – Orange County – TAP OC” for upcoming activities.\nAbout TAP-LA\nEvents can be found on Facebook “Taiwanese American Professionals – Los Angeles” for upcoming activities.
URL:https://www.tap-oc.org/event/06-26-personal-finance-101/
LOCATION:CA
CATEGORIES:educational,professional,virtual
ATTACH;FMTTYPE=image/jpeg:https://www.tap-oc.org/wp-content/uploads/2021/06/194751136_4389027891176558_276566735216856159_n.jpg
ORGANIZER;CN="Taiwanese American Professionals - Orange County (TAP-OC)":MAILTO:info@tap-oc.org
END:VEVENT
BEGIN:VEVENT
DTSTART;TZID=America/Los_Angeles:20210402T000000
DTEND;TZID=America/Los_Angeles:20210430T233000
DTSTAMP:20260423T193253
CREATED:20210404T225343Z
LAST-MODIFIED:20210404T225343Z
UID:5295-1617321600-1619825400@www.tap-oc.org
SUMMARY:Mentorship Program 2021
DESCRIPTION:Are you an experienced professional who has the ability to help a young professional? Or are you a young professional who can use some guidance in your career? Taiwanese American Professionals Orange County (TAP-OC) is here to connect people through our mentorship program.\nThe program is a 3-month commitment from June to August with two phone calls or Zoom sessions per month to monitor mentorship progress.\n>> More info available at www.tap-oc.org/mentorship\n>> To participate as a mentor or a mentee\, sign up by April 30th at https://tinyurl.com/tapocmentorship2021\n**The mentorship program is open to all ethnicities and backgrounds. Mentors and mentees are not required to be Taiwanese or speak Mandarin.\nPlease contact steve.huang@tap-oc.org for more info.
URL:https://www.tap-oc.org/event/mentorship-program-2021/
LOCATION:CA
CATEGORIES:educational,networking,professional
ATTACH;FMTTYPE=image/jpeg:https://www.tap-oc.org/wp-content/uploads/2021/04/166345103_4184705564942126_8071235651366355156_n.jpg
ORGANIZER;CN="Taiwanese American Professionals - Orange County (TAP-OC)":MAILTO:info@tap-oc.org
END:VEVENT
BEGIN:VEVENT
DTSTART;TZID=America/Los_Angeles:20210321T110000
DTEND;TZID=America/Los_Angeles:20210321T120000
DTSTAMP:20260423T193253
CREATED:20210307T181314Z
LAST-MODIFIED:20210307T183106Z
UID:5249-1616324400-1616328000@www.tap-oc.org
SUMMARY:03/21 Self Defense Workshop
DESCRIPTION:We have all been devastated by recent news of the violent attacks on Asian Americans in our communities. TAP-OC wants to help! Come join us as we learn different tips and techniques to keep ourselves safe at our Self Defense Workshop. This event is virtual and free\, so everybody (parents and grandparents included) is invited to join!\nThis workshop will cover:\n*Basics of Self Defense\n*Demos of Krav Maga Techniques\n*Tips for Staying Aware of Your Surroundings and Protecting Oneself in Public\n*Q&A Session\n…and more!\nPlease register via the Google Form below to receive the meeting link:\nhttps://forms.gle/j5UcVopdWDym1X1s5\nAll attendees must also complete the KMOC Waiver Form online. Please write “TAP-OC 3/21 Workshop” for the “How did you hear about us?” question.\nhttps://www.digisigner.com/online/showTemplate…\nAbout the Instructor:\nYURI BOIARSKY is a Krav Maga instructor with 36 years of experience teaching and training in the United States and overseas. He has been teaching with Krav Maga of Orange County (KMOC) since 2001 and co-founded the Krav Maga Martial Arts and Training Center in Mission Viejo in 2009. Yuri holds a 3rd Degree Black Belt in Krav Maga and received his black belt from Imi Lichtenfeld\, the founder of the Krav Maga self-defense system\, himself! Yuri has provided training to Israeli security forces protecting embassies and consulates as well as local law enforcement agencies in the U.S. In addition to Krav Maga\, he has practiced Aikido\, Boxing\, kickboxing\, and Thai boxing. He is also a certified Advanced Civilian Law Enforcement Instructor.\nWe hope you will feel empowered after this workshop and share your learnings with family and loved ones to help keep them out of harm’s way. Stay safe out there!\nIf you have any questions or comments about our event or about TAP-OC\, please message us directly on FB or IG. You can also e-mail us at info@tap-oc.org.\n\nFollow us on Instagram and Facebook “Taiwanese American Professionals – Orange County – TAP OC” for the latest updates! \nSee Less
URL:https://www.tap-oc.org/event/self-defense-workshop/
LOCATION:CA
CATEGORIES:educational,fitness,virtual
ATTACH;FMTTYPE=image/jpeg:https://www.tap-oc.org/wp-content/uploads/2021/03/153373756_4083834138362603_5037674049246861723_o.jpg
ORGANIZER;CN="Taiwanese American Professionals - Orange County (TAP-OC)":MAILTO:info@tap-oc.org
END:VEVENT
BEGIN:VEVENT
DTSTART;TZID=America/Los_Angeles:20210302T193000
DTEND;TZID=America/Los_Angeles:20210302T203000
DTSTAMP:20260423T193253
CREATED:20210217T085709Z
LAST-MODIFIED:20210217T094033Z
UID:5191-1614713400-1614717000@www.tap-oc.org
SUMMARY:03/02 I Don't Have Time For This! - Time Management
DESCRIPTION:Have you set goals this past New Years’ that you haven’t had a chance to work on\, just yet? Do you feel like you have too much on your plate and there’s no time in the day left for yourself and self-development?\nThis is the workshop for you!\nABOUT THIS EVENT:\nYou won’t be watching an hour-long slide about Pomodoro techniques or the Eisenhower matrix.\nYou’ll be getting right to business in this interactive workshop\, in your own break-out group\, to work out how to find time in your schedule and building your own steps on all the goals you’ve put on the back-burner so far!\nTo help facilitate discussion\, this workshop will be limited to 12 attendees. Make sure to sign-up now!\nWHAT TO PREPARE:\n– An open mind and a good attitude\n– Goal(s) you want to achieve this year\n– An idea of your current weekly schedule\nAdditional details and event itinerary will be sent out closer to this virtual event!\nLook out for an email with a Zoom link event invite!\nQUESTIONS\nIf you have any questions or comments about our event or about TAP-OC\, please message us directly on FB or IG. You can also e-mail us at info@tap-oc.org.\nAbout TAP-OC\nWe have (online) events almost every week! Join our weekly events and tell your friends! To stay tuned\, follow us on Instagram and Facebook “Taiwanese American Professionals – Orange County – TAP OC” for upcoming activities.
URL:https://www.tap-oc.org/event/03-02-i-dont-have-time-for-this-time-management/
LOCATION:CA
CATEGORIES:educational,professional,virtual
ATTACH;FMTTYPE=image/jpeg:https://www.tap-oc.org/wp-content/uploads/2021/02/TAPOC-2021-Time-Mgmt.jpg
ORGANIZER;CN="Taiwanese American Professionals - Orange County (TAP-OC)":MAILTO:info@tap-oc.org
END:VEVENT
BEGIN:VEVENT
DTSTART;TZID=America/Los_Angeles:20210122T190000
DTEND;TZID=America/Los_Angeles:20210122T203000
DTSTAMP:20260423T193253
CREATED:20210113T094601Z
LAST-MODIFIED:20210113T094601Z
UID:5098-1611342000-1611347400@www.tap-oc.org
SUMMARY:01/22 Minute to Win It Virtual Tournament
DESCRIPTION:Happy New Year\, TAPpy Fam!  Get a jump start to your fitness and social New Year resolutions with fellow TAP members in our first ever Minute to Win In Virtual Tournament!\nBrought to you by TAP-OC’s Health & Wellness and Social Programs\, this tournament will give contestants the opportunity to compete on teams in a series of fun and active games that last for one minute each. Inspired by the popular TV show\, each Minute to Win It game is a bit ridiculous by design\, uses common household items\, and can be played by anyone regardless of skill. The team at the end with the most points takes home bragging rights and some sweet swag! \nContestants will be randomly assigned into teams of 4-5 members at the beginning of the tournament. For the majority of the games\, one person from each team will be selected to compete with the selected contestants from the other teams\, while a few games will require total team participation. Activities may include some fitness components. \n Items Needed to Participate:\n• 1 apple\n• 1 cup of uncooked rice\n• A pair of chopsticks\n• A medium sized bowl\n• A small cracker or cookie\, such as an Oreo or Ritz cracker (~1.8 inches in diameter)\n• A baseball cap\n• A fork or spoon\n• 25 coins of the same size\nPlease sign up by Sunday\, January 17th\, via the Google Form below to enter the tournament!\nhttps://forms.gle/37TrW86EskEH7N2q8\nAfter registration closes\, participants will be emailed a final list of common household items to have ready during the tournament. All participants must also be willing to show their video during the virtual tournament. How else will we know you’re not cheating?? \nSign up soon to secure your spot! May the best team win! \nIf you have any questions or comments about our event or about TAP-OC\, please message us directly on FB or IG. You can also e-mail us at info@tap-oc.org.\nFollow us on Instagram and Facebook “Taiwanese American Professionals – Orange County – TAP OC” for the latest updates!
URL:https://www.tap-oc.org/event/01-22-minute-to-win-it-virtual-tournament/
LOCATION:CA
CATEGORIES:educational,family friendly,fitness,games,social,virtual
ATTACH;FMTTYPE=image/jpeg:https://www.tap-oc.org/wp-content/uploads/2021/01/TAP-OC-Minute-to-Win-It-2021.jpg
ORGANIZER;CN="Taiwanese American Professionals - Orange County (TAP-OC)":MAILTO:info@tap-oc.org
END:VEVENT
BEGIN:VEVENT
DTSTART;TZID=America/Los_Angeles:20200523T110000
DTEND;TZID=America/Los_Angeles:20200523T120000
DTSTAMP:20260423T193253
CREATED:20200510T034714Z
LAST-MODIFIED:20200510T034714Z
UID:4976-1590231600-1590235200@www.tap-oc.org
SUMMARY:05/23 TAP OC x ACEL - Boba 101 Workshop (Virtual)
DESCRIPTION:What better way to celebrate Asian Pacific American Heritage Month and Taiwanese American Heritage Week than to make boba drinks at home? ? \nTAP-OC and ACEL have partnered together with Mr. Ito’s Teahouse\, a new boba business based in OC that promotes at-home boba creations\, to offer special DIY Boba Kits that are ready to use! \n[ ??? ??????? ] ?\n1) Basic Boba Kit: 10 or 20 Servings of Boba + Sugar Mix\n2) Tiger Bomb Boba Kit: 20 Servings of Boba + Tiger Sugar mix \n[ ???? ??? ???????? ] ?\n– a live demo on making the popular tiger boba drink\n– small business session with insights from Shaun Ito\, previous owner of Lollicup Irvine and now boba entrepreneur\n– automatic raffle entry to win a boba kit\n-️ 25% ???????? ?? ??? ??? ?????-19 ?????? ???? to support local businesses and feed our healthcare workers \nFor more info about the relief fund: https://bit.ly/3dkZ5nL ??‍⚕️???‍⚕️ \n[ ????? ???? + ?????/???? ?? ????? ] ?\nAs a bonus\, we offer a 5% discount for all purchases just for this virtual event – please use code ‘BOBA101’ when you order! Orders can be placed at https://www.mritos.com/s/shop \nAll sales are final\, and orders can be placed until noon PDT on Monday\, May 18th. \n[ ?????? / ???????? ] ?\nKits will be available for pickup at Capital Noodle Bar in Irvine on Weds\, May 20th. Delivery to Irvine areas are available for an additional fee. \n**Ingredients that are not included in the kit: Whole Milk\, Heavy Whipping Cream\, and Ice \nIf you have any questions\, please email info@tap-oc.org or DM us directly on our Facebook pages! ????? ??? ??? ???? ???????! ?
URL:https://www.tap-oc.org/event/05-23-tap-oc-x-acel-boba-101-workshop-virtual/
LOCATION:CA
CATEGORIES:cultural,educational,foodie
ATTACH;FMTTYPE=image/jpeg:https://www.tap-oc.org/wp-content/uploads/2020/05/95261641_3269293539816671_202553337738952704_o.jpg
ORGANIZER;CN="Taiwanese American Professionals - Orange County (TAP-OC)":MAILTO:info@tap-oc.org
END:VEVENT
BEGIN:VEVENT
DTSTART;TZID=America/Los_Angeles:20190714T110000
DTEND;TZID=America/Los_Angeles:20190714T160000
DTSTAMP:20260423T193253
CREATED:20190712T175603Z
LAST-MODIFIED:20190712T175603Z
UID:3683-1563102000-1563120000@www.tap-oc.org
SUMMARY:07/14 From Dinosaurs to People
DESCRIPTION:Heritage Museum of Orange County brings history to life at the “6th “Annual From Dinosaurs to People: Reliving Orange County’s Past”. This one-day only free family event will explore Orange County’s rich heritage of cultural history\, natural history\, prehistoric animals and plants\, natural habitats\, and local Native American history. \nAt the event\, TAP-OC will present you some fun craft activities and also trivia games with ice cooled winter melon tea! The event is free and kid friendly! Find out more details at the below link! \nhttps://www.facebook.com/events/418983615372454/
URL:https://www.tap-oc.org/event/07-14-from-dinosaurs-to-people/
LOCATION:Heritage Museum Santa Ana\, 3101 W Harvard St\, Santa Ana\, CA\, 92704
CATEGORIES:cultural,educational,games,outdoor,service
ATTACH;FMTTYPE=image/jpeg:https://www.tap-oc.org/wp-content/uploads/65818960_2587578857988146_5806754943347982336_o.jpg
END:VEVENT
BEGIN:VEVENT
DTSTART;TZID=America/Los_Angeles:20190210T130000
DTEND;TZID=America/Los_Angeles:20190210T150000
DTSTAMP:20260423T193253
CREATED:20190125T193020Z
LAST-MODIFIED:20190125T193020Z
UID:1607-1549803600-1549810800@www.tap-oc.org
SUMMARY:02/10 Adulting 101 - Getting Real about Real Estate
DESCRIPTION:? Would you like to buy a property with down payment assistance loan programs? ? If you qualify\, why not take advantage of it? ? \nHave you thought about protecting ? you and your family’s assets through a Living Trust? \nCome with your family and friends to hear from our guest speakers ?‍??‍??‍? at our first professional event of 2019 on Sunday\, Feb. 10th! We will host our seminar at Virscend University (16490 Bake Pkwy #100\, Irvine\, CA 92618) with parking available. \n* Find out if you can qualify for any down payment assistance loan programs ?‍♀️?‍♂ \n* Find out the benefits of having a Living Trust for you and your family’s assets ?‍♂️?‍♀️ \n? We will also have a very special announcement at the closing of this event\, so be the first to find out by attending! Beverages and light snacks will be provided. \n–Admission–\n$3 via Eventbrite by 2/9/19: https://bit.ly/2FN59ci\n$5 at the door on the day of event \n* About our speakers * \nYolanda Lujan has more than 25 years of lending and real estate experience. She is the Vice President & Chief Business Officer of a nonprofit organization that helps buyers with down payment assistance loan programs. \n***********************************************************\nFor more than 10 years\, Steve Haskell has facilitated reverse mortgage loans for seniors. Reverse mortgages help create more carefree retirements for seniors by allowing them to acquire part of their home equity without selling their homes. Steve has considerable experience working with national banks\, direct lenders\, and brokers in the reverse mortgage loan process. \n***********************************************************\nWhile at Whittier Law School\, Sarah Rinelli was an active member of the Trial Advocacy Honors Board. She was also elected to a position on the Student Bar Association counsel. Sarah was at the top of her class in Will and Trust classes and it was at this point that she fell in love with this area of law. \nIf you have any questions about the event\, please email calvin.kou@tap-oc.org or victor.long@tap-oc.org\, thank you!
URL:https://www.tap-oc.org/event/02-10-adulting-101-getting-real-about-real-estate/
LOCATION:Virscend University\, pin 16490 Bake Pkwy #100\, Irvine\, CA\, 92618\, United States
CATEGORIES:educational,networking,professional
ATTACH;FMTTYPE=image/jpeg:https://www.tap-oc.org/wp-content/uploads/51010760_2325493974196637_2611730927927164928_o.jpg
ORGANIZER;CN="Taiwanese American Professionals - Orange County (TAP-OC)":MAILTO:info@tap-oc.org
END:VEVENT
BEGIN:VEVENT
DTSTART;TZID=America/Los_Angeles:20180526T110000
DTEND;TZID=America/Los_Angeles:20180526T160000
DTSTAMP:20260423T193253
CREATED:20180503T164329Z
LAST-MODIFIED:20180511T175600Z
UID:758-1527332400-1527350400@www.tap-oc.org
SUMMARY:05/26 Amplify: Entrepreneurship Panel
DESCRIPTION:We are BACK again!\nTAP-LA & TAP-OC are bringing you Part 2 of our AMPLIFY Series. \nWhether you missed out on AMPLIFY Part 1 this past January (https://www.facebook.com/events/116696589054378/)\, or you thoroughly enjoyed our first Entrepreneurship Panel and just want more…we’ve got you covered. \nPricing (ticket link above) \n>> General Admission $20.00\n>> TAP Member Pricing $15.00 \nSaturday\, May 26\, 2018 \n>> 11:00 A.M. Speaker Meet and Greet\n>> 11:30 A.M. Introduction\n>> 11:45 A.M. Speaker Panel\n>> 1:30 P.M. Q & A\n>> 2:00 P.M. Open Networking\n>> 4:00 P.M. Event End \nLocation \nWeWork Gas Tower\n555 West 5th Street\, 35th Floor\, Los Angeles\, CA 90013 \nHosted by \nTaiwanese American Professionals-Los Angeles (TAP-LA)\nTaiwanese American Professionals-Orange County (TAP-OC)
URL:https://www.tap-oc.org/event/05-26-amplify-entrepreneurship-panel/
LOCATION:WeWork Gas Tower\, 555 West 5th Street\, Los Angeles\, California\, 90013
CATEGORIES:educational,networking,professional
END:VEVENT
BEGIN:VEVENT
DTSTART;TZID=America/Los_Angeles:20180120T120000
DTEND;TZID=America/Los_Angeles:20180120T120000
DTSTAMP:20260423T193253
CREATED:20180111T004319Z
LAST-MODIFIED:20180405T234213Z
UID:232-1516449600-1516449600@www.tap-oc.org
SUMMARY:01/20 Amplify: Entrepreneurship Panel
DESCRIPTION:Presenting AMPLIFY: Boosting the Way Young Professionals Project their Message in the Workplace \nInterested in starting a business or expanding your business? \nCome to our Entrepreneurship Panel featuring a discussion on the Risks\, Successes\, and Obstacles of starting a business. Meet other professionals of a similar entrepreneurial spirit and passion for professional growth and development! \nSign-up & Pricing \n>> $5 Advance\n>> $8 Walk-in \nStep one. To avoid service charges\, Venmo @TAP-OC in advance: In the Venmo app\, please list your NAME\, EMAIL\, and EVENT. \nStep two. Please fill out the Google Form: https://goo.gl/forms/4pizzOlEdCzsFI2v1 \nSaturday\, January 20\, 2018 \n>> 12:30 P.M. Check-in & Beverages\n>> 1:00 P.M. Introduction & Speaker Panel\n>> 2:30 P.M. Open Networking
URL:https://www.tap-oc.org/event/amplify-entrepreneurship-panel/
LOCATION:Ramada Plaza Anaheim\, 515 W Katella Ave\, Anaheim\, CA\, 92802\, United States
CATEGORIES:educational,networking,professional
ORGANIZER;CN="Taiwanese American Professionals - Orange County (TAP-OC)":MAILTO:info@tap-oc.org
END:VEVENT
END:VCALENDAR