BEGIN:VCALENDAR
VERSION:2.0
PRODID:-//Taiwanese American Professionals - Orange County Chapter - ECPv6.15.18//NONSGML v1.0//EN
CALSCALE:GREGORIAN
METHOD:PUBLISH
X-ORIGINAL-URL:https://www.tap-oc.org
X-WR-CALDESC:Events for Taiwanese American Professionals - Orange County Chapter
REFRESH-INTERVAL;VALUE=DURATION:PT1H
X-Robots-Tag:noindex
X-PUBLISHED-TTL:PT1H
BEGIN:VTIMEZONE
TZID:America/Los_Angeles
BEGIN:DAYLIGHT
TZOFFSETFROM:-0800
TZOFFSETTO:-0700
TZNAME:PDT
DTSTART:20230312T100000
END:DAYLIGHT
BEGIN:STANDARD
TZOFFSETFROM:-0700
TZOFFSETTO:-0800
TZNAME:PST
DTSTART:20231105T090000
END:STANDARD
BEGIN:DAYLIGHT
TZOFFSETFROM:-0800
TZOFFSETTO:-0700
TZNAME:PDT
DTSTART:20240310T100000
END:DAYLIGHT
BEGIN:STANDARD
TZOFFSETFROM:-0700
TZOFFSETTO:-0800
TZNAME:PST
DTSTART:20241103T090000
END:STANDARD
BEGIN:DAYLIGHT
TZOFFSETFROM:-0800
TZOFFSETTO:-0700
TZNAME:PDT
DTSTART:20250309T100000
END:DAYLIGHT
BEGIN:STANDARD
TZOFFSETFROM:-0700
TZOFFSETTO:-0800
TZNAME:PST
DTSTART:20251102T090000
END:STANDARD
END:VTIMEZONE
BEGIN:VEVENT
DTSTART;TZID=America/Los_Angeles:20240302T180000
DTEND;TZID=America/Los_Angeles:20240302T210000
DTSTAMP:20260425T173056
CREATED:20240218T202947Z
LAST-MODIFIED:20240218T202947Z
UID:6363-1709402400-1709413200@www.tap-oc.org
SUMMARY:03/02 TAP-OC Lunar New Year Banquet
DESCRIPTION:Lunar New Year is a time to reconnect with friends and make new friends. Please join Taiwanese American Professionals Orange County (TAP-OC) for our Lunar New Year Celebration Banquet. \nDate: Saturday\, March 2nd\nTime: 6 pm to 9 pm\nLocation: Classic Chinese Restaurant\, 23565 Moulton Parkway #C\, Laguna Hills\, CA 92653\nTicket Price: $60.00 \nTo purchase tickets\, please use the QR Code above or click here. \nWe are looking forward to seeing you there!
URL:https://www.tap-oc.org/event/03-02-tap-oc-lunar-new-year-banquet/
LOCATION:Classic Chinese Restaurant\, 23565 Moulton Parkway #C\, Laguna Hills\, 92653\, United States
CATEGORIES:causes,celebration,cultural,family friendly,foodie,holiday,indoor,networking,professional,service,social
ATTACH;FMTTYPE=image/jpeg:https://www.tap-oc.org/wp-content/uploads/2024/02/unnamed.jpg
ORGANIZER;CN="Taiwanese American Professionals - Orange County (TAP-OC)":MAILTO:info@tap-oc.org
END:VEVENT
END:VCALENDAR